{"text_format":"1","workbook":"xlsx","n_sheets":6,"sheets":["Vejledning","Indlæsningsark","Formål","FormålsID","Godkendelse","Liste"],"not_rendered":{"charts":0,"images":3,"macros":1,"external_links":0,"defined_names":0,"comments":1,"pivot_tables":0},"unopened":[],"bounds":{"document_bytes":16777216,"sheet_cells":100000,"rows_first":2000,"rows_last":500,"rows_between":2000,"halvings":0,"cell_chars":16384,"cell_head_chars":4096},"cells_cut":0,"cells_raw":0,"read":"whole","date_system":"1900"}

{"sheet":"Vejledning","index":0,"n_rows":47,"n_cols":24,"rows_kept":47,"cut":false,"hidden":false,"merged":[[31,14,35,14],[31,15,35,15],[36,14,47,14],[18,14,23,14],[18,15,23,15],[24,14,26,14],[24,15,26,15],[27,14,30,14],[27,15,30,15],[1,14,4,14],[1,15,4,15],[9,14,14,14],[9,15,14,15],[16,14,17,14],[16,15,17,15]]}
[]
[null,null,null,null,null,null,null,null,null,null,null,null,null,null,"Sagsnummer","Sagens nummer","Obligatorisk ved ændringer af en eksisterende sag.",null,null,null,null,null,null,1]
[]
[null,null,null,null,null,null,null,null,null,null,null,null,null,null,null,null,"Udfyldes af PE når det fremsendes ifm. ny sagsoprettelse"]
[null,null,null,null,null,null,null,null,null,null,null,null,null,null,null,null,"Udfyldes af PØ, når det fremsendes ifm. eksisterende sag"]
[null,null,null,null,null,null,null,null,null,null,null,null,null,null,"Sagsopgavenummer","Ønsket sagsopgavenummer.","Vær opmærksom på at valgt nummer ligger i det rigtige interval."]
[null,null,null,null,null,null,null,null,null,null,null,null,null,null,"Beskrivelse","Beskrivelse af sagsopgaven","Max. 50 karakterer"]
[null,null,null,null,null,null,null,null,null,null,null,null,null,null,"Delregnskab","Delregnskab for sagsopgaven","Udfyldes, hvis det afviger fra sagens hoved-delregnskab Blank: Delregnskab arves fra sagen."]
[null,null,null,null,null,null,null,null,null,null,null,null,null,null,"Sagsopgavetype","Der vælges i dropdownlisten mellem konto, Fra-sum og Til- sum","Feltet skal udfyldes."]
[null,null,null,null,null,null,null,null,null,null,null,null,null,null,"Spærret","Angiver om den de ønskede sagsopgave er spærret for bogføring","Udfyldes automatisk med ”Alle”, ved Til- eller Fra- sum. "]
[]
[null,null,null,null,null,null,null,null,null,null,null,null,null,null,null,null,"Ved valg af Konto, der vælges mellem "]
[null,null,null,null,null,null,null,null,null,null,null,null,null,null,null,null,"·          Bogføring, der kan budgetteres på linjen"]
[null,null,null,null,null,null,null,null,null,null,null,null,null,null,null,null,"·          Alle, der kan ikke bogføres noget som helst "]
[null,null,null,null,null,null,null,null,null,null,null,null,null,null,null,null,"·          Tomt, der er ingen spærring."]
[null,null,null,null,null,null,null,null,null,null,null,null,null,null,"Sammentælling","Bruges ved Til-summer","Her anvendes den normale Navision- formatering, fx 1..99999"]
[null,null,null,null,null,null,null,null,null,null,null,null,null,null,"Opret som dimensionsværdi","Angiver om sagsopgavelinien skal overføres til STADS","JA: Hvis sagsopgavelinjen skal overføres til STADS"]
[null,null,null,null,null,null,null,null,null,null,null,null,null,null,null,null,"Udfyldes med  eller efterlades blankt"]
[null,null,null,null,null,null,null,null,null,null,null,null,null,null,"Overheadtypekode","Sagsopgavens overheadtypekode.\n\nOverheadstypekoden er et sammensat felt som består af projektets stedkode. \nHvis projektet er oprettet som et DR2 projekt, vil overheadstypekoden være  ZZZZ22 => Når indlæsningsarket udfyldes erstattes ZZZZ med projektets stedkode.\n\nHvis projektet er oprettet som et DR1, DR4 eller DR5 projekt vil overheadstypekoden være ZZZZ  => Når indlæsningsarket udfyldes erstattes ZZZZ  med projektets stedkode.\n\nEt eksempel. Hvis projektet er oprettet med stedkode 2802 så vil mulighederne være som vist i cellen til højre. Er projektetsstedkode 6802 skal ZZZZ erstattes med 6802.","Hvis der skal overhead på linjen skal overheadstypekoden  udfyldes.  \nHvis der ikke er overhead på aktiviteten skal feltet efterlades blankt.  \nOverheadtypekoden består af Stedkode+ værdi. Fx ville mulighederne for sted 2802 og delregnskaber se sådan ud:"]
[null,null,null,null,null,null,null,null,null,null,null,null,null,null,null,null,"·          DR1: 2802      - OH af omkostningerne"]
[null,null,null,null,null,null,null,null,null,null,null,null,null,null,null,null,"·          DR2: 280222  - OH kun af løn"]
[null,null,null,null,null,null,null,null,null,null,null,null,null,null,null,null,"·          DR4: 2802      - OH af omkostningerne"]
[null,null,null,null,null,null,null,null,null,null,null,null,null,null,null,null,"·          DR5: 2802      - OH af omkostningerne"]
[null,null,null,null,null,null,null,null,null,null,null,null,null,null,null,null,"HUSK at 2802 skal erstattes med projektets stedkode."]
[null,null,null,null,null,null,null,null,null,null,null,null,null,null,"OH %","Sagsopgavens OH.","Feltet skal udfyldes med et tal."]
[null,null,null,null,null,null,null,null,null,null,null,null,null,null,null,null,"Feltet skal udfyldes uden %-tegn"]
[]
[null,null,null,null,null,null,null,null,null,null,null,null,null,null,"Realiseret - OH","Skal aktiviteten medtages i OH- kørslerne udfyldes feltet med Ja ellers Nej.","Default udfyldt med NEJ"]
[null,null,null,null,null,null,null,null,null,null,null,null,null,null,null,null,"·         Ja = der beregnes OH,"]
[null,null,null,null,null,null,null,null,null,null,null,null,null,null,null,null,"·         Nej = der beregnes ikke OH "]
[null,null,null,null,null,null,null,null,null,null,null,null,null,null,null,null,"Kan vælges via dropdownliste"]
[null,null,null,null,null,null,null,null,null,null,null,null,null,null,"Realiseret – Indtægtsføring","Skal aktiviteten medtages i periodiseringskørslerne udfyldes feltet med Ja ellers Nej.","Default udfyldt med NEJ"]
[null,null,null,null,null,null,null,null,null,null,null,null,null,null,null,null,"·         Ja = der indtægtsføres via 934151/118051,"]
[null,null,null,null,null,null,null,null,null,null,null,null,null,null,null,null,"·         Nej = indtægtsføres ikke "]
[]
[null,null,null,null,null,null,null,null,null,null,null,null,null,null,null,null,"Kan vælges via dropdownliste"]
[null,null,null,null,null,null,null,null,null,null,null,null,null,null,"Formål","Angiver linjens formål.","Feltet er obligatorisk og skal udfyldes hver gang der oprettes eller ændres en værdi på linjen. "]
[]
[null,null,null,null,null,null,null,null,null,null,null,null,null,null,null,"Drop dovn liste:","Bemærk hvis feltet efterlades Blankt vil den eksisterende værdi blive overskrevet med værdien tom ””."]
[null,null,null,null,null,null,null,null,null,null,null,null,null,null,null,"1. Uddannelse","Vælges via dropdown liste."]
[null,null,null,null,null,null,null,null,null,null,null,null,null,null,null,"2. Forskning og udvikling"]
[null,null,null,null,null,null,null,null,null,null,null,null,null,null,null,"3. Formidling og vidensudveksling","Sagsopgavelinje 77777 skal altid have formål 2 "]
[null,null,null,null,null,null,null,null,null,null,null,null,null,null,null,"4. Myndighedsbetjening, rådgivning og øvrige ydelser","Sagsopgavelinje 91777 skal altid have formål 2 "]
[null,null,null,null,null,null,null,null,null,null,null,null,null,null,null,"5. Kostafdeling og kollegier"]
[null,null,null,null,null,null,null,null,null,null,null,null,null,null,null,"6. Generelle fælles omkostninger"]
[null,null,null,null,null,null,null,null,null,null,null,null,null,null,null,"7. Bygninger"]
[null,null,null,null,null,null,null,null,null,null,null,null,null,null,null,"8. Samproduktion"]

{"sheet":"Indlæsningsark","index":1,"n_rows":307,"n_cols":16,"rows_kept":307,"cut":false,"hidden":false,"merged":[[3,13,3,15]]}
[]
["Sagsopgaveindlæsningsark med formål",null,null,null,null,null,null,null,null,null,null,null,"Bruges af Projektenheden",0]
[null,null,null,null,null,null,null,null,null,null,null,null,null,null,null,","]
["Senest opdateret den 24. august 2022",null,null,null,null,"Udfyldes automatisk ",null,null,null,null,null,null,null,"Disse kolonner udfyldes automatisk"]
["Bemærkning","Bemærkning","Bemærkning","Bemærkning","Bemærkning","Bemærkning","Bemærkning","Bemærkning","Bemærkning","Bemærkning","Bemærkning","Bemærkning","Bemærkning","Kolonne A+B","Kolonne A+B+FORM","SenderID fra Navision"]
["Sagsnummer","Sagsopgavenummer","Beskrivelse","DR","Sagsopgavetype","Spærret","Sammentælling","Opret som dimensionsværdi","Overheadtypekode","OH %","Real - OH","Real -  Indtægtsføring","Formål","Sag Afsender ID","Formål Afsender ID","SenderID"]
[null,null,null,null,null,{"$f":"IF(E7=\"Fra-sum\",\"Alle\",IF(E7=\"Til-sum\",\"Alle\",\"\"))","v":""},null,null,null,null,"NEJ ",{"$f":"IF(B7<>\"\",IF(OR(D7=4,D7=\"4\",D7=5,D7=\"5\"),\"JA\",\"NEJ\"),\"\")","v":""},null,{"$f":"IF(AND(A7<> \"\", B7<>\"\"),CONCATENATE(A7,\",\",B7),\"\")","v":""},{"$f":"IF(AND(A7<> \"\", B7<>\"\"),CONCATENATE(A7,\",\",B7,\",FORM\"),\"\")","v":""},{"$f":"IFERROR(VLOOKUP(N7,FormålsID!A:E,5,0),\"\")","v":""}]
[null,null,null,null,null,{"$f":"IF(E8=\"Fra-sum\",\"Alle\",IF(E8=\"Til-sum\",\"Alle\",\"\"))","v":""},null,null,null,null,"NEJ",{"$f":"IF(B8<>\"\",IF(OR(D8=4,D8=\"4\",D8=5,D8=\"5\"),\"JA\",\"NEJ\"),\"\")","v":""},null,{"$f":"IF(AND(A8<> \"\", B8<>\"\"),CONCATENATE(A8,\",\",B8),\"\")","v":""},{"$f":"IF(AND(A8<> \"\", B8<>\"\"),CONCATENATE(A8,\",\",B8,\",FORM\"),\"\")","v":""},{"$f":"IFERROR(VLOOKUP(N8,FormålsID!A:E,5,0),\"\")","v":""}]
[null,null,null,null,null,{"$f":"IF(E9=\"Fra-sum\",\"Alle\",IF(E9=\"Til-sum\",\"Alle\",\"\"))","v":""},null,null,null,null,"NEJ",{"$f":"IF(B9<>\"\",IF(OR(D9=4,D9=\"4\",D9=5,D9=\"5\"),\"JA\",\"NEJ\"),\"\")","v":""},null,{"$f":"IF(AND(A9<> \"\", B9<>\"\"),CONCATENATE(A9,\",\",B9),\"\")","v":""},{"$f":"IF(AND(A9<> \"\", B9<>\"\"),CONCATENATE(A9,\",\",B9,\",FORM\"),\"\")","v":""},{"$f":"IFERROR(VLOOKUP(N9,FormålsID!A:E,5,0),\"\")","v":""}]
[null,null,null,null,null,{"$f":"IF(E10=\"Fra-sum\",\"Alle\",IF(E10=\"Til-sum\",\"Alle\",\"\"))","v":""},null,null,null,null,"NEJ",{"$f":"IF(B10<>\"\",IF(OR(D10=4,D10=\"4\",D10=5,D10=\"5\"),\"JA\",\"NEJ\"),\"\")","v":""},null,{"$f":"IF(AND(A10<> \"\", B10<>\"\"),CONCATENATE(A10,\",\",B10),\"\")","v":""},{"$f":"IF(AND(A10<> \"\", B10<>\"\"),CONCATENATE(A10,\",\",B10,\",FORM\"),\"\")","v":""},{"$f":"IFERROR(VLOOKUP(N10,FormålsID!A:E,5,0),\"\")","v":""}]
[null,null,null,null,null,{"$f":"IF(E11=\"Fra-sum\",\"Alle\",IF(E11=\"Til-sum\",\"Alle\",\"\"))","v":""},null,null,null,null,"NEJ",{"$f":"IF(B11<>\"\",IF(OR(D11=4,D11=\"4\",D11=5,D11=\"5\"),\"JA\",\"NEJ\"),\"\")","v":""},null,{"$f":"IF(AND(A11<> \"\", B11<>\"\"),CONCATENATE(A11,\",\",B11),\"\")","v":""},{"$f":"IF(AND(A11<> \"\", B11<>\"\"),CONCATENATE(A11,\",\",B11,\",FORM\"),\"\")","v":""},{"$f":"IFERROR(VLOOKUP(N11,FormålsID!A:E,5,0),\"\")","v":""}]
[null,null,null,null,null,{"$f":"IF(E12=\"Fra-sum\",\"Alle\",IF(E12=\"Til-sum\",\"Alle\",\"\"))","v":""},null,null,null,null,"NEJ",{"$f":"IF(B12<>\"\",IF(OR(D12=4,D12=\"4\",D12=5,D12=\"5\"),\"JA\",\"NEJ\"),\"\")","v":""},null,"","",{"$f":"IFERROR(VLOOKUP(N12,FormålsID!A:E,5,0),\"\")","v":""}]
[null,null,null,null,null,"",null,null,null,null,"NEJ","",null,"","",{"$f":"IFERROR(VLOOKUP(N13,FormålsID!A:E,5,0),\"\")","v":""}]
[null,null,null,null,null,"",null,null,null,null,"NEJ","",null,"","",{"$f":"IFERROR(VLOOKUP(N14,FormålsID!A:E,5,0),\"\")","v":""}]
[null,null,null,null,null,{"$f":"IF(E15=\"Fra-sum\",\"Alle\",IF(E15=\"Til-sum\",\"Alle\",\"\"))","v":""},null,null,null,null,"NEJ",{"$f":"IF(B15<>\"\",IF(OR(D15=4,D15=\"4\",D15=5,D15=\"5\"),\"JA\",\"NEJ\"),\"\")","v":""},null,{"$f":"IF(AND(A15<> \"\", B15<>\"\"),CONCATENATE(A15,\",\",B15),\"\")","v":""},{"$f":"IF(AND(A15<> \"\", B15<>\"\"),CONCATENATE(A15,\",\",B15,\",FORM\"),\"\")","v":""},{"$f":"IFERROR(VLOOKUP(N15,FormålsID!A:E,5,0),\"\")","v":""}]
[null,null,null,null,null,{"$f":"IF(E16=\"Fra-sum\",\"Alle\",IF(E16=\"Til-sum\",\"Alle\",\"\"))","v":""},null,null,null,null,"NEJ",{"$f":"IF(B16<>\"\",IF(OR(D16=4,D16=\"4\",D16=5,D16=\"5\"),\"JA\",\"NEJ\"),\"\")","v":""},null,{"$f":"IF(AND(A16<> \"\", B16<>\"\"),CONCATENATE(A16,\",\",B16),\"\")","v":""},{"$f":"IF(AND(A16<> \"\", B16<>\"\"),CONCATENATE(A16,\",\",B16,\",FORM\"),\"\")","v":""},{"$f":"IFERROR(VLOOKUP(N16,FormålsID!A:E,5,0),\"\")","v":""}]
[null,null,null,null,null,"",null,null,null,null,"NEJ","",null,"",{"$f":"IF(AND(A17<> \"\", B17<>\"\"),CONCATENATE(A17,\",\",B17,\",FORM\"),\"\")","v":""},{"$f":"IFERROR(VLOOKUP(N17,FormålsID!A:E,5,0),\"\")","v":""}]
[null,null,null,null,null,"",null,null,null,null,"NEJ","",null,"","",{"$f":"IFERROR(VLOOKUP(N18,FormålsID!A:E,5,0),\"\")","v":""}]
[null,null,null,null,null,"",null,null,null,null,"NEJ","",null,"","",{"$f":"IFERROR(VLOOKUP(N19,FormålsID!A:E,5,0),\"\")","v":""}]
[null,null,null,null,null,"",null,null,null,null,"NEJ","",null,"","",{"$f":"IFERROR(VLOOKUP(N20,FormålsID!A:E,5,0),\"\")","v":""}]
[null,null,null,null,null,"",null,null,null,null,"NEJ","",null,"","",{"$f":"IFERROR(VLOOKUP(N21,FormålsID!A:E,5,0),\"\")","v":""}]
[null,null,null,null,null,"",null,null,null,null,"NEJ","",null,"","",{"$f":"IFERROR(VLOOKUP(N22,FormålsID!A:E,5,0),\"\")","v":""}]
[null,null,null,null,null,"",null,null,null,null,"NEJ","",null,"","",{"$f":"IFERROR(VLOOKUP(N23,FormålsID!A:E,5,0),\"\")","v":""}]
[null,null,null,null,null,"",null,null,null,null,"NEJ","",null,"","",{"$f":"IFERROR(VLOOKUP(N24,FormålsID!A:E,5,0),\"\")","v":""}]
[null,null,null,null,null,"",null,null,null,null,"NEJ","",null,"","",{"$f":"IFERROR(VLOOKUP(N25,FormålsID!A:E,5,0),\"\")","v":""}]
[null,null,null,null,null,"",null,null,null,null,"NEJ",{"$f":"IF(B26<>\"\",IF(OR(D26=4,D26=\"4\",D26=5,D26=\"5\"),\"JA\",\"NEJ\"),\"\")","v":""},null,"","",{"$f":"IFERROR(VLOOKUP(N26,FormålsID!A:E,5,0),\"\")","v":""}]
[null,null,null,null,null,"",null,null,null,null,"NEJ","",null,"","",{"$f":"IFERROR(VLOOKUP(N27,FormålsID!A:E,5,0),\"\")","v":""}]
[null,null,null,null,null,"",null,null,null,null,"NEJ","",null,"","",{"$f":"IFERROR(VLOOKUP(N28,FormålsID!A:E,5,0),\"\")","v":""}]
[null,null,null,null,null,"",null,null,null,null,"NEJ","",null,"","",{"$f":"IFERROR(VLOOKUP(N29,FormålsID!A:E,5,0),\"\")","v":""}]
[null,null,null,null,null,"",null,null,null,null,"NEJ","",null,"","",{"$f":"IFERROR(VLOOKUP(N30,FormålsID!A:E,5,0),\"\")","v":""}]
[null,null,null,null,null,"",null,null,null,null,"NEJ","",null,"","",{"$f":"IFERROR(VLOOKUP(N31,FormålsID!A:E,5,0),\"\")","v":""}]
[null,null,null,null,null,"",null,null,null,null,"NEJ","",null,"","",{"$f":"IFERROR(VLOOKUP(N32,FormålsID!A:E,5,0),\"\")","v":""}]
[null,null,null,null,null,"",null,null,null,null,"NEJ","",null,"","",{"$f":"IFERROR(VLOOKUP(N33,FormålsID!A:E,5,0),\"\")","v":""}]
[null,null,null,null,null,"",null,null,null,null,"NEJ","",null,"","",{"$f":"IFERROR(VLOOKUP(N34,FormålsID!A:E,5,0),\"\")","v":""}]
[null,null,null,null,null,"",null,null,null,null,"NEJ","",null,"","",{"$f":"IFERROR(VLOOKUP(N35,FormålsID!A:E,5,0),\"\")","v":""}]
[null,null,null,null,null,"",null,null,null,null,"NEJ","",null,"","",{"$f":"IFERROR(VLOOKUP(N36,FormålsID!A:E,5,0),\"\")","v":""}]
[null,null,null,null,null,"",null,null,null,null,"NEJ","",null,"","",{"$f":"IFERROR(VLOOKUP(N37,FormålsID!A:E,5,0),\"\")","v":""}]
[null,null,null,null,null,"",null,null,null,null,"NEJ","",null,"","",{"$f":"IFERROR(VLOOKUP(N38,FormålsID!A:E,5,0),\"\")","v":""}]
[null,null,null,null,null,"",null,null,null,null,"NEJ","",null,"","",{"$f":"IFERROR(VLOOKUP(N39,FormålsID!A:E,5,0),\"\")","v":""}]
[null,null,null,null,null,"",null,null,null,null,"NEJ","",null,"","",{"$f":"IFERROR(VLOOKUP(N40,FormålsID!A:E,5,0),\"\")","v":""}]
[null,null,null,null,null,"",null,null,null,null,"NEJ","",null,"","",{"$f":"IFERROR(VLOOKUP(N41,FormålsID!A:E,5,0),\"\")","v":""}]
[null,null,null,null,null,"",null,null,null,null,"NEJ","",null,"","",{"$f":"IFERROR(VLOOKUP(N42,FormålsID!A:E,5,0),\"\")","v":""}]
[null,null,null,null,null,"",null,null,null,null,"NEJ","",null,"","",{"$f":"IFERROR(VLOOKUP(N43,FormålsID!A:E,5,0),\"\")","v":""}]
[null,null,null,null,null,"",null,null,null,null,"NEJ","",null,"","",{"$f":"IFERROR(VLOOKUP(N44,FormålsID!A:E,5,0),\"\")","v":""}]
[null,null,null,null,null,"",null,null,null,null,"NEJ","",null,"","",{"$f":"IFERROR(VLOOKUP(N45,FormålsID!A:E,5,0),\"\")","v":""}]
[null,null,null,null,null,"",null,null,null,null,"NEJ","",null,"","",{"$f":"IFERROR(VLOOKUP(N46,FormålsID!A:E,5,0),\"\")","v":""}]
[null,null,null,null,null,"",null,null,null,null,"NEJ","",null,"","",{"$f":"IFERROR(VLOOKUP(N47,FormålsID!A:E,5,0),\"\")","v":""}]
[null,null,null,null,null,"",null,null,null,null,"NEJ","",null,"","",{"$f":"IFERROR(VLOOKUP(N48,FormålsID!A:E,5,0),\"\")","v":""}]
[null,null,null,null,null,"",null,null,null,null,"NEJ","",null,"","",{"$f":"IFERROR(VLOOKUP(N49,FormålsID!A:E,5,0),\"\")","v":""}]
[null,null,null,null,null,"",null,null,null,null,"NEJ","",null,"","",{"$f":"IFERROR(VLOOKUP(N50,FormålsID!A:E,5,0),\"\")","v":""}]
[null,null,null,null,null,"",null,null,null,null,"NEJ","",null,"","",{"$f":"IFERROR(VLOOKUP(N51,FormålsID!A:E,5,0),\"\")","v":""}]
[null,null,null,null,null,"",null,null,null,null,"NEJ","",null,"","",{"$f":"IFERROR(VLOOKUP(N52,FormålsID!A:E,5,0),\"\")","v":""}]
[null,null,null,null,null,"",null,null,null,null,"NEJ","",null,"","",{"$f":"IFERROR(VLOOKUP(N53,FormålsID!A:E,5,0),\"\")","v":""}]
[null,null,null,null,null,"",null,null,null,null,"NEJ","",null,"","",{"$f":"IFERROR(VLOOKUP(N54,FormålsID!A:E,5,0),\"\")","v":""}]
[null,null,null,null,null,"",null,null,null,null,"NEJ","",null,"","",{"$f":"IFERROR(VLOOKUP(N55,FormålsID!A:E,5,0),\"\")","v":""}]
[null,null,null,null,null,"",null,null,null,null,"NEJ","",null,"","",{"$f":"IFERROR(VLOOKUP(N56,FormålsID!A:E,5,0),\"\")","v":""}]
[null,null,null,null,null,"",null,null,null,null,"NEJ","",null,"","",{"$f":"IFERROR(VLOOKUP(N57,FormålsID!A:E,5,0),\"\")","v":""}]
[null,null,null,null,null,"",null,null,null,null,"NEJ","",null,"","",{"$f":"IFERROR(VLOOKUP(N58,FormålsID!A:E,5,0),\"\")","v":""}]
[null,null,null,null,null,"",null,null,null,null,"NEJ","",null,"","",{"$f":"IFERROR(VLOOKUP(N59,FormålsID!A:E,5,0),\"\")","v":""}]
[null,null,null,null,null,"",null,null,null,null,"NEJ","",null,"","",{"$f":"IFERROR(VLOOKUP(N60,FormålsID!A:E,5,0),\"\")","v":""}]
[null,null,null,null,null,"",null,null,null,null,"NEJ","",null,"","",{"$f":"IFERROR(VLOOKUP(N61,FormålsID!A:E,5,0),\"\")","v":""}]
[null,null,null,null,null,"",null,null,null,null,"NEJ","",null,"","",{"$f":"IFERROR(VLOOKUP(N62,FormålsID!A:E,5,0),\"\")","v":""}]
[null,null,null,null,null,"",null,null,null,null,"NEJ","",null,"","",{"$f":"IFERROR(VLOOKUP(N63,FormålsID!A:E,5,0),\"\")","v":""}]
[null,null,null,null,null,"",null,null,null,null,"NEJ","",null,"","",{"$f":"IFERROR(VLOOKUP(N64,FormålsID!A:E,5,0),\"\")","v":""}]
[null,null,null,null,null,"",null,null,null,null,"NEJ","",null,"","",{"$f":"IFERROR(VLOOKUP(N65,FormålsID!A:E,5,0),\"\")","v":""}]
[null,null,null,null,null,"",null,null,null,null,"NEJ","",null,"","",{"$f":"IFERROR(VLOOKUP(N66,FormålsID!A:E,5,0),\"\")","v":""}]
[null,null,null,null,null,"",null,null,null,null,"NEJ","",null,"","",{"$f":"IFERROR(VLOOKUP(N67,FormålsID!A:E,5,0),\"\")","v":""}]
[null,null,null,null,null,"",null,null,null,null,"NEJ","",null,"","",{"$f":"IFERROR(VLOOKUP(N68,FormålsID!A:E,5,0),\"\")","v":""}]
[null,null,null,null,null,"",null,null,null,null,"NEJ","",null,"","",{"$f":"IFERROR(VLOOKUP(N69,FormålsID!A:E,5,0),\"\")","v":""}]
[null,null,null,null,null,"",null,null,null,null,"NEJ","",null,"","",{"$f":"IFERROR(VLOOKUP(N70,FormålsID!A:E,5,0),\"\")","v":""}]
[null,null,null,null,null,{"$f":"IF(E71=\"Fra-sum\",\"Alle\",IF(E71=\"Til-sum\",\"Alle\",\"\"))","v":""},null,null,null,null,"NEJ","",null,{"$f":"IF(AND(A71<> \"\", B71<>\"\"),CONCATENATE(A71,\",\",B71),\"\")","v":""},"",{"$f":"IFERROR(VLOOKUP(N71,FormålsID!A:E,5,0),\"\")","v":""}]
[null,null,null,null,null,"",null,null,null,null,"NEJ","",null,"",{"$f":"IF(AND(A72<> \"\", B72<>\"\"),CONCATENATE(A72,\",\",B72,\",FORM\"),\"\")","v":""},{"$f":"IFERROR(VLOOKUP(N72,FormålsID!A:E,5,0),\"\")","v":""}]
[null,null,null,null,null,"",null,null,null,null,"NEJ","",null,"","",{"$f":"IFERROR(VLOOKUP(N73,FormålsID!A:E,5,0),\"\")","v":""}]
[null,null,null,null,null,"",null,null,null,null,"NEJ","",null,"","",{"$f":"IFERROR(VLOOKUP(N74,FormålsID!A:E,5,0),\"\")","v":""}]
[null,null,null,null,null,"",null,null,null,null,"NEJ","",null,"","",{"$f":"IFERROR(VLOOKUP(N75,FormålsID!A:E,5,0),\"\")","v":""}]
[null,null,null,null,null,"",null,null,null,null,"NEJ","",null,"","",{"$f":"IFERROR(VLOOKUP(N76,FormålsID!A:E,5,0),\"\")","v":""}]
[null,null,null,null,null,"",null,null,null,null,"NEJ","",null,"","",{"$f":"IFERROR(VLOOKUP(N77,FormålsID!A:E,5,0),\"\")","v":""}]
[null,null,null,null,null,"",null,null,null,null,"NEJ","",null,"","",{"$f":"IFERROR(VLOOKUP(N78,FormålsID!A:E,5,0),\"\")","v":""}]
[null,null,null,null,null,"",null,null,null,null,"NEJ","",null,"","",{"$f":"IFERROR(VLOOKUP(N79,FormålsID!A:E,5,0),\"\")","v":""}]
[null,null,null,null,null,"",null,null,null,null,"NEJ","",null,"","",{"$f":"IFERROR(VLOOKUP(N80,FormålsID!A:E,5,0),\"\")","v":""}]
[null,null,null,null,null,"",null,null,null,null,"NEJ","",null,"","",{"$f":"IFERROR(VLOOKUP(N81,FormålsID!A:E,5,0),\"\")","v":""}]
[null,null,null,null,null,"",null,null,null,null,"NEJ","",null,"","",{"$f":"IFERROR(VLOOKUP(N82,FormålsID!A:E,5,0),\"\")","v":""}]
[null,null,null,null,null,"",null,null,null,null,"NEJ","",null,"","",{"$f":"IFERROR(VLOOKUP(N83,FormålsID!A:E,5,0),\"\")","v":""}]
[null,null,null,null,null,"",null,null,null,null,"NEJ","",null,"","",{"$f":"IFERROR(VLOOKUP(N84,FormålsID!A:E,5,0),\"\")","v":""}]
[null,null,null,null,null,"",null,null,null,null,"NEJ","",null,"","",{"$f":"IFERROR(VLOOKUP(N85,FormålsID!A:E,5,0),\"\")","v":""}]
[null,null,null,null,null,"",null,null,null,null,"NEJ","",null,"","",{"$f":"IFERROR(VLOOKUP(N86,FormålsID!A:E,5,0),\"\")","v":""}]
[null,null,null,null,null,"",null,null,null,null,"NEJ","",null,"","",{"$f":"IFERROR(VLOOKUP(N87,FormålsID!A:E,5,0),\"\")","v":""}]
[null,null,null,null,null,"",null,null,null,null,"NEJ","",null,"","",{"$f":"IFERROR(VLOOKUP(N88,FormålsID!A:E,5,0),\"\")","v":""}]
[null,null,null,null,null,"",null,null,null,null,"NEJ","",null,"","",{"$f":"IFERROR(VLOOKUP(N89,FormålsID!A:E,5,0),\"\")","v":""}]
[null,null,null,null,null,"",null,null,null,null,"NEJ",{"$f":"IF(B90<>\"\",IF(OR(D90=4,D90=\"4\",D90=5,D90=\"5\"),\"JA\",\"NEJ\"),\"\")","v":""},null,"","",{"$f":"IFERROR(VLOOKUP(N90,FormålsID!A:E,5,0),\"\")","v":""}]
[null,null,null,null,null,"",null,null,null,null,"NEJ","",null,"","",{"$f":"IFERROR(VLOOKUP(N91,FormålsID!A:E,5,0),\"\")","v":""}]
[null,null,null,null,null,"",null,null,null,null,"NEJ","",null,"","",{"$f":"IFERROR(VLOOKUP(N92,FormålsID!A:E,5,0),\"\")","v":""}]
[null,null,null,null,null,"",null,null,null,null,"NEJ","",null,"","",{"$f":"IFERROR(VLOOKUP(N93,FormålsID!A:E,5,0),\"\")","v":""}]
[null,null,null,null,null,"",null,null,null,null,"NEJ","",null,"","",{"$f":"IFERROR(VLOOKUP(N94,FormålsID!A:E,5,0),\"\")","v":""}]
[null,null,null,null,null,"",null,null,null,null,"NEJ","",null,"","",{"$f":"IFERROR(VLOOKUP(N95,FormålsID!A:E,5,0),\"\")","v":""}]
[null,null,null,null,null,"",null,null,null,null,"NEJ","",null,"","",{"$f":"IFERROR(VLOOKUP(N96,FormålsID!A:E,5,0),\"\")","v":""}]
[null,null,null,null,null,"",null,null,null,null,"NEJ","",null,"","",{"$f":"IFERROR(VLOOKUP(N97,FormålsID!A:E,5,0),\"\")","v":""}]
[null,null,null,null,null,"",null,null,null,null,"NEJ","",null,"","",{"$f":"IFERROR(VLOOKUP(N98,FormålsID!A:E,5,0),\"\")","v":""}]
[null,null,null,null,null,"",null,null,null,null,"NEJ","",null,"","",{"$f":"IFERROR(VLOOKUP(N99,FormålsID!A:E,5,0),\"\")","v":""}]
[null,null,null,null,null,"",null,null,null,null,"NEJ","",null,"","",{"$f":"IFERROR(VLOOKUP(N100,FormålsID!A:E,5,0),\"\")","v":""}]
[null,null,null,null,null,"",null,null,null,null,"NEJ","",null,"","",{"$f":"IFERROR(VLOOKUP(N101,FormålsID!A:E,5,0),\"\")","v":""}]
[null,null,null,null,null,"",null,null,null,null,"NEJ","",null,"","",{"$f":"IFERROR(VLOOKUP(N102,FormålsID!A:E,5,0),\"\")","v":""}]
[null,null,null,null,null,"",null,null,null,null,"NEJ","",null,"","",{"$f":"IFERROR(VLOOKUP(N103,FormålsID!A:E,5,0),\"\")","v":""}]
[null,null,null,null,null,"",null,null,null,null,"NEJ","",null,"","",{"$f":"IFERROR(VLOOKUP(N104,FormålsID!A:E,5,0),\"\")","v":""}]
[null,null,null,null,null,"",null,null,null,null,"NEJ","",null,"","",{"$f":"IFERROR(VLOOKUP(N105,FormålsID!A:E,5,0),\"\")","v":""}]
[null,null,null,null,null,"",null,null,null,null,"NEJ","",null,"","",{"$f":"IFERROR(VLOOKUP(N106,FormålsID!A:E,5,0),\"\")","v":""}]
[null,null,null,null,null,"",null,null,null,null,"NEJ","",null,"","",{"$f":"IFERROR(VLOOKUP(N107,FormålsID!A:E,5,0),\"\")","v":""}]
[null,null,null,null,null,"",null,null,null,null,"NEJ","",null,"","",{"$f":"IFERROR(VLOOKUP(N108,FormålsID!A:E,5,0),\"\")","v":""}]
[null,null,null,null,null,"",null,null,null,null,"NEJ","",null,"","",{"$f":"IFERROR(VLOOKUP(N109,FormålsID!A:E,5,0),\"\")","v":""}]
[null,null,null,null,null,"",null,null,null,null,"NEJ","",null,"","",{"$f":"IFERROR(VLOOKUP(N110,FormålsID!A:E,5,0),\"\")","v":""}]
[null,null,null,null,null,"",null,null,null,null,"NEJ","",null,"","",{"$f":"IFERROR(VLOOKUP(N111,FormålsID!A:E,5,0),\"\")","v":""}]
[null,null,null,null,null,"",null,null,null,null,"NEJ","",null,"","",{"$f":"IFERROR(VLOOKUP(N112,FormålsID!A:E,5,0),\"\")","v":""}]
[null,null,null,null,null,"",null,null,null,null,"NEJ","",null,"","",{"$f":"IFERROR(VLOOKUP(N113,FormålsID!A:E,5,0),\"\")","v":""}]
[null,null,null,null,null,"",null,null,null,null,"NEJ","",null,"","",{"$f":"IFERROR(VLOOKUP(N114,FormålsID!A:E,5,0),\"\")","v":""}]
[null,null,null,null,null,"",null,null,null,null,"NEJ","",null,"","",{"$f":"IFERROR(VLOOKUP(N115,FormålsID!A:E,5,0),\"\")","v":""}]
[null,null,null,null,null,"",null,null,null,null,"NEJ","",null,"","",{"$f":"IFERROR(VLOOKUP(N116,FormålsID!A:E,5,0),\"\")","v":""}]
[null,null,null,null,null,"",null,null,null,null,"NEJ","",null,"","",{"$f":"IFERROR(VLOOKUP(N117,FormålsID!A:E,5,0),\"\")","v":""}]
[null,null,null,null,null,"",null,null,null,null,"NEJ","",null,"","",{"$f":"IFERROR(VLOOKUP(N118,FormålsID!A:E,5,0),\"\")","v":""}]
[null,null,null,null,null,"",null,null,null,null,"NEJ","",null,"","",{"$f":"IFERROR(VLOOKUP(N119,FormålsID!A:E,5,0),\"\")","v":""}]
[null,null,null,null,null,"",null,null,null,null,"NEJ","",null,"","",{"$f":"IFERROR(VLOOKUP(N120,FormålsID!A:E,5,0),\"\")","v":""}]
[null,null,null,null,null,"",null,null,null,null,"NEJ","",null,"","",{"$f":"IFERROR(VLOOKUP(N121,FormålsID!A:E,5,0),\"\")","v":""}]
[null,null,null,null,null,"",null,null,null,null,"NEJ","",null,"","",{"$f":"IFERROR(VLOOKUP(N122,FormålsID!A:E,5,0),\"\")","v":""}]
[null,null,null,null,null,"",null,null,null,null,"NEJ","",null,"","",{"$f":"IFERROR(VLOOKUP(N123,FormålsID!A:E,5,0),\"\")","v":""}]
[null,null,null,null,null,"",null,null,null,null,"NEJ","",null,"","",{"$f":"IFERROR(VLOOKUP(N124,FormålsID!A:E,5,0),\"\")","v":""}]
[null,null,null,null,null,"",null,null,null,null,"NEJ","",null,"","",{"$f":"IFERROR(VLOOKUP(N125,FormålsID!A:E,5,0),\"\")","v":""}]
[null,null,null,null,null,"",null,null,null,null,"NEJ","",null,"","",{"$f":"IFERROR(VLOOKUP(N126,FormålsID!A:E,5,0),\"\")","v":""}]
[null,null,null,null,null,"",null,null,null,null,"NEJ","",null,"","",{"$f":"IFERROR(VLOOKUP(N127,FormålsID!A:E,5,0),\"\")","v":""}]
[null,null,null,null,null,"",null,null,null,null,"NEJ","",null,"","",{"$f":"IFERROR(VLOOKUP(N128,FormålsID!A:E,5,0),\"\")","v":""}]
[null,null,null,null,null,"",null,null,null,null,"NEJ","",null,"","",{"$f":"IFERROR(VLOOKUP(N129,FormålsID!A:E,5,0),\"\")","v":""}]
[null,null,null,null,null,"",null,null,null,null,"NEJ","",null,"","",{"$f":"IFERROR(VLOOKUP(N130,FormålsID!A:E,5,0),\"\")","v":""}]
[null,null,null,null,null,"",null,null,null,null,"NEJ","",null,"","",{"$f":"IFERROR(VLOOKUP(N131,FormålsID!A:E,5,0),\"\")","v":""}]
[null,null,null,null,null,"",null,null,null,null,"NEJ","",null,"","",{"$f":"IFERROR(VLOOKUP(N132,FormålsID!A:E,5,0),\"\")","v":""}]
[null,null,null,null,null,"",null,null,null,null,"NEJ","",null,"","",{"$f":"IFERROR(VLOOKUP(N133,FormålsID!A:E,5,0),\"\")","v":""}]
[null,null,null,null,null,"",null,null,null,null,"NEJ","",null,"","",{"$f":"IFERROR(VLOOKUP(N134,FormålsID!A:E,5,0),\"\")","v":""}]
[null,null,null,null,null,{"$f":"IF(E135=\"Fra-sum\",\"Alle\",IF(E135=\"Til-sum\",\"Alle\",\"\"))","v":""},null,null,null,null,"NEJ","",null,{"$f":"IF(AND(A135<> \"\", B135<>\"\"),CONCATENATE(A135,\",\",B135),\"\")","v":""},"",{"$f":"IFERROR(VLOOKUP(N135,FormålsID!A:E,5,0),\"\")","v":""}]
[null,null,null,null,null,"",null,null,null,null,"NEJ","",null,"",{"$f":"IF(AND(A136<> \"\", B136<>\"\"),CONCATENATE(A136,\",\",B136,\",FORM\"),\"\")","v":""},{"$f":"IFERROR(VLOOKUP(N136,FormålsID!A:E,5,0),\"\")","v":""}]
[null,null,null,null,null,"",null,null,null,null,"NEJ","",null,"","",{"$f":"IFERROR(VLOOKUP(N137,FormålsID!A:E,5,0),\"\")","v":""}]
[null,null,null,null,null,"",null,null,null,null,"NEJ","",null,"","",{"$f":"IFERROR(VLOOKUP(N138,FormålsID!A:E,5,0),\"\")","v":""}]
[null,null,null,null,null,"",null,null,null,null,"NEJ","",null,"","",{"$f":"IFERROR(VLOOKUP(N139,FormålsID!A:E,5,0),\"\")","v":""}]
[null,null,null,null,null,"",null,null,null,null,"NEJ","",null,"","",{"$f":"IFERROR(VLOOKUP(N140,FormålsID!A:E,5,0),\"\")","v":""}]
[null,null,null,null,null,"",null,null,null,null,"NEJ","",null,"","",{"$f":"IFERROR(VLOOKUP(N141,FormålsID!A:E,5,0),\"\")","v":""}]
[null,null,null,null,null,"",null,null,null,null,"NEJ","",null,"","",{"$f":"IFERROR(VLOOKUP(N142,FormålsID!A:E,5,0),\"\")","v":""}]
[null,null,null,null,null,"",null,null,null,null,"NEJ","",null,"","",{"$f":"IFERROR(VLOOKUP(N143,FormålsID!A:E,5,0),\"\")","v":""}]
[null,null,null,null,null,"",null,null,null,null,"NEJ","",null,"","",{"$f":"IFERROR(VLOOKUP(N144,FormålsID!A:E,5,0),\"\")","v":""}]
[null,null,null,null,null,"",null,null,null,null,"NEJ","",null,"","",{"$f":"IFERROR(VLOOKUP(N145,FormålsID!A:E,5,0),\"\")","v":""}]
[null,null,null,null,null,"",null,null,null,null,"NEJ","",null,"","",{"$f":"IFERROR(VLOOKUP(N146,FormålsID!A:E,5,0),\"\")","v":""}]
[null,null,null,null,null,"",null,null,null,null,"NEJ","",null,"","",{"$f":"IFERROR(VLOOKUP(N147,FormålsID!A:E,5,0),\"\")","v":""}]
[null,null,null,null,null,"",null,null,null,null,"NEJ","",null,"","",{"$f":"IFERROR(VLOOKUP(N148,FormålsID!A:E,5,0),\"\")","v":""}]
[null,null,null,null,null,"",null,null,null,null,"NEJ","",null,"","",{"$f":"IFERROR(VLOOKUP(N149,FormålsID!A:E,5,0),\"\")","v":""}]
[null,null,null,null,null,"",null,null,null,null,"NEJ","",null,"","",{"$f":"IFERROR(VLOOKUP(N150,FormålsID!A:E,5,0),\"\")","v":""}]
[null,null,null,null,null,"",null,null,null,null,"NEJ","",null,"","",{"$f":"IFERROR(VLOOKUP(N151,FormålsID!A:E,5,0),\"\")","v":""}]
[null,null,null,null,null,"",null,null,null,null,"NEJ","",null,"","",{"$f":"IFERROR(VLOOKUP(N152,FormålsID!A:E,5,0),\"\")","v":""}]
[null,null,null,null,null,"",null,null,null,null,"NEJ","",null,"","",{"$f":"IFERROR(VLOOKUP(N153,FormålsID!A:E,5,0),\"\")","v":""}]
[null,null,null,null,null,"",null,null,null,null,"NEJ",{"$f":"IF(B154<>\"\",IF(OR(D154=4,D154=\"4\",D154=5,D154=\"5\"),\"JA\",\"NEJ\"),\"\")","v":""},null,"","",{"$f":"IFERROR(VLOOKUP(N154,FormålsID!A:E,5,0),\"\")","v":""}]
[null,null,null,null,null,"",null,null,null,null,"NEJ","",null,"","",{"$f":"IFERROR(VLOOKUP(N155,FormålsID!A:E,5,0),\"\")","v":""}]
[null,null,null,null,null,"",null,null,null,null,"NEJ","",null,"","",{"$f":"IFERROR(VLOOKUP(N156,FormålsID!A:E,5,0),\"\")","v":""}]
[null,null,null,null,null,"",null,null,null,null,"NEJ","",null,"","",{"$f":"IFERROR(VLOOKUP(N157,FormålsID!A:E,5,0),\"\")","v":""}]
[null,null,null,null,null,"",null,null,null,null,"NEJ","",null,"","",{"$f":"IFERROR(VLOOKUP(N158,FormålsID!A:E,5,0),\"\")","v":""}]
[null,null,null,null,null,"",null,null,null,null,"NEJ","",null,"","",{"$f":"IFERROR(VLOOKUP(N159,FormålsID!A:E,5,0),\"\")","v":""}]
[null,null,null,null,null,"",null,null,null,null,"NEJ","",null,"","",{"$f":"IFERROR(VLOOKUP(N160,FormålsID!A:E,5,0),\"\")","v":""}]
[null,null,null,null,null,"",null,null,null,null,"NEJ","",null,"","",{"$f":"IFERROR(VLOOKUP(N161,FormålsID!A:E,5,0),\"\")","v":""}]
[null,null,null,null,null,"",null,null,null,null,"NEJ","",null,"","",{"$f":"IFERROR(VLOOKUP(N162,FormålsID!A:E,5,0),\"\")","v":""}]
[null,null,null,null,null,"",null,null,null,null,"NEJ","",null,"","",{"$f":"IFERROR(VLOOKUP(N163,FormålsID!A:E,5,0),\"\")","v":""}]
[null,null,null,null,null,"",null,null,null,null,"NEJ","",null,"","",{"$f":"IFERROR(VLOOKUP(N164,FormålsID!A:E,5,0),\"\")","v":""}]
[null,null,null,null,null,"",null,null,null,null,"NEJ","",null,"","",{"$f":"IFERROR(VLOOKUP(N165,FormålsID!A:E,5,0),\"\")","v":""}]
[null,null,null,null,null,"",null,null,null,null,"NEJ","",null,"","",{"$f":"IFERROR(VLOOKUP(N166,FormålsID!A:E,5,0),\"\")","v":""}]
[null,null,null,null,null,"",null,null,null,null,"NEJ","",null,"","",{"$f":"IFERROR(VLOOKUP(N167,FormålsID!A:E,5,0),\"\")","v":""}]
[null,null,null,null,null,"",null,null,null,null,"NEJ","",null,"","",{"$f":"IFERROR(VLOOKUP(N168,FormålsID!A:E,5,0),\"\")","v":""}]
[null,null,null,null,null,"",null,null,null,null,"NEJ","",null,"","",{"$f":"IFERROR(VLOOKUP(N169,FormålsID!A:E,5,0),\"\")","v":""}]
[null,null,null,null,null,"",null,null,null,null,"NEJ","",null,"","",{"$f":"IFERROR(VLOOKUP(N170,FormålsID!A:E,5,0),\"\")","v":""}]
[null,null,null,null,null,"",null,null,null,null,"NEJ","",null,"","",{"$f":"IFERROR(VLOOKUP(N171,FormålsID!A:E,5,0),\"\")","v":""}]
[null,null,null,null,null,"",null,null,null,null,"NEJ","",null,"","",{"$f":"IFERROR(VLOOKUP(N172,FormålsID!A:E,5,0),\"\")","v":""}]
[null,null,null,null,null,"",null,null,null,null,"NEJ","",null,"","",{"$f":"IFERROR(VLOOKUP(N173,FormålsID!A:E,5,0),\"\")","v":""}]
[null,null,null,null,null,"",null,null,null,null,"NEJ","",null,"","",{"$f":"IFERROR(VLOOKUP(N174,FormålsID!A:E,5,0),\"\")","v":""}]
[null,null,null,null,null,"",null,null,null,null,"NEJ","",null,"","",{"$f":"IFERROR(VLOOKUP(N175,FormålsID!A:E,5,0),\"\")","v":""}]
[null,null,null,null,null,"",null,null,null,null,"NEJ","",null,"","",{"$f":"IFERROR(VLOOKUP(N176,FormålsID!A:E,5,0),\"\")","v":""}]
[null,null,null,null,null,"",null,null,null,null,"NEJ","",null,"","",{"$f":"IFERROR(VLOOKUP(N177,FormålsID!A:E,5,0),\"\")","v":""}]
[null,null,null,null,null,"",null,null,null,null,"NEJ","",null,"","",{"$f":"IFERROR(VLOOKUP(N178,FormålsID!A:E,5,0),\"\")","v":""}]
[null,null,null,null,null,"",null,null,null,null,"NEJ","",null,"","",{"$f":"IFERROR(VLOOKUP(N179,FormålsID!A:E,5,0),\"\")","v":""}]
[null,null,null,null,null,"",null,null,null,null,"NEJ","",null,"","",{"$f":"IFERROR(VLOOKUP(N180,FormålsID!A:E,5,0),\"\")","v":""}]
[null,null,null,null,null,"",null,null,null,null,"NEJ","",null,"","",{"$f":"IFERROR(VLOOKUP(N181,FormålsID!A:E,5,0),\"\")","v":""}]
[null,null,null,null,null,"",null,null,null,null,"NEJ","",null,"","",{"$f":"IFERROR(VLOOKUP(N182,FormålsID!A:E,5,0),\"\")","v":""}]
[null,null,null,null,null,"",null,null,null,null,"NEJ","",null,"","",{"$f":"IFERROR(VLOOKUP(N183,FormålsID!A:E,5,0),\"\")","v":""}]
[null,null,null,null,null,"",null,null,null,null,"NEJ","",null,"","",{"$f":"IFERROR(VLOOKUP(N184,FormålsID!A:E,5,0),\"\")","v":""}]
[null,null,null,null,null,"",null,null,null,null,"NEJ","",null,"","",{"$f":"IFERROR(VLOOKUP(N185,FormålsID!A:E,5,0),\"\")","v":""}]
[null,null,null,null,null,"",null,null,null,null,"NEJ","",null,"","",{"$f":"IFERROR(VLOOKUP(N186,FormålsID!A:E,5,0),\"\")","v":""}]
[null,null,null,null,null,"",null,null,null,null,"NEJ","",null,"","",{"$f":"IFERROR(VLOOKUP(N187,FormålsID!A:E,5,0),\"\")","v":""}]
[null,null,null,null,null,"",null,null,null,null,"NEJ","",null,"","",{"$f":"IFERROR(VLOOKUP(N188,FormålsID!A:E,5,0),\"\")","v":""}]
[null,null,null,null,null,"",null,null,null,null,"NEJ","",null,"","",{"$f":"IFERROR(VLOOKUP(N189,FormålsID!A:E,5,0),\"\")","v":""}]
[null,null,null,null,null,"",null,null,null,null,"NEJ","",null,"","",{"$f":"IFERROR(VLOOKUP(N190,FormålsID!A:E,5,0),\"\")","v":""}]
[null,null,null,null,null,"",null,null,null,null,"NEJ","",null,"","",{"$f":"IFERROR(VLOOKUP(N191,FormålsID!A:E,5,0),\"\")","v":""}]
[null,null,null,null,null,"",null,null,null,null,"NEJ","",null,"","",{"$f":"IFERROR(VLOOKUP(N192,FormålsID!A:E,5,0),\"\")","v":""}]
[null,null,null,null,null,"",null,null,null,null,"NEJ","",null,"","",{"$f":"IFERROR(VLOOKUP(N193,FormålsID!A:E,5,0),\"\")","v":""}]
[null,null,null,null,null,"",null,null,null,null,"NEJ","",null,"","",{"$f":"IFERROR(VLOOKUP(N194,FormålsID!A:E,5,0),\"\")","v":""}]
[null,null,null,null,null,"",null,null,null,null,"NEJ","",null,"","",{"$f":"IFERROR(VLOOKUP(N195,FormålsID!A:E,5,0),\"\")","v":""}]
[null,null,null,null,null,"",null,null,null,null,"NEJ","",null,"","",{"$f":"IFERROR(VLOOKUP(N196,FormålsID!A:E,5,0),\"\")","v":""}]
[null,null,null,null,null,"",null,null,null,null,"NEJ","",null,"","",{"$f":"IFERROR(VLOOKUP(N197,FormålsID!A:E,5,0),\"\")","v":""}]
[null,null,null,null,null,"",null,null,null,null,"NEJ","",null,"","",{"$f":"IFERROR(VLOOKUP(N198,FormålsID!A:E,5,0),\"\")","v":""}]
[null,null,null,null,null,{"$f":"IF(E199=\"Fra-sum\",\"Alle\",IF(E199=\"Til-sum\",\"Alle\",\"\"))","v":""},null,null,null,null,"NEJ","",null,{"$f":"IF(AND(A199<> \"\", B199<>\"\"),CONCATENATE(A199,\",\",B199),\"\")","v":""},"",{"$f":"IFERROR(VLOOKUP(N199,FormålsID!A:E,5,0),\"\")","v":""}]
[null,null,null,null,null,"",null,null,null,null,"NEJ","",null,"",{"$f":"IF(AND(A200<> \"\", B200<>\"\"),CONCATENATE(A200,\",\",B200,\",FORM\"),\"\")","v":""},{"$f":"IFERROR(VLOOKUP(N200,FormålsID!A:E,5,0),\"\")","v":""}]
[null,null,null,null,null,"",null,null,null,null,"NEJ","",null,"","",{"$f":"IFERROR(VLOOKUP(N201,FormålsID!A:E,5,0),\"\")","v":""}]
[null,null,null,null,null,"",null,null,null,null,"NEJ","",null,"","",{"$f":"IFERROR(VLOOKUP(N202,FormålsID!A:E,5,0),\"\")","v":""}]
[null,null,null,null,null,"",null,null,null,null,"NEJ","",null,"","",{"$f":"IFERROR(VLOOKUP(N203,FormålsID!A:E,5,0),\"\")","v":""}]
[null,null,null,null,null,"",null,null,null,null,"NEJ","",null,"","",{"$f":"IFERROR(VLOOKUP(N204,FormålsID!A:E,5,0),\"\")","v":""}]
[null,null,null,null,null,"",null,null,null,null,"NEJ","",null,"","",{"$f":"IFERROR(VLOOKUP(N205,FormålsID!A:E,5,0),\"\")","v":""}]
[null,null,null,null,null,"",null,null,null,null,"NEJ","",null,"","",{"$f":"IFERROR(VLOOKUP(N206,FormålsID!A:E,5,0),\"\")","v":""}]
[null,null,null,null,null,"",null,null,null,null,"NEJ","",null,"","",{"$f":"IFERROR(VLOOKUP(N207,FormålsID!A:E,5,0),\"\")","v":""}]
[null,null,null,null,null,"",null,null,null,null,"NEJ","",null,"","",{"$f":"IFERROR(VLOOKUP(N208,FormålsID!A:E,5,0),\"\")","v":""}]
[null,null,null,null,null,"",null,null,null,null,"NEJ","",null,"","",{"$f":"IFERROR(VLOOKUP(N209,FormålsID!A:E,5,0),\"\")","v":""}]
[null,null,null,null,null,"",null,null,null,null,"NEJ","",null,"","",{"$f":"IFERROR(VLOOKUP(N210,FormålsID!A:E,5,0),\"\")","v":""}]
[null,null,null,null,null,"",null,null,null,null,"NEJ","",null,"","",{"$f":"IFERROR(VLOOKUP(N211,FormålsID!A:E,5,0),\"\")","v":""}]
[null,null,null,null,null,"",null,null,null,null,"NEJ","",null,"","",{"$f":"IFERROR(VLOOKUP(N212,FormålsID!A:E,5,0),\"\")","v":""}]
[null,null,null,null,null,"",null,null,null,null,"NEJ","",null,"","",{"$f":"IFERROR(VLOOKUP(N213,FormålsID!A:E,5,0),\"\")","v":""}]
[null,null,null,null,null,"",null,null,null,null,"NEJ","",null,"","",{"$f":"IFERROR(VLOOKUP(N214,FormålsID!A:E,5,0),\"\")","v":""}]
[null,null,null,null,null,"",null,null,null,null,"NEJ","",null,"","",{"$f":"IFERROR(VLOOKUP(N215,FormålsID!A:E,5,0),\"\")","v":""}]
[null,null,null,null,null,"",null,null,null,null,"NEJ","",null,"","",{"$f":"IFERROR(VLOOKUP(N216,FormålsID!A:E,5,0),\"\")","v":""}]
[null,null,null,null,null,"",null,null,null,null,"NEJ","",null,"","",{"$f":"IFERROR(VLOOKUP(N217,FormålsID!A:E,5,0),\"\")","v":""}]
[null,null,null,null,null,"",null,null,null,null,"NEJ",{"$f":"IF(B218<>\"\",IF(OR(D218=4,D218=\"4\",D218=5,D218=\"5\"),\"JA\",\"NEJ\"),\"\")","v":""},null,"","",{"$f":"IFERROR(VLOOKUP(N218,FormålsID!A:E,5,0),\"\")","v":""}]
[null,null,null,null,null,"",null,null,null,null,"NEJ","",null,"","",{"$f":"IFERROR(VLOOKUP(N219,FormålsID!A:E,5,0),\"\")","v":""}]
[null,null,null,null,null,"",null,null,null,null,"NEJ","",null,"","",{"$f":"IFERROR(VLOOKUP(N220,FormålsID!A:E,5,0),\"\")","v":""}]
[null,null,null,null,null,"",null,null,null,null,"NEJ","",null,"","",{"$f":"IFERROR(VLOOKUP(N221,FormålsID!A:E,5,0),\"\")","v":""}]
[null,null,null,null,null,"",null,null,null,null,"NEJ","",null,"","",{"$f":"IFERROR(VLOOKUP(N222,FormålsID!A:E,5,0),\"\")","v":""}]
[null,null,null,null,null,"",null,null,null,null,"NEJ","",null,"","",{"$f":"IFERROR(VLOOKUP(N223,FormålsID!A:E,5,0),\"\")","v":""}]
[null,null,null,null,null,"",null,null,null,null,"NEJ","",null,"","",{"$f":"IFERROR(VLOOKUP(N224,FormålsID!A:E,5,0),\"\")","v":""}]
[null,null,null,null,null,"",null,null,null,null,"NEJ","",null,"","",{"$f":"IFERROR(VLOOKUP(N225,FormålsID!A:E,5,0),\"\")","v":""}]
[null,null,null,null,null,"",null,null,null,null,"NEJ","",null,"","",{"$f":"IFERROR(VLOOKUP(N226,FormålsID!A:E,5,0),\"\")","v":""}]
[null,null,null,null,null,"",null,null,null,null,"NEJ","",null,"","",{"$f":"IFERROR(VLOOKUP(N227,FormålsID!A:E,5,0),\"\")","v":""}]
[null,null,null,null,null,"",null,null,null,null,"NEJ","",null,"","",{"$f":"IFERROR(VLOOKUP(N228,FormålsID!A:E,5,0),\"\")","v":""}]
[null,null,null,null,null,"",null,null,null,null,"NEJ","",null,"","",{"$f":"IFERROR(VLOOKUP(N229,FormålsID!A:E,5,0),\"\")","v":""}]
[null,null,null,null,null,"",null,null,null,null,"NEJ","",null,"","",{"$f":"IFERROR(VLOOKUP(N230,FormålsID!A:E,5,0),\"\")","v":""}]
[null,null,null,null,null,"",null,null,null,null,"NEJ","",null,"","",{"$f":"IFERROR(VLOOKUP(N231,FormålsID!A:E,5,0),\"\")","v":""}]
[null,null,null,null,null,"",null,null,null,null,"NEJ","",null,"","",{"$f":"IFERROR(VLOOKUP(N232,FormålsID!A:E,5,0),\"\")","v":""}]
[null,null,null,null,null,"",null,null,null,null,"NEJ","",null,"","",{"$f":"IFERROR(VLOOKUP(N233,FormålsID!A:E,5,0),\"\")","v":""}]
[null,null,null,null,null,"",null,null,null,null,"NEJ","",null,"","",{"$f":"IFERROR(VLOOKUP(N234,FormålsID!A:E,5,0),\"\")","v":""}]
[null,null,null,null,null,"",null,null,null,null,"NEJ","",null,"","",{"$f":"IFERROR(VLOOKUP(N235,FormålsID!A:E,5,0),\"\")","v":""}]
[null,null,null,null,null,"",null,null,null,null,"NEJ","",null,"","",{"$f":"IFERROR(VLOOKUP(N236,FormålsID!A:E,5,0),\"\")","v":""}]
[null,null,null,null,null,"",null,null,null,null,"NEJ","",null,"","",{"$f":"IFERROR(VLOOKUP(N237,FormålsID!A:E,5,0),\"\")","v":""}]
[null,null,null,null,null,"",null,null,null,null,"NEJ","",null,"","",{"$f":"IFERROR(VLOOKUP(N238,FormålsID!A:E,5,0),\"\")","v":""}]
[null,null,null,null,null,"",null,null,null,null,"NEJ","",null,"","",{"$f":"IFERROR(VLOOKUP(N239,FormålsID!A:E,5,0),\"\")","v":""}]
[null,null,null,null,null,"",null,null,null,null,"NEJ","",null,"","",{"$f":"IFERROR(VLOOKUP(N240,FormålsID!A:E,5,0),\"\")","v":""}]
[null,null,null,null,null,"",null,null,null,null,"NEJ","",null,"","",{"$f":"IFERROR(VLOOKUP(N241,FormålsID!A:E,5,0),\"\")","v":""}]
[null,null,null,null,null,"",null,null,null,null,"NEJ","",null,"","",{"$f":"IFERROR(VLOOKUP(N242,FormålsID!A:E,5,0),\"\")","v":""}]
[null,null,null,null,null,"",null,null,null,null,"NEJ","",null,"","",{"$f":"IFERROR(VLOOKUP(N243,FormålsID!A:E,5,0),\"\")","v":""}]
[null,null,null,null,null,"",null,null,null,null,"NEJ","",null,"","",{"$f":"IFERROR(VLOOKUP(N244,FormålsID!A:E,5,0),\"\")","v":""}]
[null,null,null,null,null,"",null,null,null,null,"NEJ","",null,"","",{"$f":"IFERROR(VLOOKUP(N245,FormålsID!A:E,5,0),\"\")","v":""}]
[null,null,null,null,null,"",null,null,null,null,"NEJ","",null,"","",{"$f":"IFERROR(VLOOKUP(N246,FormålsID!A:E,5,0),\"\")","v":""}]
[null,null,null,null,null,"",null,null,null,null,"NEJ","",null,"","",{"$f":"IFERROR(VLOOKUP(N247,FormålsID!A:E,5,0),\"\")","v":""}]
[null,null,null,null,null,"",null,null,null,null,"NEJ","",null,"","",{"$f":"IFERROR(VLOOKUP(N248,FormålsID!A:E,5,0),\"\")","v":""}]
[null,null,null,null,null,"",null,null,null,null,"NEJ","",null,"","",{"$f":"IFERROR(VLOOKUP(N249,FormålsID!A:E,5,0),\"\")","v":""}]
[null,null,null,null,null,"",null,null,null,null,"NEJ","",null,"","",{"$f":"IFERROR(VLOOKUP(N250,FormålsID!A:E,5,0),\"\")","v":""}]
[null,null,null,null,null,"",null,null,null,null,"NEJ","",null,"","",{"$f":"IFERROR(VLOOKUP(N251,FormålsID!A:E,5,0),\"\")","v":""}]
[null,null,null,null,null,"",null,null,null,null,"NEJ","",null,"","",{"$f":"IFERROR(VLOOKUP(N252,FormålsID!A:E,5,0),\"\")","v":""}]
[null,null,null,null,null,"",null,null,null,null,"NEJ","",null,"","",{"$f":"IFERROR(VLOOKUP(N253,FormålsID!A:E,5,0),\"\")","v":""}]
[null,null,null,null,null,"",null,null,null,null,"NEJ","",null,"","",{"$f":"IFERROR(VLOOKUP(N254,FormålsID!A:E,5,0),\"\")","v":""}]
[null,null,null,null,null,"",null,null,null,null,"NEJ","",null,"","",{"$f":"IFERROR(VLOOKUP(N255,FormålsID!A:E,5,0),\"\")","v":""}]
[null,null,null,null,null,"",null,null,null,null,"NEJ","",null,"","",{"$f":"IFERROR(VLOOKUP(N256,FormålsID!A:E,5,0),\"\")","v":""}]
[null,null,null,null,null,"",null,null,null,null,"NEJ","",null,"","",{"$f":"IFERROR(VLOOKUP(N257,FormålsID!A:E,5,0),\"\")","v":""}]
[null,null,null,null,null,"",null,null,null,null,"NEJ","",null,"","",{"$f":"IFERROR(VLOOKUP(N258,FormålsID!A:E,5,0),\"\")","v":""}]
[null,null,null,null,null,"",null,null,null,null,"NEJ","",null,"","",{"$f":"IFERROR(VLOOKUP(N259,FormålsID!A:E,5,0),\"\")","v":""}]
[null,null,null,null,null,"",null,null,null,null,"NEJ","",null,"","",{"$f":"IFERROR(VLOOKUP(N260,FormålsID!A:E,5,0),\"\")","v":""}]
[null,null,null,null,null,"",null,null,null,null,"NEJ","",null,"","",{"$f":"IFERROR(VLOOKUP(N261,FormålsID!A:E,5,0),\"\")","v":""}]
[null,null,null,null,null,"",null,null,null,null,"NEJ","",null,"","",{"$f":"IFERROR(VLOOKUP(N262,FormålsID!A:E,5,0),\"\")","v":""}]
[null,null,null,null,null,{"$f":"IF(E263=\"Fra-sum\",\"Alle\",IF(E263=\"Til-sum\",\"Alle\",\"\"))","v":""},null,null,null,null,"NEJ","",null,{"$f":"IF(AND(A263<> \"\", B263<>\"\"),CONCATENATE(A263,\",\",B263),\"\")","v":""},"",{"$f":"IFERROR(VLOOKUP(N263,FormålsID!A:E,5,0),\"\")","v":""}]
[null,null,null,null,null,"",null,null,null,null,"NEJ","",null,"",{"$f":"IF(AND(A264<> \"\", B264<>\"\"),CONCATENATE(A264,\",\",B264,\",FORM\"),\"\")","v":""},{"$f":"IFERROR(VLOOKUP(N264,FormålsID!A:E,5,0),\"\")","v":""}]
[null,null,null,null,null,"",null,null,null,null,"NEJ","",null,"","",{"$f":"IFERROR(VLOOKUP(N265,FormålsID!A:E,5,0),\"\")","v":""}]
[null,null,null,null,null,"",null,null,null,null,"NEJ","",null,"","",{"$f":"IFERROR(VLOOKUP(N266,FormålsID!A:E,5,0),\"\")","v":""}]
[null,null,null,null,null,"",null,null,null,null,"NEJ","",null,"","",{"$f":"IFERROR(VLOOKUP(N267,FormålsID!A:E,5,0),\"\")","v":""}]
[null,null,null,null,null,"",null,null,null,null,"NEJ","",null,"","",{"$f":"IFERROR(VLOOKUP(N268,FormålsID!A:E,5,0),\"\")","v":""}]
[null,null,null,null,null,"",null,null,null,null,"NEJ","",null,"","",{"$f":"IFERROR(VLOOKUP(N269,FormålsID!A:E,5,0),\"\")","v":""}]
[null,null,null,null,null,"",null,null,null,null,"NEJ","",null,"","",{"$f":"IFERROR(VLOOKUP(N270,FormålsID!A:E,5,0),\"\")","v":""}]
[null,null,null,null,null,"",null,null,null,null,"NEJ","",null,"","",{"$f":"IFERROR(VLOOKUP(N271,FormålsID!A:E,5,0),\"\")","v":""}]
[null,null,null,null,null,"",null,null,null,null,"NEJ","",null,"","",{"$f":"IFERROR(VLOOKUP(N272,FormålsID!A:E,5,0),\"\")","v":""}]
[null,null,null,null,null,"",null,null,null,null,"NEJ","",null,"","",{"$f":"IFERROR(VLOOKUP(N273,FormålsID!A:E,5,0),\"\")","v":""}]
[null,null,null,null,null,"",null,null,null,null,"NEJ","",null,"","",{"$f":"IFERROR(VLOOKUP(N274,FormålsID!A:E,5,0),\"\")","v":""}]
[null,null,null,null,null,"",null,null,null,null,"NEJ","",null,"","",{"$f":"IFERROR(VLOOKUP(N275,FormålsID!A:E,5,0),\"\")","v":""}]
[null,null,null,null,null,"",null,null,null,null,"NEJ","",null,"","",{"$f":"IFERROR(VLOOKUP(N276,FormålsID!A:E,5,0),\"\")","v":""}]
[null,null,null,null,null,"",null,null,null,null,"NEJ","",null,"","",{"$f":"IFERROR(VLOOKUP(N277,FormålsID!A:E,5,0),\"\")","v":""}]
[null,null,null,null,null,"",null,null,null,null,"NEJ","",null,"","",{"$f":"IFERROR(VLOOKUP(N278,FormålsID!A:E,5,0),\"\")","v":""}]
[null,null,null,null,null,"",null,null,null,null,"NEJ","",null,"","",{"$f":"IFERROR(VLOOKUP(N279,FormålsID!A:E,5,0),\"\")","v":""}]
[null,null,null,null,null,"",null,null,null,null,"NEJ","",null,"","",{"$f":"IFERROR(VLOOKUP(N280,FormålsID!A:E,5,0),\"\")","v":""}]
[null,null,null,null,null,"",null,null,null,null,"NEJ","",null,"","",{"$f":"IFERROR(VLOOKUP(N281,FormålsID!A:E,5,0),\"\")","v":""}]
[null,null,null,null,null,"",null,null,null,null,"NEJ",{"$f":"IF(B282<>\"\",IF(OR(D282=4,D282=\"4\",D282=5,D282=\"5\"),\"JA\",\"NEJ\"),\"\")","v":""},null,"","",{"$f":"IFERROR(VLOOKUP(N282,FormålsID!A:E,5,0),\"\")","v":""}]
[null,null,null,null,null,"",null,null,null,null,"NEJ","",null,"","",{"$f":"IFERROR(VLOOKUP(N283,FormålsID!A:E,5,0),\"\")","v":""}]
[null,null,null,null,null,"",null,null,null,null,"NEJ","",null,"","",{"$f":"IFERROR(VLOOKUP(N284,FormålsID!A:E,5,0),\"\")","v":""}]
[null,null,null,null,null,"",null,null,null,null,"NEJ","",null,"","",{"$f":"IFERROR(VLOOKUP(N285,FormålsID!A:E,5,0),\"\")","v":""}]
[null,null,null,null,null,"",null,null,null,null,"NEJ","",null,"","",{"$f":"IFERROR(VLOOKUP(N286,FormålsID!A:E,5,0),\"\")","v":""}]
[null,null,null,null,null,"",null,null,null,null,"NEJ","",null,"","",{"$f":"IFERROR(VLOOKUP(N287,FormålsID!A:E,5,0),\"\")","v":""}]
[null,null,null,null,null,"",null,null,null,null,"NEJ","",null,"","",{"$f":"IFERROR(VLOOKUP(N288,FormålsID!A:E,5,0),\"\")","v":""}]
[null,null,null,null,null,"",null,null,null,null,"NEJ","",null,"","",{"$f":"IFERROR(VLOOKUP(N289,FormålsID!A:E,5,0),\"\")","v":""}]
[null,null,null,null,null,"",null,null,null,null,"NEJ","",null,"","",{"$f":"IFERROR(VLOOKUP(N290,FormålsID!A:E,5,0),\"\")","v":""}]
[null,null,null,null,null,"",null,null,null,null,"NEJ","",null,"","",{"$f":"IFERROR(VLOOKUP(N291,FormålsID!A:E,5,0),\"\")","v":""}]
[null,null,null,null,null,"",null,null,null,null,"NEJ","",null,"","",{"$f":"IFERROR(VLOOKUP(N292,FormålsID!A:E,5,0),\"\")","v":""}]
[null,null,null,null,null,"",null,null,null,null,"NEJ","",null,"","",{"$f":"IFERROR(VLOOKUP(N293,FormålsID!A:E,5,0),\"\")","v":""}]
[null,null,null,null,null,"",null,null,null,null,"NEJ","",null,"","",{"$f":"IFERROR(VLOOKUP(N294,FormålsID!A:E,5,0),\"\")","v":""}]
[null,null,null,null,null,"",null,null,null,null,"NEJ","",null,"","",{"$f":"IFERROR(VLOOKUP(N295,FormålsID!A:E,5,0),\"\")","v":""}]
[null,null,null,null,null,"",null,null,null,null,"NEJ","",null,"","",{"$f":"IFERROR(VLOOKUP(N296,FormålsID!A:E,5,0),\"\")","v":""}]
[null,null,null,null,null,"",null,null,null,null,"NEJ","",null,"","",{"$f":"IFERROR(VLOOKUP(N297,FormålsID!A:E,5,0),\"\")","v":""}]
[null,null,null,null,null,"",null,null,null,null,"NEJ","",null,"","",{"$f":"IFERROR(VLOOKUP(N298,FormålsID!A:E,5,0),\"\")","v":""}]
[null,null,null,null,null,"",null,null,null,null,"NEJ","",null,"","",{"$f":"IFERROR(VLOOKUP(N299,FormålsID!A:E,5,0),\"\")","v":""}]
[null,null,null,null,null,"",null,null,null,null,"NEJ","",null,"","",{"$f":"IFERROR(VLOOKUP(N300,FormålsID!A:E,5,0),\"\")","v":""}]
[null,null,null,null,null,"",null,null,null,null,"NEJ","",null,"","",{"$f":"IFERROR(VLOOKUP(N301,FormålsID!A:E,5,0),\"\")","v":""}]
[null,null,null,null,null,"",null,null,null,null,"NEJ","",null,"","",{"$f":"IFERROR(VLOOKUP(N302,FormålsID!A:E,5,0),\"\")","v":""}]
[null,null,null,null,null,"",null,null,null,null,"NEJ","",null,"","",{"$f":"IFERROR(VLOOKUP(N303,FormålsID!A:E,5,0),\"\")","v":""}]
[null,null,null,null,null,"",null,null,null,null,"NEJ","",null,"","",{"$f":"IFERROR(VLOOKUP(N304,FormålsID!A:E,5,0),\"\")","v":""}]
[null,null,null,null,null,"",null,null,null,null,"NEJ","",null,"","",{"$f":"IFERROR(VLOOKUP(N305,FormålsID!A:E,5,0),\"\")","v":""}]
[null,null,null,null,null,"",null,null,null,null,"NEJ","",null,"","",{"$f":"IFERROR(VLOOKUP(N306,FormålsID!A:E,5,0),\"\")","v":""}]
[null,null,null,null,null,"",null,null,null,null,"NEJ","",null,"","",{"$f":"IFERROR(VLOOKUP(N307,FormålsID!A:E,5,0),\"\")","v":""}]

{"sheet":"Formål","index":2,"n_rows":3,"n_cols":4,"rows_kept":3,"cut":false,"hidden":false,"merged":[]}
[]
[]
[null,"<= Retur",null,"Vejledning til formålskontering."]

{"sheet":"FormålsID","index":3,"n_rows":62836,"n_cols":5,"rows_kept":4500,"cut":true,"hidden":true,"merged":[],"bounds":{"rows_first":2000,"rows_last":500,"rows_between":2000,"halvings":0}}
["B+C","Job No_","Job Task No_","Dimension Code","Sender ID"]
[{"$f":"CONCATENATE(B2,\",\",C2)","v":"10017,56202"},10017,56202,"FORMAAL","10017,56202,FORM"]
[{"$f":"CONCATENATE(B3,\",\",C3)","v":"10019,56202"},10019,56202,"FORMAAL","10019,56202,FORM"]
[{"$f":"CONCATENATE(B4,\",\",C4)","v":"10021,56202"},10021,56202,"FORMAAL","10021,56202,FORM"]
[{"$f":"CONCATENATE(B5,\",\",C5)","v":"10022,56202"},10022,56202,"FORMAAL","10022,56202,FORM"]
[{"$f":"CONCATENATE(B6,\",\",C6)","v":"10023,56202"},10023,56202,"FORMAAL","10023,56202,FORM"]
[{"$f":"CONCATENATE(B7,\",\",C7)","v":"10028,56202"},10028,56202,"FORMAAL","10028,56202,FORM"]
[{"$f":"CONCATENATE(B8,\",\",C8)","v":"10033,56202"},10033,56202,"FORMAAL","10033,56202,FORM"]
[{"$f":"CONCATENATE(B9,\",\",C9)","v":"10037,56202"},10037,56202,"FORMAAL","10037,56202,FORM"]
[{"$f":"CONCATENATE(B10,\",\",C10)","v":"10038,56202"},10038,56202,"FORMAAL","10038,56202,FORM"]
[{"$f":"CONCATENATE(B11,\",\",C11)","v":"10039,56202"},10039,56202,"FORMAAL","10039,56202,FORM"]
[{"$f":"CONCATENATE(B12,\",\",C12)","v":"10040,56202"},10040,56202,"FORMAAL","10040,56202,FORM"]
[{"$f":"CONCATENATE(B13,\",\",C13)","v":"10042,56202"},10042,56202,"FORMAAL","10042,56202,FORM"]
[{"$f":"CONCATENATE(B14,\",\",C14)","v":"10043,56202"},10043,56202,"FORMAAL","10043,56202,FORM"]
[{"$f":"CONCATENATE(B15,\",\",C15)","v":"10044,56202"},10044,56202,"FORMAAL","10044,56202,FORM"]
[{"$f":"CONCATENATE(B16,\",\",C16)","v":"10046,56202"},10046,56202,"FORMAAL","10046,56202,FORM"]
[{"$f":"CONCATENATE(B17,\",\",C17)","v":"10047,56202"},10047,56202,"FORMAAL","10047,56202,FORM"]
[{"$f":"CONCATENATE(B18,\",\",C18)","v":"10048,56202"},10048,56202,"FORMAAL","10048,56202,FORM"]
[{"$f":"CONCATENATE(B19,\",\",C19)","v":"10050,56202"},10050,56202,"FORMAAL","10050,56202,FORM"]
[{"$f":"CONCATENATE(B20,\",\",C20)","v":"10051,56202"},10051,56202,"FORMAAL","10051,56202,FORM"]
[{"$f":"CONCATENATE(B21,\",\",C21)","v":"10052,56202"},10052,56202,"FORMAAL","10052,56202,FORM"]
[{"$f":"CONCATENATE(B22,\",\",C22)","v":"10055,56202"},10055,56202,"FORMAAL","10055,56202,FORM"]
[{"$f":"CONCATENATE(B23,\",\",C23)","v":"10062,56202"},10062,56202,"FORMAAL","10062,56202,FORM"]
[{"$f":"CONCATENATE(B24,\",\",C24)","v":"10066,56202"},10066,56202,"FORMAAL","10066,56202,FORM"]
[{"$f":"CONCATENATE(B25,\",\",C25)","v":"10067,56202"},10067,56202,"FORMAAL","10067,56202,FORM"]
[{"$f":"CONCATENATE(B26,\",\",C26)","v":"10068,56202"},10068,56202,"FORMAAL","10068,56202,FORM"]
[{"$f":"CONCATENATE(B27,\",\",C27)","v":"10070,56202"},10070,56202,"FORMAAL","10070,56202,FORM"]
[{"$f":"CONCATENATE(B28,\",\",C28)","v":"10071,56202"},10071,56202,"FORMAAL","10071,56202,FORM"]
[{"$f":"CONCATENATE(B29,\",\",C29)","v":"10072,56202"},10072,56202,"FORMAAL","10072,56202,FORM"]
[{"$f":"CONCATENATE(B30,\",\",C30)","v":"10088,56202"},10088,56202,"FORMAAL","10088,56202,FORM"]
[{"$f":"CONCATENATE(B31,\",\",C31)","v":"10089,56202"},10089,56202,"FORMAAL","10089,56202,FORM"]
[{"$f":"CONCATENATE(B32,\",\",C32)","v":"10091,56202"},10091,56202,"FORMAAL","10091,56202,FORM"]
[{"$f":"CONCATENATE(B33,\",\",C33)","v":"10092,56202"},10092,56202,"FORMAAL","10092,56202,FORM"]
[{"$f":"CONCATENATE(B34,\",\",C34)","v":"10094,56202"},10094,56202,"FORMAAL","10094,56202,FORM"]
[{"$f":"CONCATENATE(B35,\",\",C35)","v":"10101,56202"},10101,56202,"FORMAAL","10101,56202,FORM"]
[{"$f":"CONCATENATE(B36,\",\",C36)","v":"10103,56202"},10103,56202,"FORMAAL","10103,56202,FORM"]
[{"$f":"CONCATENATE(B37,\",\",C37)","v":"10104,56202"},10104,56202,"FORMAAL","10104,56202,FORM"]
[{"$f":"CONCATENATE(B38,\",\",C38)","v":"10219,56202"},10219,56202,"FORMAAL","10219,56202,FORM"]
[{"$f":"CONCATENATE(B39,\",\",C39)","v":"10221,56202"},10221,56202,"FORMAAL","10221,56202,FORM"]
[{"$f":"CONCATENATE(B40,\",\",C40)","v":"10224,56202"},10224,56202,"FORMAAL","10224,56202,FORM"]
[{"$f":"CONCATENATE(B41,\",\",C41)","v":"10226,56202"},10226,56202,"FORMAAL","10226,56202,FORM"]
[{"$f":"CONCATENATE(B42,\",\",C42)","v":"10228,56202"},10228,56202,"FORMAAL","10228,56202,FORM"]
[{"$f":"CONCATENATE(B43,\",\",C43)","v":"10231,56202"},10231,56202,"FORMAAL","10231,56202,FORM"]
[{"$f":"CONCATENATE(B44,\",\",C44)","v":"10232,56202"},10232,56202,"FORMAAL","10232,56202,FORM"]
[{"$f":"CONCATENATE(B45,\",\",C45)","v":"10235,56202"},10235,56202,"FORMAAL","10235,56202,FORM"]
[{"$f":"CONCATENATE(B46,\",\",C46)","v":"10236,56202"},10236,56202,"FORMAAL","10236,56202,FORM"]
[{"$f":"CONCATENATE(B47,\",\",C47)","v":"10237,56202"},10237,56202,"FORMAAL","10237,56202,FORM"]
[{"$f":"CONCATENATE(B48,\",\",C48)","v":"10240,56202"},10240,56202,"FORMAAL","10240,56202,FORM"]
[{"$f":"CONCATENATE(B49,\",\",C49)","v":"10244,56202"},10244,56202,"FORMAAL","10244,56202,FORM"]
[{"$f":"CONCATENATE(B50,\",\",C50)","v":"10245,56202"},10245,56202,"FORMAAL","10245,56202,FORM"]
[{"$f":"CONCATENATE(B51,\",\",C51)","v":"10246,56202"},10246,56202,"FORMAAL","10246,56202,FORM"]
[{"$f":"CONCATENATE(B52,\",\",C52)","v":"10247,56202"},10247,56202,"FORMAAL","10247,56202,FORM"]
[{"$f":"CONCATENATE(B53,\",\",C53)","v":"10248,56202"},10248,56202,"FORMAAL","10248,56202,FORM"]
[{"$f":"CONCATENATE(B54,\",\",C54)","v":"10249,56202"},10249,56202,"FORMAAL","10249,56202,FORM"]
[{"$f":"CONCATENATE(B55,\",\",C55)","v":"10251,56202"},10251,56202,"FORMAAL","10251,56202,FORM"]
[{"$f":"CONCATENATE(B56,\",\",C56)","v":"10252,56202"},10252,56202,"FORMAAL","10252,56202,FORM"]
[{"$f":"CONCATENATE(B57,\",\",C57)","v":"10253,56202"},10253,56202,"FORMAAL","10253,56202,FORM"]
[{"$f":"CONCATENATE(B58,\",\",C58)","v":"10254,56202"},10254,56202,"FORMAAL","10254,56202,FORM"]
[{"$f":"CONCATENATE(B59,\",\",C59)","v":"10255,56202"},10255,56202,"FORMAAL","10255,56202,FORM"]
[{"$f":"CONCATENATE(B60,\",\",C60)","v":"10257,56202"},10257,56202,"FORMAAL","10257,56202,FORM"]
[{"$f":"CONCATENATE(B61,\",\",C61)","v":"10258,56202"},10258,56202,"FORMAAL","10258,56202,FORM"]
[{"$f":"CONCATENATE(B62,\",\",C62)","v":"10259,56202"},10259,56202,"FORMAAL","10259,56202,FORM"]
[{"$f":"CONCATENATE(B63,\",\",C63)","v":"10261,56202"},10261,56202,"FORMAAL","10261,56202,FORM"]
[{"$f":"CONCATENATE(B64,\",\",C64)","v":"10266,56202"},10266,56202,"FORMAAL","10266,56202,FORM"]
[{"$f":"CONCATENATE(B65,\",\",C65)","v":"10267,56202"},10267,56202,"FORMAAL","10267,56202,FORM"]
[{"$f":"CONCATENATE(B66,\",\",C66)","v":"10268,56202"},10268,56202,"FORMAAL","10268,56202,FORM"]
[{"$f":"CONCATENATE(B67,\",\",C67)","v":"10270,56202"},10270,56202,"FORMAAL","10270,56202,FORM"]
[{"$f":"CONCATENATE(B68,\",\",C68)","v":"10271,56202"},10271,56202,"FORMAAL","10271,56202,FORM"]
[{"$f":"CONCATENATE(B69,\",\",C69)","v":"10272,56202"},10272,56202,"FORMAAL","10272,56202,FORM"]
[{"$f":"CONCATENATE(B70,\",\",C70)","v":"10274,56202"},10274,56202,"FORMAAL","10274,56202,FORM"]
[{"$f":"CONCATENATE(B71,\",\",C71)","v":"10276,56202"},10276,56202,"FORMAAL","10276,56202,FORM"]
[{"$f":"CONCATENATE(B72,\",\",C72)","v":"10278,56202"},10278,56202,"FORMAAL","10278,56202,FORM"]
[{"$f":"CONCATENATE(B73,\",\",C73)","v":"10280,56202"},10280,56202,"FORMAAL","10280,56202,FORM"]
[{"$f":"CONCATENATE(B74,\",\",C74)","v":"10284,56202"},10284,56202,"FORMAAL","10284,56202,FORM"]
[{"$f":"CONCATENATE(B75,\",\",C75)","v":"10287,56202"},10287,56202,"FORMAAL","10287,56202,FORM"]
[{"$f":"CONCATENATE(B76,\",\",C76)","v":"10293,56202"},10293,56202,"FORMAAL","10293,56202,FORM"]
[{"$f":"CONCATENATE(B77,\",\",C77)","v":"10295,56202"},10295,56202,"FORMAAL","10295,56202,FORM"]
[{"$f":"CONCATENATE(B78,\",\",C78)","v":"10308,57115"},10308,57115,"FORMAAL","10308,57115,FORM"]
[{"$f":"CONCATENATE(B79,\",\",C79)","v":"10318,56202"},10318,56202,"FORMAAL","10318,56202,FORM"]
[{"$f":"CONCATENATE(B80,\",\",C80)","v":"10324,56202"},10324,56202,"FORMAAL","10324,56202,FORM"]
[{"$f":"CONCATENATE(B81,\",\",C81)","v":"10325,56202"},10325,56202,"FORMAAL","10325,56202,FORM"]
[{"$f":"CONCATENATE(B82,\",\",C82)","v":"10326,56202"},10326,56202,"FORMAAL","10326,56202,FORM"]
[{"$f":"CONCATENATE(B83,\",\",C83)","v":"10332,56202"},10332,56202,"FORMAAL","10332,56202,FORM"]
[{"$f":"CONCATENATE(B84,\",\",C84)","v":"10364,56202"},10364,56202,"FORMAAL","10364,56202,FORM"]
[{"$f":"CONCATENATE(B85,\",\",C85)","v":"10365,56202"},10365,56202,"FORMAAL","10365,56202,FORM"]
[{"$f":"CONCATENATE(B86,\",\",C86)","v":"10367,56202"},10367,56202,"FORMAAL","10367,56202,FORM"]
[{"$f":"CONCATENATE(B87,\",\",C87)","v":"10368,56202"},10368,56202,"FORMAAL","10368,56202,FORM"]
[{"$f":"CONCATENATE(B88,\",\",C88)","v":"10371,56202"},10371,56202,"FORMAAL","10371,56202,FORM"]
[{"$f":"CONCATENATE(B89,\",\",C89)","v":"10372,56202"},10372,56202,"FORMAAL","10372,56202,FORM"]
[{"$f":"CONCATENATE(B90,\",\",C90)","v":"10373,56202"},10373,56202,"FORMAAL","10373,56202,FORM"]
[{"$f":"CONCATENATE(B91,\",\",C91)","v":"10413,57587"},10413,57587,"FORMAAL","10413,57587,FORM"]
[{"$f":"CONCATENATE(B92,\",\",C92)","v":"10413,57588"},10413,57588,"FORMAAL","1009332"]
[{"$f":"CONCATENATE(B93,\",\",C93)","v":"10413,57589"},10413,57589,"FORMAAL","10413,57589,FORM"]
[{"$f":"CONCATENATE(B94,\",\",C94)","v":"10413,57590"},10413,57590,"FORMAAL","10413,57590,FORM"]
[{"$f":"CONCATENATE(B95,\",\",C95)","v":"10419,56202"},10419,56202,"FORMAAL","10419,56202,FORM"]
[{"$f":"CONCATENATE(B96,\",\",C96)","v":"10558,82666"},10558,82666,"FORMAAL","10558,82666,FORM"]
[{"$f":"CONCATENATE(B97,\",\",C97)","v":"10558,91777"},10558,91777,"FORMAAL","1016890"]
[{"$f":"CONCATENATE(B98,\",\",C98)","v":"10569,82801"},10569,82801,"FORMAAL","1017342"]
[{"$f":"CONCATENATE(B99,\",\",C99)","v":"10569,82902"},10569,82902,"FORMAAL","10569,82902,FORM"]
[{"$f":"CONCATENATE(B100,\",\",C100)","v":"10569,82903"},10569,82903,"FORMAAL","10569,82903,FORM"]
[{"$f":"CONCATENATE(B101,\",\",C101)","v":"10617,21077"},10617,21077,"FORMAAL","10617,21077,FORM"]
[{"$f":"CONCATENATE(B102,\",\",C102)","v":"10617,21101"},10617,21101,"FORMAAL","1021055"]
[{"$f":"CONCATENATE(B103,\",\",C103)","v":"10617,21201"},10617,21201,"FORMAAL","10617,21201,FORM"]
[{"$f":"CONCATENATE(B104,\",\",C104)","v":"10617,21202"},10617,21202,"FORMAAL","1021056"]
[{"$f":"CONCATENATE(B105,\",\",C105)","v":"10617,21203"},10617,21203,"FORMAAL","1021062"]
[{"$f":"CONCATENATE(B106,\",\",C106)","v":"10617,21301"},10617,21301,"FORMAAL","10617,21301,FORM"]
[{"$f":"CONCATENATE(B107,\",\",C107)","v":"10617,21302"},10617,21302,"FORMAAL","1021057"]
[{"$f":"CONCATENATE(B108,\",\",C108)","v":"10617,21303"},10617,21303,"FORMAAL","1021061"]
[{"$f":"CONCATENATE(B109,\",\",C109)","v":"10617,21304"},10617,21304,"FORMAAL","1021063"]
[{"$f":"CONCATENATE(B110,\",\",C110)","v":"10617,21305"},10617,21305,"FORMAAL","1021064"]
[{"$f":"CONCATENATE(B111,\",\",C111)","v":"10617,21401"},10617,21401,"FORMAAL","10617,21401,FORM"]
[{"$f":"CONCATENATE(B112,\",\",C112)","v":"10617,21601"},10617,21601,"FORMAAL","10617,21601,FORM"]
[{"$f":"CONCATENATE(B113,\",\",C113)","v":"10617,21701"},10617,21701,"FORMAAL","1021058"]
[{"$f":"CONCATENATE(B114,\",\",C114)","v":"10617,21801"},10617,21801,"FORMAAL","1021060"]
[{"$f":"CONCATENATE(B115,\",\",C115)","v":"10617,23201"},10617,23201,"FORMAAL","10617,23201,FORM"]
[{"$f":"CONCATENATE(B116,\",\",C116)","v":"10617,26102"},10617,26102,"FORMAAL","1021059"]
[{"$f":"CONCATENATE(B117,\",\",C117)","v":"10617,27777"},10617,27777,"FORMAAL","10617,27777,FORM"]
[{"$f":"CONCATENATE(B118,\",\",C118)","v":"10617,61077"},10617,61077,"FORMAAL","10617,61077,FORM"]
[{"$f":"CONCATENATE(B119,\",\",C119)","v":"10617,61201"},10617,61201,"FORMAAL","10617,61201,FORM"]
[{"$f":"CONCATENATE(B120,\",\",C120)","v":"10617,61301"},10617,61301,"FORMAAL","10617,61301,FORM"]
[{"$f":"CONCATENATE(B121,\",\",C121)","v":"10617,61401"},10617,61401,"FORMAAL","10617,61401,FORM"]
[{"$f":"CONCATENATE(B122,\",\",C122)","v":"10617,61601"},10617,61601,"FORMAAL","10617,61601,FORM"]
[{"$f":"CONCATENATE(B123,\",\",C123)","v":"10617,63201"},10617,63201,"FORMAAL","10617,63201,FORM"]
[{"$f":"CONCATENATE(B124,\",\",C124)","v":"10617,66101"},10617,66101,"FORMAAL","10617,66101,FORM"]
[{"$f":"CONCATENATE(B125,\",\",C125)","v":"10617,67777"},10617,67777,"FORMAAL","10617,67777,FORM"]
[{"$f":"CONCATENATE(B126,\",\",C126)","v":"10617,91101"},10617,91101,"FORMAAL","10617,91101,FORM"]
[{"$f":"CONCATENATE(B127,\",\",C127)","v":"10617,93777"},10617,93777,"FORMAAL","10617,93777,FORM"]
[{"$f":"CONCATENATE(B128,\",\",C128)","v":"10617,96501"},10617,96501,"FORMAAL","10617,96501,FORM"]
[{"$f":"CONCATENATE(B129,\",\",C129)","v":"10757,91777"},10757,91777,"FORMAAL","1016888"]
[{"$f":"CONCATENATE(B130,\",\",C130)","v":"10759,91777"},10759,91777,"FORMAAL","1016891"]
[{"$f":"CONCATENATE(B131,\",\",C131)","v":"10762,91777"},10762,91777,"FORMAAL","1016895"]
[{"$f":"CONCATENATE(B132,\",\",C132)","v":"10911,91777"},10911,91777,"FORMAAL","1016892"]
[{"$f":"CONCATENATE(B133,\",\",C133)","v":"10912,81603"},10912,81603,"FORMAAL","10912,81603,FORM"]
[{"$f":"CONCATENATE(B134,\",\",C134)","v":"10912,86101"},10912,86101,"FORMAAL","1020402"]
[{"$f":"CONCATENATE(B135,\",\",C135)","v":"10913,86101"},10913,86101,"FORMAAL","1020403"]
[{"$f":"CONCATENATE(B136,\",\",C136)","v":"10914,81710"},10914,81710,"FORMAAL","10914,81710,FORM"]
[{"$f":"CONCATENATE(B137,\",\",C137)","v":"10914,81720"},10914,81720,"FORMAAL","10914,81720,FORM"]
[{"$f":"CONCATENATE(B138,\",\",C138)","v":"10914,81721"},10914,81721,"FORMAAL","10914,81721,FORM"]
[{"$f":"CONCATENATE(B139,\",\",C139)","v":"10914,81726"},10914,81726,"FORMAAL","10914,81726,FORM"]
[{"$f":"CONCATENATE(B140,\",\",C140)","v":"10914,82116"},10914,82116,"FORMAAL","10914,82116,FORM"]
[{"$f":"CONCATENATE(B141,\",\",C141)","v":"10914,82126"},10914,82126,"FORMAAL","10914,82126,FORM"]
[{"$f":"CONCATENATE(B142,\",\",C142)","v":"10914,82721"},10914,82721,"FORMAAL","10914,82721,FORM"]
[{"$f":"CONCATENATE(B143,\",\",C143)","v":"10914,82730"},10914,82730,"FORMAAL","10914,82730,FORM"]
[{"$f":"CONCATENATE(B144,\",\",C144)","v":"10914,86101"},10914,86101,"FORMAAL","1020404"]
[{"$f":"CONCATENATE(B145,\",\",C145)","v":"10915,81102"},10915,81102,"FORMAAL","1002931"]
[{"$f":"CONCATENATE(B146,\",\",C146)","v":"10915,82971"},10915,82971,"FORMAAL","10915,82971,FORM"]
[{"$f":"CONCATENATE(B147,\",\",C147)","v":"10915,82972"},10915,82972,"FORMAAL","10915,82972,FORM"]
[{"$f":"CONCATENATE(B148,\",\",C148)","v":"10915,86101"},10915,86101,"FORMAAL","1020405"]
[{"$f":"CONCATENATE(B149,\",\",C149)","v":"10917,82422"},10917,82422,"FORMAAL","10917,82422,FORM"]
[{"$f":"CONCATENATE(B150,\",\",C150)","v":"10917,86101"},10917,86101,"FORMAAL","1020406"]
[{"$f":"CONCATENATE(B151,\",\",C151)","v":"10917,88107"},10917,88107,"FORMAAL","10917,88107,FORM"]
[{"$f":"CONCATENATE(B152,\",\",C152)","v":"10918,86101"},10918,86101,"FORMAAL","1020407"]
[{"$f":"CONCATENATE(B153,\",\",C153)","v":"10919,82661"},10919,82661,"FORMAAL","1013726"]
[{"$f":"CONCATENATE(B154,\",\",C154)","v":"10919,82669"},10919,82669,"FORMAAL","1013840"]
[{"$f":"CONCATENATE(B155,\",\",C155)","v":"10919,82670"},10919,82670,"FORMAAL","10919,82670,FORM"]
[{"$f":"CONCATENATE(B156,\",\",C156)","v":"10919,86101"},10919,86101,"FORMAAL","1020408"]
[{"$f":"CONCATENATE(B157,\",\",C157)","v":"10919,91102"},10919,91102,"FORMAAL","10919,91102,FORM"]
[{"$f":"CONCATENATE(B158,\",\",C158)","v":"10920,86101"},10920,86101,"FORMAAL","1020409"]
[{"$f":"CONCATENATE(B159,\",\",C159)","v":"10920,91102"},10920,91102,"FORMAAL","10920,91102,FORM"]
[{"$f":"CONCATENATE(B160,\",\",C160)","v":"10921,81603"},10921,81603,"FORMAAL","10921,81603,FORM"]
[{"$f":"CONCATENATE(B161,\",\",C161)","v":"10921,82240"},10921,82240,"FORMAAL","1019400"]
[{"$f":"CONCATENATE(B162,\",\",C162)","v":"10921,82810"},10921,82810,"FORMAAL","1019401"]
[{"$f":"CONCATENATE(B163,\",\",C163)","v":"10921,86101"},10921,86101,"FORMAAL","1020410"]
[{"$f":"CONCATENATE(B164,\",\",C164)","v":"10922,86101"},10922,86101,"FORMAAL","1020411"]
[{"$f":"CONCATENATE(B165,\",\",C165)","v":"10922,91102"},10922,91102,"FORMAAL","10922,91102,FORM"]
[{"$f":"CONCATENATE(B166,\",\",C166)","v":"10922,91103"},10922,91103,"FORMAAL","10922,91103,FORM"]
[{"$f":"CONCATENATE(B167,\",\",C167)","v":"10923,86101"},10923,86101,"FORMAAL","1020412"]
[{"$f":"CONCATENATE(B168,\",\",C168)","v":"10925,81102"},10925,81102,"FORMAAL","1002896"]
[{"$f":"CONCATENATE(B169,\",\",C169)","v":"10925,86101"},10925,86101,"FORMAAL","1020413"]
[{"$f":"CONCATENATE(B170,\",\",C170)","v":"10925,91102"},10925,91102,"FORMAAL","10925,91102,FORM"]
[{"$f":"CONCATENATE(B171,\",\",C171)","v":"10925,91103"},10925,91103,"FORMAAL","10925,91103,FORM"]
[{"$f":"CONCATENATE(B172,\",\",C172)","v":"10927,81120"},10927,81120,"FORMAAL","10927,81120,FORM"]
[{"$f":"CONCATENATE(B173,\",\",C173)","v":"10927,81121"},10927,81121,"FORMAAL","10927,81121,FORM"]
[{"$f":"CONCATENATE(B174,\",\",C174)","v":"10927,82402"},10927,82402,"FORMAAL","10927,82402,FORM"]
[{"$f":"CONCATENATE(B175,\",\",C175)","v":"10928,86101"},10928,86101,"FORMAAL","1020414"]
[{"$f":"CONCATENATE(B176,\",\",C176)","v":"10931,82402"},10931,82402,"FORMAAL","10931,82402,FORM"]
[{"$f":"CONCATENATE(B177,\",\",C177)","v":"11368,21101"},11368,21101,"FORMAAL","1021065"]
[{"$f":"CONCATENATE(B178,\",\",C178)","v":"11368,21202"},11368,21202,"FORMAAL","1021070"]
[{"$f":"CONCATENATE(B179,\",\",C179)","v":"11368,21203"},11368,21203,"FORMAAL","1021073"]
[{"$f":"CONCATENATE(B180,\",\",C180)","v":"11368,21302"},11368,21302,"FORMAAL","1021066"]
[{"$f":"CONCATENATE(B181,\",\",C181)","v":"11368,21303"},11368,21303,"FORMAAL","1021074"]
[{"$f":"CONCATENATE(B182,\",\",C182)","v":"11368,21304"},11368,21304,"FORMAAL","1021068"]
[{"$f":"CONCATENATE(B183,\",\",C183)","v":"11368,21305"},11368,21305,"FORMAAL","1021069"]
[{"$f":"CONCATENATE(B184,\",\",C184)","v":"11368,21701"},11368,21701,"FORMAAL","1021071"]
[{"$f":"CONCATENATE(B185,\",\",C185)","v":"11368,21801"},11368,21801,"FORMAAL","1021072"]
[{"$f":"CONCATENATE(B186,\",\",C186)","v":"11368,26102"},11368,26102,"FORMAAL","1021067"]
[{"$f":"CONCATENATE(B187,\",\",C187)","v":"11421,81403"},11421,81403,"FORMAAL","899236"]
[{"$f":"CONCATENATE(B188,\",\",C188)","v":"11477,77777"},11477,77777,"FORMAAL","11477,77777,FORM"]
[{"$f":"CONCATENATE(B189,\",\",C189)","v":"11477,81901"},11477,81901,"FORMAAL","11477,81901,FORM"]
[{"$f":"CONCATENATE(B190,\",\",C190)","v":"11477,82405"},11477,82405,"FORMAAL","11477,82405,FORM"]
[{"$f":"CONCATENATE(B191,\",\",C191)","v":"11477,82802"},11477,82802,"FORMAAL","899551"]
[{"$f":"CONCATENATE(B192,\",\",C192)","v":"11477,82803"},11477,82803,"FORMAAL","899552"]
[{"$f":"CONCATENATE(B193,\",\",C193)","v":"11477,82806"},11477,82806,"FORMAAL","899553"]
[{"$f":"CONCATENATE(B194,\",\",C194)","v":"11477,82807"},11477,82807,"FORMAAL","899554"]
[{"$f":"CONCATENATE(B195,\",\",C195)","v":"11477,86102"},11477,86102,"FORMAAL","900036"]
[{"$f":"CONCATENATE(B196,\",\",C196)","v":"11477,86103"},11477,86103,"FORMAAL","900037"]
[{"$f":"CONCATENATE(B197,\",\",C197)","v":"11477,86110"},11477,86110,"FORMAAL","900039"]
[{"$f":"CONCATENATE(B198,\",\",C198)","v":"11485,82802"},11485,82802,"FORMAAL","899555"]
[{"$f":"CONCATENATE(B199,\",\",C199)","v":"11485,82803"},11485,82803,"FORMAAL","899556"]
[{"$f":"CONCATENATE(B200,\",\",C200)","v":"11485,82806"},11485,82806,"FORMAAL","899557"]
[{"$f":"CONCATENATE(B201,\",\",C201)","v":"11485,82807"},11485,82807,"FORMAAL","899558"]
[{"$f":"CONCATENATE(B202,\",\",C202)","v":"11497,82402"},11497,82402,"FORMAAL","11497,82402,FORM"]
[{"$f":"CONCATENATE(B203,\",\",C203)","v":"11543,82888"},11543,82888,"FORMAAL","11543,82888,FORM"]
[{"$f":"CONCATENATE(B204,\",\",C204)","v":"11546,82802"},11546,82802,"FORMAAL","11546,82802,FORM"]
[{"$f":"CONCATENATE(B205,\",\",C205)","v":"11547,82802"},11547,82802,"FORMAAL","11547,82802,FORM"]
[{"$f":"CONCATENATE(B206,\",\",C206)","v":"11576,82418"},11576,82418,"FORMAAL","899746"]
[{"$f":"CONCATENATE(B207,\",\",C207)","v":"11576,82419"},11576,82419,"FORMAAL","899747"]
[{"$f":"CONCATENATE(B208,\",\",C208)","v":"11576,82420"},11576,82420,"FORMAAL","899748"]
[{"$f":"CONCATENATE(B209,\",\",C209)","v":"11576,82421"},11576,82421,"FORMAAL","899749"]
[{"$f":"CONCATENATE(B210,\",\",C210)","v":"11576,82422"},11576,82422,"FORMAAL","899750"]
[{"$f":"CONCATENATE(B211,\",\",C211)","v":"11576,82423"},11576,82423,"FORMAAL","899751"]
[{"$f":"CONCATENATE(B212,\",\",C212)","v":"11576,82424"},11576,82424,"FORMAAL","899752"]
[{"$f":"CONCATENATE(B213,\",\",C213)","v":"11576,82425"},11576,82425,"FORMAAL","899753"]
[{"$f":"CONCATENATE(B214,\",\",C214)","v":"11576,82426"},11576,82426,"FORMAAL","899754"]
[{"$f":"CONCATENATE(B215,\",\",C215)","v":"11576,82430"},11576,82430,"FORMAAL","899755"]
[{"$f":"CONCATENATE(B216,\",\",C216)","v":"11576,82431"},11576,82431,"FORMAAL","899756"]
[{"$f":"CONCATENATE(B217,\",\",C217)","v":"11576,82432"},11576,82432,"FORMAAL","899757"]
[{"$f":"CONCATENATE(B218,\",\",C218)","v":"11576,82433"},11576,82433,"FORMAAL","899758"]
[{"$f":"CONCATENATE(B219,\",\",C219)","v":"11576,82451"},11576,82451,"FORMAAL","899338"]
[{"$f":"CONCATENATE(B220,\",\",C220)","v":"11576,82452"},11576,82452,"FORMAAL","899339"]
[{"$f":"CONCATENATE(B221,\",\",C221)","v":"11576,82454"},11576,82454,"FORMAAL","899221"]
[{"$f":"CONCATENATE(B222,\",\",C222)","v":"11576,82455"},11576,82455,"FORMAAL","899222"]
[{"$f":"CONCATENATE(B223,\",\",C223)","v":"11576,82456"},11576,82456,"FORMAAL","899223"]
[{"$f":"CONCATENATE(B224,\",\",C224)","v":"11576,82457"},11576,82457,"FORMAAL","899224"]
[{"$f":"CONCATENATE(B225,\",\",C225)","v":"11576,82458"},11576,82458,"FORMAAL","899340"]
[{"$f":"CONCATENATE(B226,\",\",C226)","v":"11576,82459"},11576,82459,"FORMAAL","899341"]
[{"$f":"CONCATENATE(B227,\",\",C227)","v":"11576,82502"},11576,82502,"FORMAAL","1037795"]
[{"$f":"CONCATENATE(B228,\",\",C228)","v":"11576,82503"},11576,82503,"FORMAAL","1037796"]
[{"$f":"CONCATENATE(B229,\",\",C229)","v":"11576,82504"},11576,82504,"FORMAAL","1037797"]
[{"$f":"CONCATENATE(B230,\",\",C230)","v":"11576,82505"},11576,82505,"FORMAAL","1037798"]
[{"$f":"CONCATENATE(B231,\",\",C231)","v":"11746,84000"},11746,84000,"FORMAAL","1003294"]
[{"$f":"CONCATENATE(B232,\",\",C232)","v":"11746,84001"},11746,84001,"FORMAAL","1003295"]
[{"$f":"CONCATENATE(B233,\",\",C233)","v":"11746,84002"},11746,84002,"FORMAAL","1003296"]
[{"$f":"CONCATENATE(B234,\",\",C234)","v":"11746,84003"},11746,84003,"FORMAAL","1003297"]
[{"$f":"CONCATENATE(B235,\",\",C235)","v":"11746,84004"},11746,84004,"FORMAAL","1003298"]
[{"$f":"CONCATENATE(B236,\",\",C236)","v":"11746,84005"},11746,84005,"FORMAAL","1003299"]
[{"$f":"CONCATENATE(B237,\",\",C237)","v":"11746,84006"},11746,84006,"FORMAAL","1003300"]
[{"$f":"CONCATENATE(B238,\",\",C238)","v":"11746,84007"},11746,84007,"FORMAAL","1003301"]
[{"$f":"CONCATENATE(B239,\",\",C239)","v":"11746,84008"},11746,84008,"FORMAAL","1003302"]
[{"$f":"CONCATENATE(B240,\",\",C240)","v":"11746,84009"},11746,84009,"FORMAAL","1003303"]
[{"$f":"CONCATENATE(B241,\",\",C241)","v":"11746,84010"},11746,84010,"FORMAAL","1003304"]
[{"$f":"CONCATENATE(B242,\",\",C242)","v":"11746,84011"},11746,84011,"FORMAAL","1003305"]
[{"$f":"CONCATENATE(B243,\",\",C243)","v":"11746,84012"},11746,84012,"FORMAAL","1010067"]
[{"$f":"CONCATENATE(B244,\",\",C244)","v":"11746,84013"},11746,84013,"FORMAAL","1010068"]
[{"$f":"CONCATENATE(B245,\",\",C245)","v":"11746,84014"},11746,84014,"FORMAAL","1016408"]
[{"$f":"CONCATENATE(B246,\",\",C246)","v":"11746,84015"},11746,84015,"FORMAAL","1016409"]
[{"$f":"CONCATENATE(B247,\",\",C247)","v":"11746,84016"},11746,84016,"FORMAAL","1017160"]
[{"$f":"CONCATENATE(B248,\",\",C248)","v":"11746,84018"},11746,84018,"FORMAAL","1017161"]
[{"$f":"CONCATENATE(B249,\",\",C249)","v":"11746,84019"},11746,84019,"FORMAAL","1017162"]
[{"$f":"CONCATENATE(B250,\",\",C250)","v":"11746,84020"},11746,84020,"FORMAAL","1017163"]
[{"$f":"CONCATENATE(B251,\",\",C251)","v":"11746,84021"},11746,84021,"FORMAAL","1017164"]
[{"$f":"CONCATENATE(B252,\",\",C252)","v":"11746,84022"},11746,84022,"FORMAAL","1017165"]
[{"$f":"CONCATENATE(B253,\",\",C253)","v":"11746,84024"},11746,84024,"FORMAAL","1017167"]
[{"$f":"CONCATENATE(B254,\",\",C254)","v":"11746,84025"},11746,84025,"FORMAAL","1017697"]
[{"$f":"CONCATENATE(B255,\",\",C255)","v":"11746,84026"},11746,84026,"FORMAAL","11746,84026,FORM"]
[{"$f":"CONCATENATE(B256,\",\",C256)","v":"11746,84027"},11746,84027,"FORMAAL","11746,84027,FORM"]
[{"$f":"CONCATENATE(B257,\",\",C257)","v":"11746,84028"},11746,84028,"FORMAAL","11746,84028,FORM"]
[{"$f":"CONCATENATE(B258,\",\",C258)","v":"11789,59136"},11789,59136,"FORMAAL","1017247"]
[{"$f":"CONCATENATE(B259,\",\",C259)","v":"11791,59136"},11791,59136,"FORMAAL","1017245"]
[{"$f":"CONCATENATE(B260,\",\",C260)","v":"11794,59136"},11794,59136,"FORMAAL","1017246"]
[{"$f":"CONCATENATE(B261,\",\",C261)","v":"11795,59136"},11795,59136,"FORMAAL","1017248"]
[{"$f":"CONCATENATE(B262,\",\",C262)","v":"11803,59136"},11803,59136,"FORMAAL","1017255"]
[{"$f":"CONCATENATE(B263,\",\",C263)","v":"11804,59136"},11804,59136,"FORMAAL","1017254"]
[{"$f":"CONCATENATE(B264,\",\",C264)","v":"11808,59136"},11808,59136,"FORMAAL","1017256"]
[{"$f":"CONCATENATE(B265,\",\",C265)","v":"11936,21101"},11936,21101,"FORMAAL","1021075"]
[{"$f":"CONCATENATE(B266,\",\",C266)","v":"11936,21202"},11936,21202,"FORMAAL","1021082"]
[{"$f":"CONCATENATE(B267,\",\",C267)","v":"11936,21203"},11936,21203,"FORMAAL","1021078"]
[{"$f":"CONCATENATE(B268,\",\",C268)","v":"11936,21302"},11936,21302,"FORMAAL","1021080"]
[{"$f":"CONCATENATE(B269,\",\",C269)","v":"11936,21303"},11936,21303,"FORMAAL","1021079"]
[{"$f":"CONCATENATE(B270,\",\",C270)","v":"11936,21304"},11936,21304,"FORMAAL","1021081"]
[{"$f":"CONCATENATE(B271,\",\",C271)","v":"11936,21305"},11936,21305,"FORMAAL","1021077"]
[{"$f":"CONCATENATE(B272,\",\",C272)","v":"11936,21701"},11936,21701,"FORMAAL","1021084"]
[{"$f":"CONCATENATE(B273,\",\",C273)","v":"11936,21801"},11936,21801,"FORMAAL","1021083"]
[{"$f":"CONCATENATE(B274,\",\",C274)","v":"11936,26102"},11936,26102,"FORMAAL","1021076"]
[{"$f":"CONCATENATE(B275,\",\",C275)","v":"11954,59037"},11954,59037,"FORMAAL","1037838"]
[{"$f":"CONCATENATE(B276,\",\",C276)","v":"11954,59039"},11954,59039,"FORMAAL","11954,59039,FORM"]
[{"$f":"CONCATENATE(B277,\",\",C277)","v":"11954,59040"},11954,59040,"FORMAAL","11954,59040,FORM"]
[{"$f":"CONCATENATE(B278,\",\",C278)","v":"12073,31105"},12073,31105,"FORMAAL","1017982"]
[{"$f":"CONCATENATE(B279,\",\",C279)","v":"12073,33110"},12073,33110,"FORMAAL","1001404"]
[{"$f":"CONCATENATE(B280,\",\",C280)","v":"12073,33111"},12073,33111,"FORMAAL","12073,33111,FORM"]
[{"$f":"CONCATENATE(B281,\",\",C281)","v":"12073,33903"},12073,33903,"FORMAAL","1013649"]
[{"$f":"CONCATENATE(B282,\",\",C282)","v":"12073,33904"},12073,33904,"FORMAAL","1016041"]
[{"$f":"CONCATENATE(B283,\",\",C283)","v":"12073,33905"},12073,33905,"FORMAAL","1016042"]
[{"$f":"CONCATENATE(B284,\",\",C284)","v":"12073,77887"},12073,77887,"FORMAAL","12073,77887,FORM"]
[{"$f":"CONCATENATE(B285,\",\",C285)","v":"12073,77997"},12073,77997,"FORMAAL","12073,77997,FORM"]
[{"$f":"CONCATENATE(B286,\",\",C286)","v":"12073,98101"},12073,98101,"FORMAAL","1000683"]
[{"$f":"CONCATENATE(B287,\",\",C287)","v":"12086,32201"},12086,32201,"FORMAAL","1010709"]
[{"$f":"CONCATENATE(B288,\",\",C288)","v":"12086,32202"},12086,32202,"FORMAAL","1010724"]
[{"$f":"CONCATENATE(B289,\",\",C289)","v":"12086,32203"},12086,32203,"FORMAAL","1010725"]
[{"$f":"CONCATENATE(B290,\",\",C290)","v":"12086,32204"},12086,32204,"FORMAAL","1010726"]
[{"$f":"CONCATENATE(B291,\",\",C291)","v":"12086,32205"},12086,32205,"FORMAAL","1010727"]
[{"$f":"CONCATENATE(B292,\",\",C292)","v":"12086,32206"},12086,32206,"FORMAAL","1010710"]
[{"$f":"CONCATENATE(B293,\",\",C293)","v":"12086,32207"},12086,32207,"FORMAAL","1010728"]
[{"$f":"CONCATENATE(B294,\",\",C294)","v":"12086,32208"},12086,32208,"FORMAAL","1010729"]
[{"$f":"CONCATENATE(B295,\",\",C295)","v":"12086,32209"},12086,32209,"FORMAAL","1010730"]
[{"$f":"CONCATENATE(B296,\",\",C296)","v":"12086,32210"},12086,32210,"FORMAAL","1010731"]
[{"$f":"CONCATENATE(B297,\",\",C297)","v":"12086,32211"},12086,32211,"FORMAAL","1010711"]
[{"$f":"CONCATENATE(B298,\",\",C298)","v":"12086,32212"},12086,32212,"FORMAAL","1010732"]
[{"$f":"CONCATENATE(B299,\",\",C299)","v":"12086,32213"},12086,32213,"FORMAAL","1010733"]
[{"$f":"CONCATENATE(B300,\",\",C300)","v":"12086,32214"},12086,32214,"FORMAAL","1010734"]
[{"$f":"CONCATENATE(B301,\",\",C301)","v":"12086,32215"},12086,32215,"FORMAAL","1010735"]
[{"$f":"CONCATENATE(B302,\",\",C302)","v":"12086,32216"},12086,32216,"FORMAAL","1010736"]
[{"$f":"CONCATENATE(B303,\",\",C303)","v":"12086,32217"},12086,32217,"FORMAAL","1010737"]
[{"$f":"CONCATENATE(B304,\",\",C304)","v":"12086,32218"},12086,32218,"FORMAAL","1010738"]
[{"$f":"CONCATENATE(B305,\",\",C305)","v":"12086,32219"},12086,32219,"FORMAAL","1010739"]
[{"$f":"CONCATENATE(B306,\",\",C306)","v":"12086,32220"},12086,32220,"FORMAAL","1010712"]
[{"$f":"CONCATENATE(B307,\",\",C307)","v":"12086,32221"},12086,32221,"FORMAAL","1010713"]
[{"$f":"CONCATENATE(B308,\",\",C308)","v":"12086,32222"},12086,32222,"FORMAAL","1010714"]
[{"$f":"CONCATENATE(B309,\",\",C309)","v":"12086,32223"},12086,32223,"FORMAAL","1010740"]
[{"$f":"CONCATENATE(B310,\",\",C310)","v":"12086,32224"},12086,32224,"FORMAAL","1010715"]
[{"$f":"CONCATENATE(B311,\",\",C311)","v":"12086,32225"},12086,32225,"FORMAAL","1010741"]
[{"$f":"CONCATENATE(B312,\",\",C312)","v":"12086,32226"},12086,32226,"FORMAAL","1010742"]
[{"$f":"CONCATENATE(B313,\",\",C313)","v":"12086,32227"},12086,32227,"FORMAAL","1010743"]
[{"$f":"CONCATENATE(B314,\",\",C314)","v":"12086,32228"},12086,32228,"FORMAAL","1010744"]
[{"$f":"CONCATENATE(B315,\",\",C315)","v":"12086,32229"},12086,32229,"FORMAAL","1010745"]
[{"$f":"CONCATENATE(B316,\",\",C316)","v":"12086,32230"},12086,32230,"FORMAAL","1010746"]
[{"$f":"CONCATENATE(B317,\",\",C317)","v":"12086,32231"},12086,32231,"FORMAAL","1010716"]
[{"$f":"CONCATENATE(B318,\",\",C318)","v":"12086,32232"},12086,32232,"FORMAAL","1010747"]
[{"$f":"CONCATENATE(B319,\",\",C319)","v":"12086,32233"},12086,32233,"FORMAAL","1010748"]
[{"$f":"CONCATENATE(B320,\",\",C320)","v":"12086,32234"},12086,32234,"FORMAAL","1010749"]
[{"$f":"CONCATENATE(B321,\",\",C321)","v":"12086,32235"},12086,32235,"FORMAAL","1010750"]
[{"$f":"CONCATENATE(B322,\",\",C322)","v":"12086,32236"},12086,32236,"FORMAAL","1010751"]
[{"$f":"CONCATENATE(B323,\",\",C323)","v":"12086,32237"},12086,32237,"FORMAAL","1010752"]
[{"$f":"CONCATENATE(B324,\",\",C324)","v":"12086,32238"},12086,32238,"FORMAAL","1010753"]
[{"$f":"CONCATENATE(B325,\",\",C325)","v":"12086,32239"},12086,32239,"FORMAAL","1010754"]
[{"$f":"CONCATENATE(B326,\",\",C326)","v":"12086,32240"},12086,32240,"FORMAAL","1010755"]
[{"$f":"CONCATENATE(B327,\",\",C327)","v":"12086,32241"},12086,32241,"FORMAAL","1010717"]
[{"$f":"CONCATENATE(B328,\",\",C328)","v":"12086,32242"},12086,32242,"FORMAAL","1010718"]
[{"$f":"CONCATENATE(B329,\",\",C329)","v":"12086,32243"},12086,32243,"FORMAAL","1010719"]
[{"$f":"CONCATENATE(B330,\",\",C330)","v":"12086,32244"},12086,32244,"FORMAAL","1010756"]
[{"$f":"CONCATENATE(B331,\",\",C331)","v":"12086,32245"},12086,32245,"FORMAAL","1010757"]
[{"$f":"CONCATENATE(B332,\",\",C332)","v":"12086,32246"},12086,32246,"FORMAAL","1010758"]
[{"$f":"CONCATENATE(B333,\",\",C333)","v":"12086,32247"},12086,32247,"FORMAAL","1010759"]
[{"$f":"CONCATENATE(B334,\",\",C334)","v":"12086,32248"},12086,32248,"FORMAAL","1010720"]
[{"$f":"CONCATENATE(B335,\",\",C335)","v":"12086,32249"},12086,32249,"FORMAAL","1010721"]
[{"$f":"CONCATENATE(B336,\",\",C336)","v":"12086,32251"},12086,32251,"FORMAAL","1010760"]
[{"$f":"CONCATENATE(B337,\",\",C337)","v":"12086,32252"},12086,32252,"FORMAAL","1010761"]
[{"$f":"CONCATENATE(B338,\",\",C338)","v":"12086,32253"},12086,32253,"FORMAAL","1010762"]
[{"$f":"CONCATENATE(B339,\",\",C339)","v":"12086,32254"},12086,32254,"FORMAAL","1010763"]
[{"$f":"CONCATENATE(B340,\",\",C340)","v":"12086,32256"},12086,32256,"FORMAAL","1010722"]
[{"$f":"CONCATENATE(B341,\",\",C341)","v":"12086,32273"},12086,32273,"FORMAAL","1010764"]
[{"$f":"CONCATENATE(B342,\",\",C342)","v":"12086,32274"},12086,32274,"FORMAAL","1010765"]
[{"$f":"CONCATENATE(B343,\",\",C343)","v":"12086,32275"},12086,32275,"FORMAAL","1010766"]
[{"$f":"CONCATENATE(B344,\",\",C344)","v":"12086,32278"},12086,32278,"FORMAAL","1010767"]
[{"$f":"CONCATENATE(B345,\",\",C345)","v":"12086,32279"},12086,32279,"FORMAAL","1010768"]
[{"$f":"CONCATENATE(B346,\",\",C346)","v":"12086,32291"},12086,32291,"FORMAAL","1010769"]
[{"$f":"CONCATENATE(B347,\",\",C347)","v":"12086,32292"},12086,32292,"FORMAAL","1010770"]
[{"$f":"CONCATENATE(B348,\",\",C348)","v":"12086,32294"},12086,32294,"FORMAAL","1010771"]
[{"$f":"CONCATENATE(B349,\",\",C349)","v":"12086,32300"},12086,32300,"FORMAAL","1010772"]
[{"$f":"CONCATENATE(B350,\",\",C350)","v":"12086,32301"},12086,32301,"FORMAAL","1010773"]
[{"$f":"CONCATENATE(B351,\",\",C351)","v":"12086,32302"},12086,32302,"FORMAAL","1010774"]
[{"$f":"CONCATENATE(B352,\",\",C352)","v":"12086,32303"},12086,32303,"FORMAAL","1010775"]
[{"$f":"CONCATENATE(B353,\",\",C353)","v":"12086,32304"},12086,32304,"FORMAAL","1010776"]
[{"$f":"CONCATENATE(B354,\",\",C354)","v":"12086,32305"},12086,32305,"FORMAAL","1010777"]
[{"$f":"CONCATENATE(B355,\",\",C355)","v":"12086,32306"},12086,32306,"FORMAAL","1010778"]
[{"$f":"CONCATENATE(B356,\",\",C356)","v":"12086,32307"},12086,32307,"FORMAAL","1010723"]
[{"$f":"CONCATENATE(B357,\",\",C357)","v":"12086,32308"},12086,32308,"FORMAAL","1010779"]
[{"$f":"CONCATENATE(B358,\",\",C358)","v":"12086,32360"},12086,32360,"FORMAAL","1010780"]
[{"$f":"CONCATENATE(B359,\",\",C359)","v":"12086,32361"},12086,32361,"FORMAAL","1010781"]
[{"$f":"CONCATENATE(B360,\",\",C360)","v":"12086,32363"},12086,32363,"FORMAAL","1010782"]
[{"$f":"CONCATENATE(B361,\",\",C361)","v":"12086,32364"},12086,32364,"FORMAAL","1010783"]
[{"$f":"CONCATENATE(B362,\",\",C362)","v":"12086,32365"},12086,32365,"FORMAAL","1010784"]
[{"$f":"CONCATENATE(B363,\",\",C363)","v":"12086,32366"},12086,32366,"FORMAAL","1010785"]
[{"$f":"CONCATENATE(B364,\",\",C364)","v":"12086,32367"},12086,32367,"FORMAAL","1010786"]
[{"$f":"CONCATENATE(B365,\",\",C365)","v":"12086,32368"},12086,32368,"FORMAAL","1010787"]
[{"$f":"CONCATENATE(B366,\",\",C366)","v":"12086,32369"},12086,32369,"FORMAAL","1010788"]
[{"$f":"CONCATENATE(B367,\",\",C367)","v":"12086,32370"},12086,32370,"FORMAAL","1010789"]
[{"$f":"CONCATENATE(B368,\",\",C368)","v":"12086,32383"},12086,32383,"FORMAAL","1010790"]
[{"$f":"CONCATENATE(B369,\",\",C369)","v":"12086,32404"},12086,32404,"FORMAAL","1010791"]
[{"$f":"CONCATENATE(B370,\",\",C370)","v":"12086,32405"},12086,32405,"FORMAAL","1010792"]
[{"$f":"CONCATENATE(B371,\",\",C371)","v":"12086,32406"},12086,32406,"FORMAAL","1010793"]
[{"$f":"CONCATENATE(B372,\",\",C372)","v":"12086,32409"},12086,32409,"FORMAAL","1013576"]
[{"$f":"CONCATENATE(B373,\",\",C373)","v":"12086,32410"},12086,32410,"FORMAAL","1013577"]
[{"$f":"CONCATENATE(B374,\",\",C374)","v":"12086,32411"},12086,32411,"FORMAAL","1013578"]
[{"$f":"CONCATENATE(B375,\",\",C375)","v":"12086,32412"},12086,32412,"FORMAAL","1017148"]
[{"$f":"CONCATENATE(B376,\",\",C376)","v":"12086,32413"},12086,32413,"FORMAAL","1017736"]
[{"$f":"CONCATENATE(B377,\",\",C377)","v":"12086,32414"},12086,32414,"FORMAAL","1017724"]
[{"$f":"CONCATENATE(B378,\",\",C378)","v":"12086,32415"},12086,32415,"FORMAAL","1017738"]
[{"$f":"CONCATENATE(B379,\",\",C379)","v":"12086,32416"},12086,32416,"FORMAAL","1017726"]
[{"$f":"CONCATENATE(B380,\",\",C380)","v":"12086,32417"},12086,32417,"FORMAAL","12086,32417,FORM"]
[{"$f":"CONCATENATE(B381,\",\",C381)","v":"12086,32418"},12086,32418,"FORMAAL","12086,32418,FORM"]
[{"$f":"CONCATENATE(B382,\",\",C382)","v":"12086,32419"},12086,32419,"FORMAAL","12086,32419,FORM"]
[{"$f":"CONCATENATE(B383,\",\",C383)","v":"12086,32420"},12086,32420,"FORMAAL","12086,32420,FORM"]
[{"$f":"CONCATENATE(B384,\",\",C384)","v":"12086,32421"},12086,32421,"FORMAAL","12086,32421,FORM"]
[{"$f":"CONCATENATE(B385,\",\",C385)","v":"12086,32422"},12086,32422,"FORMAAL","12086,32422,FORM"]
[{"$f":"CONCATENATE(B386,\",\",C386)","v":"12086,32423"},12086,32423,"FORMAAL","12086,32423,FORM"]
[{"$f":"CONCATENATE(B387,\",\",C387)","v":"12086,32424"},12086,32424,"FORMAAL","12086,32424,FORM"]
[{"$f":"CONCATENATE(B388,\",\",C388)","v":"12086,32425"},12086,32425,"FORMAAL","12086,32425,FORM"]
[{"$f":"CONCATENATE(B389,\",\",C389)","v":"12086,32426"},12086,32426,"FORMAAL","12086,32426,FORM"]
[{"$f":"CONCATENATE(B390,\",\",C390)","v":"12086,32427"},12086,32427,"FORMAAL","12086,32427,FORM"]
[{"$f":"CONCATENATE(B391,\",\",C391)","v":"12086,32428"},12086,32428,"FORMAAL","12086,32428,FORM"]
[{"$f":"CONCATENATE(B392,\",\",C392)","v":"12086,32429"},12086,32429,"FORMAAL","12086,32429,FORM"]
[{"$f":"CONCATENATE(B393,\",\",C393)","v":"12097,91777"},12097,91777,"FORMAAL","1016896"]
[{"$f":"CONCATENATE(B394,\",\",C394)","v":"12100,82206"},12100,82206,"FORMAAL","896552"]
[{"$f":"CONCATENATE(B395,\",\",C395)","v":"12100,82207"},12100,82207,"FORMAAL","896553"]
[{"$f":"CONCATENATE(B396,\",\",C396)","v":"12100,82209"},12100,82209,"FORMAAL","12100,82209,FORM"]
[{"$f":"CONCATENATE(B397,\",\",C397)","v":"12100,82210"},12100,82210,"FORMAAL","12100,82210,FORM"]
[{"$f":"CONCATENATE(B398,\",\",C398)","v":"12101,82206"},12101,82206,"FORMAAL","896554"]
[{"$f":"CONCATENATE(B399,\",\",C399)","v":"12101,82207"},12101,82207,"FORMAAL","896555"]
[{"$f":"CONCATENATE(B400,\",\",C400)","v":"12102,82206"},12102,82206,"FORMAAL","896556"]
[{"$f":"CONCATENATE(B401,\",\",C401)","v":"12102,82207"},12102,82207,"FORMAAL","896557"]
[{"$f":"CONCATENATE(B402,\",\",C402)","v":"12102,82209"},12102,82209,"FORMAAL","12102,82209,FORM"]
[{"$f":"CONCATENATE(B403,\",\",C403)","v":"12102,82210"},12102,82210,"FORMAAL","12102,82210,FORM"]
[{"$f":"CONCATENATE(B404,\",\",C404)","v":"12103,82206"},12103,82206,"FORMAAL","896558"]
[{"$f":"CONCATENATE(B405,\",\",C405)","v":"12103,82207"},12103,82207,"FORMAAL","896559"]
[{"$f":"CONCATENATE(B406,\",\",C406)","v":"12103,82209"},12103,82209,"FORMAAL","12103,82209,FORM"]
[{"$f":"CONCATENATE(B407,\",\",C407)","v":"12103,82210"},12103,82210,"FORMAAL","12103,82210,FORM"]
[{"$f":"CONCATENATE(B408,\",\",C408)","v":"12133,56202"},12133,56202,"FORMAAL","12133,56202,FORM"]
[{"$f":"CONCATENATE(B409,\",\",C409)","v":"12134,56202"},12134,56202,"FORMAAL","12134,56202,FORM"]
[{"$f":"CONCATENATE(B410,\",\",C410)","v":"12166,56202"},12166,56202,"FORMAAL","12166,56202,FORM"]
[{"$f":"CONCATENATE(B411,\",\",C411)","v":"12277,82755"},12277,82755,"FORMAAL","1014164"]
[{"$f":"CONCATENATE(B412,\",\",C412)","v":"12280,82440"},12280,82440,"FORMAAL","12280,82440,FORM"]
[{"$f":"CONCATENATE(B413,\",\",C413)","v":"12281,82067"},12281,82067,"FORMAAL","12281,82067,FORM"]
[{"$f":"CONCATENATE(B414,\",\",C414)","v":"12282,81102"},12282,81102,"FORMAAL","1002947"]
[{"$f":"CONCATENATE(B415,\",\",C415)","v":"12282,81752"},12282,81752,"FORMAAL","12282,81752,FORM"]
[{"$f":"CONCATENATE(B416,\",\",C416)","v":"12282,86101"},12282,86101,"FORMAAL","1020415"]
[{"$f":"CONCATENATE(B417,\",\",C417)","v":"12282,91102"},12282,91102,"FORMAAL","12282,91102,FORM"]
[{"$f":"CONCATENATE(B418,\",\",C418)","v":"12384,82724"},12384,82724,"FORMAAL","898648"]
[{"$f":"CONCATENATE(B419,\",\",C419)","v":"12386,82106"},12386,82106,"FORMAAL","1005500"]
[{"$f":"CONCATENATE(B420,\",\",C420)","v":"12386,82107"},12386,82107,"FORMAAL","1017653"]
[{"$f":"CONCATENATE(B421,\",\",C421)","v":"12386,82724"},12386,82724,"FORMAAL","898649"]
[{"$f":"CONCATENATE(B422,\",\",C422)","v":"12387,82109"},12387,82109,"FORMAAL","1019297"]
[{"$f":"CONCATENATE(B423,\",\",C423)","v":"12387,82718"},12387,82718,"FORMAAL","12387,82718,FORM"]
[{"$f":"CONCATENATE(B424,\",\",C424)","v":"12387,82724"},12387,82724,"FORMAAL","898650"]
[{"$f":"CONCATENATE(B425,\",\",C425)","v":"12427,81602"},12427,81602,"FORMAAL","12427,81602,FORM"]
[{"$f":"CONCATENATE(B426,\",\",C426)","v":"12427,81603"},12427,81603,"FORMAAL","12427,81603,FORM"]
[{"$f":"CONCATENATE(B427,\",\",C427)","v":"12427,81604"},12427,81604,"FORMAAL","12427,81604,FORM"]
[{"$f":"CONCATENATE(B428,\",\",C428)","v":"12436,91777"},12436,91777,"FORMAAL","1016897"]
[{"$f":"CONCATENATE(B429,\",\",C429)","v":"12437,91777"},12437,91777,"FORMAAL","1016898"]
[{"$f":"CONCATENATE(B430,\",\",C430)","v":"12438,91777"},12438,91777,"FORMAAL","1016899"]
[{"$f":"CONCATENATE(B431,\",\",C431)","v":"12561,33999"},12561,33999,"FORMAAL","12561,33999,FORM"]
[{"$f":"CONCATENATE(B432,\",\",C432)","v":"12561,34049"},12561,34049,"FORMAAL","12561,34049,FORM"]
[{"$f":"CONCATENATE(B433,\",\",C433)","v":"12561,34050"},12561,34050,"FORMAAL","12561,34050,FORM"]
[{"$f":"CONCATENATE(B434,\",\",C434)","v":"12561,34066"},12561,34066,"FORMAAL","12561,34066,FORM"]
[{"$f":"CONCATENATE(B435,\",\",C435)","v":"12561,34067"},12561,34067,"FORMAAL","12561,34067,FORM"]
[{"$f":"CONCATENATE(B436,\",\",C436)","v":"12561,34081"},12561,34081,"FORMAAL","12561,34081,FORM"]
[{"$f":"CONCATENATE(B437,\",\",C437)","v":"12561,34086"},12561,34086,"FORMAAL","12561,34086,FORM"]
[{"$f":"CONCATENATE(B438,\",\",C438)","v":"12561,34093"},12561,34093,"FORMAAL","12561,34093,FORM"]
[{"$f":"CONCATENATE(B439,\",\",C439)","v":"12561,34094"},12561,34094,"FORMAAL","12561,34094,FORM"]
[{"$f":"CONCATENATE(B440,\",\",C440)","v":"12561,34096"},12561,34096,"FORMAAL","12561,34096,FORM"]
[{"$f":"CONCATENATE(B441,\",\",C441)","v":"12561,34104"},12561,34104,"FORMAAL","12561,34104,FORM"]
[{"$f":"CONCATENATE(B442,\",\",C442)","v":"12561,34108"},12561,34108,"FORMAAL","12561,34108,FORM"]
[{"$f":"CONCATENATE(B443,\",\",C443)","v":"12561,34110"},12561,34110,"FORMAAL","12561,34110,FORM"]
[{"$f":"CONCATENATE(B444,\",\",C444)","v":"12561,34111"},12561,34111,"FORMAAL","12561,34111,FORM"]
[{"$f":"CONCATENATE(B445,\",\",C445)","v":"12561,34113"},12561,34113,"FORMAAL","12561,34113,FORM"]
[{"$f":"CONCATENATE(B446,\",\",C446)","v":"12561,34114"},12561,34114,"FORMAAL","12561,34114,FORM"]
[{"$f":"CONCATENATE(B447,\",\",C447)","v":"12561,34115"},12561,34115,"FORMAAL","12561,34115,FORM"]
[{"$f":"CONCATENATE(B448,\",\",C448)","v":"12561,34118"},12561,34118,"FORMAAL","12561,34118,FORM"]
[{"$f":"CONCATENATE(B449,\",\",C449)","v":"12561,34119"},12561,34119,"FORMAAL","12561,34119,FORM"]
[{"$f":"CONCATENATE(B450,\",\",C450)","v":"12561,34122"},12561,34122,"FORMAAL","12561,34122,FORM"]
[{"$f":"CONCATENATE(B451,\",\",C451)","v":"12561,34123"},12561,34123,"FORMAAL","12561,34123,FORM"]
[{"$f":"CONCATENATE(B452,\",\",C452)","v":"12561,34124"},12561,34124,"FORMAAL","12561,34124,FORM"]
[{"$f":"CONCATENATE(B453,\",\",C453)","v":"12561,34126"},12561,34126,"FORMAAL","12561,34126,FORM"]
[{"$f":"CONCATENATE(B454,\",\",C454)","v":"12561,34130"},12561,34130,"FORMAAL","12561,34130,FORM"]
[{"$f":"CONCATENATE(B455,\",\",C455)","v":"12561,34132"},12561,34132,"FORMAAL","12561,34132,FORM"]
[{"$f":"CONCATENATE(B456,\",\",C456)","v":"12561,34134"},12561,34134,"FORMAAL","12561,34134,FORM"]
[{"$f":"CONCATENATE(B457,\",\",C457)","v":"12561,34135"},12561,34135,"FORMAAL","12561,34135,FORM"]
[{"$f":"CONCATENATE(B458,\",\",C458)","v":"12561,34136"},12561,34136,"FORMAAL","12561,34136,FORM"]
[{"$f":"CONCATENATE(B459,\",\",C459)","v":"12561,34137"},12561,34137,"FORMAAL","12561,34137,FORM"]
[{"$f":"CONCATENATE(B460,\",\",C460)","v":"12561,34138"},12561,34138,"FORMAAL","12561,34138,FORM"]
[{"$f":"CONCATENATE(B461,\",\",C461)","v":"12561,34139"},12561,34139,"FORMAAL","895197"]
[{"$f":"CONCATENATE(B462,\",\",C462)","v":"12561,34140"},12561,34140,"FORMAAL","895198"]
[{"$f":"CONCATENATE(B463,\",\",C463)","v":"12561,34141"},12561,34141,"FORMAAL","898664"]
[{"$f":"CONCATENATE(B464,\",\",C464)","v":"12561,34142"},12561,34142,"FORMAAL","901004"]
[{"$f":"CONCATENATE(B465,\",\",C465)","v":"12561,34143"},12561,34143,"FORMAAL","901005"]
[{"$f":"CONCATENATE(B466,\",\",C466)","v":"12561,34145"},12561,34145,"FORMAAL","1002189"]
[{"$f":"CONCATENATE(B467,\",\",C467)","v":"12561,34146"},12561,34146,"FORMAAL","1002190"]
[{"$f":"CONCATENATE(B468,\",\",C468)","v":"12561,34147"},12561,34147,"FORMAAL","1002191"]
[{"$f":"CONCATENATE(B469,\",\",C469)","v":"12561,34148"},12561,34148,"FORMAAL","1003156"]
[{"$f":"CONCATENATE(B470,\",\",C470)","v":"12561,34149"},12561,34149,"FORMAAL","1003157"]
[{"$f":"CONCATENATE(B471,\",\",C471)","v":"12561,34150"},12561,34150,"FORMAAL","1003158"]
[{"$f":"CONCATENATE(B472,\",\",C472)","v":"12561,34151"},12561,34151,"FORMAAL","1003159"]
[{"$f":"CONCATENATE(B473,\",\",C473)","v":"12561,34152"},12561,34152,"FORMAAL","1012234"]
[{"$f":"CONCATENATE(B474,\",\",C474)","v":"12561,34153"},12561,34153,"FORMAAL","1012235"]
[{"$f":"CONCATENATE(B475,\",\",C475)","v":"12561,34154"},12561,34154,"FORMAAL","1012236"]
[{"$f":"CONCATENATE(B476,\",\",C476)","v":"12561,34155"},12561,34155,"FORMAAL","1012237"]
[{"$f":"CONCATENATE(B477,\",\",C477)","v":"12561,34156"},12561,34156,"FORMAAL","1012238"]
[{"$f":"CONCATENATE(B478,\",\",C478)","v":"12561,34157"},12561,34157,"FORMAAL","1014313"]
[{"$f":"CONCATENATE(B479,\",\",C479)","v":"12561,34158"},12561,34158,"FORMAAL","1014314"]
[{"$f":"CONCATENATE(B480,\",\",C480)","v":"12561,34159"},12561,34159,"FORMAAL","1014315"]
[{"$f":"CONCATENATE(B481,\",\",C481)","v":"12561,34160"},12561,34160,"FORMAAL","1014316"]
[{"$f":"CONCATENATE(B482,\",\",C482)","v":"12561,34161"},12561,34161,"FORMAAL","1015176"]
[{"$f":"CONCATENATE(B483,\",\",C483)","v":"12561,34162"},12561,34162,"FORMAAL","1015177"]
[{"$f":"CONCATENATE(B484,\",\",C484)","v":"12561,34163"},12561,34163,"FORMAAL","1015178"]
[{"$f":"CONCATENATE(B485,\",\",C485)","v":"12561,34164"},12561,34164,"FORMAAL","1015179"]
[{"$f":"CONCATENATE(B486,\",\",C486)","v":"12561,34165"},12561,34165,"FORMAAL","1015584"]
[{"$f":"CONCATENATE(B487,\",\",C487)","v":"12561,34166"},12561,34166,"FORMAAL","1015585"]
[{"$f":"CONCATENATE(B488,\",\",C488)","v":"12561,34167"},12561,34167,"FORMAAL","1016511"]
[{"$f":"CONCATENATE(B489,\",\",C489)","v":"12561,34168"},12561,34168,"FORMAAL","1016512"]
[{"$f":"CONCATENATE(B490,\",\",C490)","v":"12561,34169"},12561,34169,"FORMAAL","1016513"]
[{"$f":"CONCATENATE(B491,\",\",C491)","v":"12561,34170"},12561,34170,"FORMAAL","1016514"]
[{"$f":"CONCATENATE(B492,\",\",C492)","v":"12561,34171"},12561,34171,"FORMAAL","1016515"]
[{"$f":"CONCATENATE(B493,\",\",C493)","v":"12561,34172"},12561,34172,"FORMAAL","1016516"]
[{"$f":"CONCATENATE(B494,\",\",C494)","v":"12561,34173"},12561,34173,"FORMAAL","1016517"]
[{"$f":"CONCATENATE(B495,\",\",C495)","v":"12561,34174"},12561,34174,"FORMAAL","1017799"]
[{"$f":"CONCATENATE(B496,\",\",C496)","v":"12561,34175"},12561,34175,"FORMAAL","1017800"]
[{"$f":"CONCATENATE(B497,\",\",C497)","v":"12561,34176"},12561,34176,"FORMAAL","1017801"]
[{"$f":"CONCATENATE(B498,\",\",C498)","v":"12561,34177"},12561,34177,"FORMAAL","1017802"]
[{"$f":"CONCATENATE(B499,\",\",C499)","v":"12561,34178"},12561,34178,"FORMAAL","1018800"]
[{"$f":"CONCATENATE(B500,\",\",C500)","v":"12561,34179"},12561,34179,"FORMAAL","1018801"]
[{"$f":"CONCATENATE(B501,\",\",C501)","v":"12561,34180"},12561,34180,"FORMAAL","1018802"]
[{"$f":"CONCATENATE(B502,\",\",C502)","v":"12561,34181"},12561,34181,"FORMAAL","1018803"]
[{"$f":"CONCATENATE(B503,\",\",C503)","v":"12561,34182"},12561,34182,"FORMAAL","1018804"]
[{"$f":"CONCATENATE(B504,\",\",C504)","v":"12561,34183"},12561,34183,"FORMAAL","1018847"]
[{"$f":"CONCATENATE(B505,\",\",C505)","v":"12561,34184"},12561,34184,"FORMAAL","1018848"]
[{"$f":"CONCATENATE(B506,\",\",C506)","v":"12561,34185"},12561,34185,"FORMAAL","1018849"]
[{"$f":"CONCATENATE(B507,\",\",C507)","v":"12561,34186"},12561,34186,"FORMAAL","1018850"]
[{"$f":"CONCATENATE(B508,\",\",C508)","v":"12561,34187"},12561,34187,"FORMAAL","1018851"]
[{"$f":"CONCATENATE(B509,\",\",C509)","v":"12561,34188"},12561,34188,"FORMAAL","1018852"]
[{"$f":"CONCATENATE(B510,\",\",C510)","v":"12561,34189"},12561,34189,"FORMAAL","1018853"]
[{"$f":"CONCATENATE(B511,\",\",C511)","v":"12561,34190"},12561,34190,"FORMAAL","1018854"]
[{"$f":"CONCATENATE(B512,\",\",C512)","v":"12561,34191"},12561,34191,"FORMAAL","1018855"]
[{"$f":"CONCATENATE(B513,\",\",C513)","v":"12561,34192"},12561,34192,"FORMAAL","1018856"]
[{"$f":"CONCATENATE(B514,\",\",C514)","v":"12561,34193"},12561,34193,"FORMAAL","1018857"]
[{"$f":"CONCATENATE(B515,\",\",C515)","v":"12561,34194"},12561,34194,"FORMAAL","1018858"]
[{"$f":"CONCATENATE(B516,\",\",C516)","v":"12561,34195"},12561,34195,"FORMAAL","1018859"]
[{"$f":"CONCATENATE(B517,\",\",C517)","v":"12561,34196"},12561,34196,"FORMAAL","1018860"]
[{"$f":"CONCATENATE(B518,\",\",C518)","v":"12561,34197"},12561,34197,"FORMAAL","1018861"]
[{"$f":"CONCATENATE(B519,\",\",C519)","v":"12561,34198"},12561,34198,"FORMAAL","1018862"]
[{"$f":"CONCATENATE(B520,\",\",C520)","v":"12561,34199"},12561,34199,"FORMAAL","1018863"]
[{"$f":"CONCATENATE(B521,\",\",C521)","v":"12561,34200"},12561,34200,"FORMAAL","1018864"]
[{"$f":"CONCATENATE(B522,\",\",C522)","v":"12561,34201"},12561,34201,"FORMAAL","1018865"]
[{"$f":"CONCATENATE(B523,\",\",C523)","v":"12561,34202"},12561,34202,"FORMAAL","1018866"]
[{"$f":"CONCATENATE(B524,\",\",C524)","v":"12561,34203"},12561,34203,"FORMAAL","1018867"]
[{"$f":"CONCATENATE(B525,\",\",C525)","v":"12561,34204"},12561,34204,"FORMAAL","1018868"]
[{"$f":"CONCATENATE(B526,\",\",C526)","v":"12561,34205"},12561,34205,"FORMAAL","1018869"]
[{"$f":"CONCATENATE(B527,\",\",C527)","v":"12561,34206"},12561,34206,"FORMAAL","1018870"]
[{"$f":"CONCATENATE(B528,\",\",C528)","v":"12561,34207"},12561,34207,"FORMAAL","1018871"]
[{"$f":"CONCATENATE(B529,\",\",C529)","v":"12561,34208"},12561,34208,"FORMAAL","1018872"]
[{"$f":"CONCATENATE(B530,\",\",C530)","v":"12561,34209"},12561,34209,"FORMAAL","1018873"]
[{"$f":"CONCATENATE(B531,\",\",C531)","v":"12561,34210"},12561,34210,"FORMAAL","1018874"]
[{"$f":"CONCATENATE(B532,\",\",C532)","v":"12561,34211"},12561,34211,"FORMAAL","1018875"]
[{"$f":"CONCATENATE(B533,\",\",C533)","v":"12561,34212"},12561,34212,"FORMAAL","1018876"]
[{"$f":"CONCATENATE(B534,\",\",C534)","v":"12561,34213"},12561,34213,"FORMAAL","1018877"]
[{"$f":"CONCATENATE(B535,\",\",C535)","v":"12561,34214"},12561,34214,"FORMAAL","1018878"]
[{"$f":"CONCATENATE(B536,\",\",C536)","v":"12561,34215"},12561,34215,"FORMAAL","12561,34215,FORMAAL"]
[{"$f":"CONCATENATE(B537,\",\",C537)","v":"12561,34216"},12561,34216,"FORMAAL","12561,34216,FORMAAL"]
[{"$f":"CONCATENATE(B538,\",\",C538)","v":"12561,34217"},12561,34217,"FORMAAL","12561,34217,FORMAAL"]
[{"$f":"CONCATENATE(B539,\",\",C539)","v":"12561,34218"},12561,34218,"FORMAAL","12561,34218,FORMAAL"]
[{"$f":"CONCATENATE(B540,\",\",C540)","v":"12561,34219"},12561,34219,"FORMAAL","12561,34219,FORMAAL"]
[{"$f":"CONCATENATE(B541,\",\",C541)","v":"12561,34220"},12561,34220,"FORMAAL","12561,34220,FORMAAL"]
[{"$f":"CONCATENATE(B542,\",\",C542)","v":"12561,34221"},12561,34221,"FORMAAL","12561,34221,FORMAAL"]
[{"$f":"CONCATENATE(B543,\",\",C543)","v":"12561,34222"},12561,34222,"FORMAAL","12561,34222,FORMAAL"]
[{"$f":"CONCATENATE(B544,\",\",C544)","v":"12561,34223"},12561,34223,"FORMAAL","12561,34223,FORMAAL"]
[{"$f":"CONCATENATE(B545,\",\",C545)","v":"12561,34224"},12561,34224,"FORMAAL","12561,34224,FORMAAL"]
[{"$f":"CONCATENATE(B546,\",\",C546)","v":"12561,34225"},12561,34225,"FORMAAL","12561,34225,FORMAAL"]
[{"$f":"CONCATENATE(B547,\",\",C547)","v":"12561,34226"},12561,34226,"FORMAAL","12561,34226,FORMAAL"]
[{"$f":"CONCATENATE(B548,\",\",C548)","v":"12561,34227"},12561,34227,"FORMAAL","12561,34227,FORMAAL"]
[{"$f":"CONCATENATE(B549,\",\",C549)","v":"12561,34228"},12561,34228,"FORMAAL","12561,34228,FORMAAL"]
[{"$f":"CONCATENATE(B550,\",\",C550)","v":"12561,34229"},12561,34229,"FORMAAL","12561,34229,FORMAAL"]
[{"$f":"CONCATENATE(B551,\",\",C551)","v":"12561,34230"},12561,34230,"FORMAAL","12561,34230,FORMAAL"]
[{"$f":"CONCATENATE(B552,\",\",C552)","v":"12561,34231"},12561,34231,"FORMAAL","12561,34231,FORMAAL"]
[{"$f":"CONCATENATE(B553,\",\",C553)","v":"12561,34232"},12561,34232,"FORMAAL","12561,34232,FORMAAL"]
[{"$f":"CONCATENATE(B554,\",\",C554)","v":"12561,34233"},12561,34233,"FORMAAL","12561,34233,FORMAAL"]
[{"$f":"CONCATENATE(B555,\",\",C555)","v":"12561,34234"},12561,34234,"FORMAAL","12561,34234,FORMAAL"]
[{"$f":"CONCATENATE(B556,\",\",C556)","v":"12561,34235"},12561,34235,"FORMAAL","12561,34235,FORMAAL"]
[{"$f":"CONCATENATE(B557,\",\",C557)","v":"12561,34236"},12561,34236,"FORMAAL","12561,34236,FORMAAL"]
[{"$f":"CONCATENATE(B558,\",\",C558)","v":"12561,34237"},12561,34237,"FORMAAL","12561,34237,FORMAAL"]
[{"$f":"CONCATENATE(B559,\",\",C559)","v":"12561,34238"},12561,34238,"FORMAAL","12561,34238,FORMAAL"]
[{"$f":"CONCATENATE(B560,\",\",C560)","v":"12561,34239"},12561,34239,"FORMAAL","12561,34239,FORMAAL"]
[{"$f":"CONCATENATE(B561,\",\",C561)","v":"12561,34240"},12561,34240,"FORMAAL","12561,34240,FORMAAL"]
[{"$f":"CONCATENATE(B562,\",\",C562)","v":"12561,34241"},12561,34241,"FORMAAL","12561,34241,FORMAAL"]
[{"$f":"CONCATENATE(B563,\",\",C563)","v":"12561,34242"},12561,34242,"FORMAAL","12561,34242,FORMAAL"]
[{"$f":"CONCATENATE(B564,\",\",C564)","v":"12561,34243"},12561,34243,"FORMAAL","12561,34243,FORMAAL"]
[{"$f":"CONCATENATE(B565,\",\",C565)","v":"12561,34244"},12561,34244,"FORMAAL","12561,34244,FORMAAL"]
[{"$f":"CONCATENATE(B566,\",\",C566)","v":"12561,34245"},12561,34245,"FORMAAL","12561,34245,FORMAAL"]
[{"$f":"CONCATENATE(B567,\",\",C567)","v":"12561,34246"},12561,34246,"FORMAAL","12561,34246,FORMAAL"]
[{"$f":"CONCATENATE(B568,\",\",C568)","v":"12561,34247"},12561,34247,"FORMAAL","12561,34247,FORMAAL"]
[{"$f":"CONCATENATE(B569,\",\",C569)","v":"12561,34248"},12561,34248,"FORMAAL","12561,34248,FORMAAL"]
[{"$f":"CONCATENATE(B570,\",\",C570)","v":"12561,34249"},12561,34249,"FORMAAL","12561,34249,FORMAAL"]
[{"$f":"CONCATENATE(B571,\",\",C571)","v":"12561,34250"},12561,34250,"FORMAAL","12561,34250,FORMAAL"]
[{"$f":"CONCATENATE(B572,\",\",C572)","v":"12561,34251"},12561,34251,"FORMAAL","12561,34251,FORM"]
[{"$f":"CONCATENATE(B573,\",\",C573)","v":"12561,34252"},12561,34252,"FORMAAL","12561,34252,FORM"]
[{"$f":"CONCATENATE(B574,\",\",C574)","v":"12561,34253"},12561,34253,"FORMAAL","12561,34253,FORM"]
[{"$f":"CONCATENATE(B575,\",\",C575)","v":"12561,34254"},12561,34254,"FORMAAL","12561,34254,FORM"]
[{"$f":"CONCATENATE(B576,\",\",C576)","v":"12561,34255"},12561,34255,"FORMAAL","12561,34255,FORM"]
[{"$f":"CONCATENATE(B577,\",\",C577)","v":"12561,34256"},12561,34256,"FORMAAL","12561,34256,FORM"]
[{"$f":"CONCATENATE(B578,\",\",C578)","v":"12561,34257"},12561,34257,"FORMAAL","12561,34257,FORM"]
[{"$f":"CONCATENATE(B579,\",\",C579)","v":"12561,34258"},12561,34258,"FORMAAL","12561,34258,FORM"]
[{"$f":"CONCATENATE(B580,\",\",C580)","v":"12561,34259"},12561,34259,"FORMAAL","12561,34259,FORM"]
[{"$f":"CONCATENATE(B581,\",\",C581)","v":"12561,34260"},12561,34260,"FORMAAL","12561,34260,FORM"]
[{"$f":"CONCATENATE(B582,\",\",C582)","v":"12561,34261"},12561,34261,"FORMAAL","12561,34261,FORM"]
[{"$f":"CONCATENATE(B583,\",\",C583)","v":"12561,34262"},12561,34262,"FORMAAL","12561,34262,FORM"]
[{"$f":"CONCATENATE(B584,\",\",C584)","v":"12561,34263"},12561,34263,"FORMAAL","12561,34263,FORM"]
[{"$f":"CONCATENATE(B585,\",\",C585)","v":"12561,34264"},12561,34264,"FORMAAL","12561,34264,FORM"]
[{"$f":"CONCATENATE(B586,\",\",C586)","v":"12561,34265"},12561,34265,"FORMAAL","12561,34265,FORM"]
[{"$f":"CONCATENATE(B587,\",\",C587)","v":"12561,34266"},12561,34266,"FORMAAL","12561,34266,FORM"]
[{"$f":"CONCATENATE(B588,\",\",C588)","v":"12561,34267"},12561,34267,"FORMAAL","12561,34267,FORM"]
[{"$f":"CONCATENATE(B589,\",\",C589)","v":"12561,34268"},12561,34268,"FORMAAL","12561,34268,FORM"]
[{"$f":"CONCATENATE(B590,\",\",C590)","v":"12561,34269"},12561,34269,"FORMAAL","12561,34269,FORM"]
[{"$f":"CONCATENATE(B591,\",\",C591)","v":"12561,34270"},12561,34270,"FORMAAL","12561,34270,FORM"]
[{"$f":"CONCATENATE(B592,\",\",C592)","v":"12561,34271"},12561,34271,"FORMAAL","12561,34271,FORM"]
[{"$f":"CONCATENATE(B593,\",\",C593)","v":"12561,34272"},12561,34272,"FORMAAL","12561,34272,FORM"]
[{"$f":"CONCATENATE(B594,\",\",C594)","v":"12561,34273"},12561,34273,"FORMAAL","12561,34273,FORM"]
[{"$f":"CONCATENATE(B595,\",\",C595)","v":"12561,34274"},12561,34274,"FORMAAL","12561,34274,FORM"]
[{"$f":"CONCATENATE(B596,\",\",C596)","v":"12561,34275"},12561,34275,"FORMAAL","12561,34275,FORM"]
[{"$f":"CONCATENATE(B597,\",\",C597)","v":"12561,34276"},12561,34276,"FORMAAL","12561,34276,FORM"]
[{"$f":"CONCATENATE(B598,\",\",C598)","v":"12561,34277"},12561,34277,"FORMAAL","12561,34277,FORM"]
[{"$f":"CONCATENATE(B599,\",\",C599)","v":"12561,34278"},12561,34278,"FORMAAL","12561,34278,FORM"]
[{"$f":"CONCATENATE(B600,\",\",C600)","v":"12561,34279"},12561,34279,"FORMAAL","12561,34279,FORM"]
[{"$f":"CONCATENATE(B601,\",\",C601)","v":"12561,34280"},12561,34280,"FORMAAL","12561,34280,FORM"]
[{"$f":"CONCATENATE(B602,\",\",C602)","v":"12561,34281"},12561,34281,"FORMAAL","12561,34281,FORM"]
[{"$f":"CONCATENATE(B603,\",\",C603)","v":"12561,34282"},12561,34282,"FORMAAL","12561,34282,FORM"]
[{"$f":"CONCATENATE(B604,\",\",C604)","v":"12561,34283"},12561,34283,"FORMAAL","12561,34283,FORM"]
[{"$f":"CONCATENATE(B605,\",\",C605)","v":"12561,34284"},12561,34284,"FORMAAL","12561,34284,FORM"]
[{"$f":"CONCATENATE(B606,\",\",C606)","v":"12561,34285"},12561,34285,"FORMAAL","12561,34285,FORM"]
[{"$f":"CONCATENATE(B607,\",\",C607)","v":"12561,34286"},12561,34286,"FORMAAL","12561,34286,FORM"]
[{"$f":"CONCATENATE(B608,\",\",C608)","v":"12561,34287"},12561,34287,"FORMAAL","12561,34287,FORM"]
[{"$f":"CONCATENATE(B609,\",\",C609)","v":"12561,34288"},12561,34288,"FORMAAL","12561,34288,FORM"]
[{"$f":"CONCATENATE(B610,\",\",C610)","v":"12561,34289"},12561,34289,"FORMAAL","12561,34289,FORM"]
[{"$f":"CONCATENATE(B611,\",\",C611)","v":"12561,34290"},12561,34290,"FORMAAL","12561,34290,FORM"]
[{"$f":"CONCATENATE(B612,\",\",C612)","v":"12561,34291"},12561,34291,"FORMAAL","12561,34291,FORM"]
[{"$f":"CONCATENATE(B613,\",\",C613)","v":"12561,34292"},12561,34292,"FORMAAL","12561,34292,FORM"]
[{"$f":"CONCATENATE(B614,\",\",C614)","v":"12561,34293"},12561,34293,"FORMAAL","12561,34293,FORM"]
[{"$f":"CONCATENATE(B615,\",\",C615)","v":"12561,34294"},12561,34294,"FORMAAL","12561,34294,FORM"]
[{"$f":"CONCATENATE(B616,\",\",C616)","v":"12561,34295"},12561,34295,"FORMAAL","12561,34295,FORM"]
[{"$f":"CONCATENATE(B617,\",\",C617)","v":"12561,34296"},12561,34296,"FORMAAL","12561,34296,FORM"]
[{"$f":"CONCATENATE(B618,\",\",C618)","v":"12561,34297"},12561,34297,"FORMAAL","12561,34297,FORM"]
[{"$f":"CONCATENATE(B619,\",\",C619)","v":"12561,34298"},12561,34298,"FORMAAL","12561,34298,FORM"]
[{"$f":"CONCATENATE(B620,\",\",C620)","v":"12561,34299"},12561,34299,"FORMAAL","12561,34299,FORM"]
[{"$f":"CONCATENATE(B621,\",\",C621)","v":"12561,34300"},12561,34300,"FORMAAL","12561,34300,FORM"]
[{"$f":"CONCATENATE(B622,\",\",C622)","v":"12561,34301"},12561,34301,"FORMAAL","12561,34301,FORM"]
[{"$f":"CONCATENATE(B623,\",\",C623)","v":"12561,34302"},12561,34302,"FORMAAL","12561,34302,FORM"]
[{"$f":"CONCATENATE(B624,\",\",C624)","v":"12561,34303"},12561,34303,"FORMAAL","12561,34303,FORM"]
[{"$f":"CONCATENATE(B625,\",\",C625)","v":"12561,34304"},12561,34304,"FORMAAL","12561,34304,FORM"]
[{"$f":"CONCATENATE(B626,\",\",C626)","v":"12561,34305"},12561,34305,"FORMAAL","12561,34305,FORM"]
[{"$f":"CONCATENATE(B627,\",\",C627)","v":"12561,34306"},12561,34306,"FORMAAL","12561,34306,FORM"]
[{"$f":"CONCATENATE(B628,\",\",C628)","v":"12561,34307"},12561,34307,"FORMAAL","12561,34307,FORM"]
[{"$f":"CONCATENATE(B629,\",\",C629)","v":"12561,34308"},12561,34308,"FORMAAL","12561,34308,FORM"]
[{"$f":"CONCATENATE(B630,\",\",C630)","v":"12561,34309"},12561,34309,"FORMAAL","12561,34309,FORM"]
[{"$f":"CONCATENATE(B631,\",\",C631)","v":"12561,34310"},12561,34310,"FORMAAL","12561,34310,FORM"]
[{"$f":"CONCATENATE(B632,\",\",C632)","v":"12561,34311"},12561,34311,"FORMAAL","12561,34311,FORM"]
[{"$f":"CONCATENATE(B633,\",\",C633)","v":"12561,34312"},12561,34312,"FORMAAL","12561,34312,FORM"]
[{"$f":"CONCATENATE(B634,\",\",C634)","v":"12561,34313"},12561,34313,"FORMAAL","12561,34313,FORM"]
[{"$f":"CONCATENATE(B635,\",\",C635)","v":"12561,34314"},12561,34314,"FORMAAL","12561,34314,FORM"]
[{"$f":"CONCATENATE(B636,\",\",C636)","v":"12561,34315"},12561,34315,"FORMAAL","12561,34315,FORM"]
[{"$f":"CONCATENATE(B637,\",\",C637)","v":"12561,34316"},12561,34316,"FORMAAL","12561,34316,FORM"]
[{"$f":"CONCATENATE(B638,\",\",C638)","v":"12561,34317"},12561,34317,"FORMAAL","12561,34317,FORM"]
[{"$f":"CONCATENATE(B639,\",\",C639)","v":"12561,34318"},12561,34318,"FORMAAL","12561,34318,FORM"]
[{"$f":"CONCATENATE(B640,\",\",C640)","v":"12561,34319"},12561,34319,"FORMAAL","12561,34319,FORM"]
[{"$f":"CONCATENATE(B641,\",\",C641)","v":"12561,34320"},12561,34320,"FORMAAL","12561,34320,FORM"]
[{"$f":"CONCATENATE(B642,\",\",C642)","v":"12561,34321"},12561,34321,"FORMAAL","12561,34321,FORM"]
[{"$f":"CONCATENATE(B643,\",\",C643)","v":"12561,34322"},12561,34322,"FORMAAL","12561,34322,FORM"]
[{"$f":"CONCATENATE(B644,\",\",C644)","v":"12561,34323"},12561,34323,"FORMAAL","12561,34323,FORM"]
[{"$f":"CONCATENATE(B645,\",\",C645)","v":"12561,34324"},12561,34324,"FORMAAL","12561,34324,FORM"]
[{"$f":"CONCATENATE(B646,\",\",C646)","v":"12561,34325"},12561,34325,"FORMAAL","12561,34325,FORM"]
[{"$f":"CONCATENATE(B647,\",\",C647)","v":"12561,84016"},12561,84016,"FORMAAL","1016783"]
[{"$f":"CONCATENATE(B648,\",\",C648)","v":"12561,84020"},12561,84020,"FORMAAL","1016787"]
[{"$f":"CONCATENATE(B649,\",\",C649)","v":"12561,84021"},12561,84021,"FORMAAL","1016784"]
[{"$f":"CONCATENATE(B650,\",\",C650)","v":"12561,84023"},12561,84023,"FORMAAL","1016785"]
[{"$f":"CONCATENATE(B651,\",\",C651)","v":"12561,84024"},12561,84024,"FORMAAL","1016786"]
[{"$f":"CONCATENATE(B652,\",\",C652)","v":"12609,82419"},12609,82419,"FORMAAL","12609,82419,FORM"]
[{"$f":"CONCATENATE(B653,\",\",C653)","v":"12609,82420"},12609,82420,"FORMAAL","12609,82420,FORM"]
[{"$f":"CONCATENATE(B654,\",\",C654)","v":"12611,91777"},12611,91777,"FORMAAL","1016900"]
[{"$f":"CONCATENATE(B655,\",\",C655)","v":"12612,81101"},12612,81101,"FORMAAL","12612,81101,FORM"]
[{"$f":"CONCATENATE(B656,\",\",C656)","v":"12612,81111"},12612,81111,"FORMAAL","12612,81111,FORM"]
[{"$f":"CONCATENATE(B657,\",\",C657)","v":"12612,81201"},12612,81201,"FORMAAL","12612,81201,FORM"]
[{"$f":"CONCATENATE(B658,\",\",C658)","v":"12612,81301"},12612,81301,"FORMAAL","12612,81301,FORM"]
[{"$f":"CONCATENATE(B659,\",\",C659)","v":"12612,81401"},12612,81401,"FORMAAL","12612,81401,FORM"]
[{"$f":"CONCATENATE(B660,\",\",C660)","v":"12612,81501"},12612,81501,"FORMAAL","12612,81501,FORM"]
[{"$f":"CONCATENATE(B661,\",\",C661)","v":"12612,81601"},12612,81601,"FORMAAL","12612,81601,FORM"]
[{"$f":"CONCATENATE(B662,\",\",C662)","v":"12612,82101"},12612,82101,"FORMAAL","12612,82101,FORM"]
[{"$f":"CONCATENATE(B663,\",\",C663)","v":"12612,82201"},12612,82201,"FORMAAL","12612,82201,FORM"]
[{"$f":"CONCATENATE(B664,\",\",C664)","v":"12612,82301"},12612,82301,"FORMAAL","12612,82301,FORM"]
[{"$f":"CONCATENATE(B665,\",\",C665)","v":"12612,82401"},12612,82401,"FORMAAL","12612,82401,FORM"]
[{"$f":"CONCATENATE(B666,\",\",C666)","v":"12612,82501"},12612,82501,"FORMAAL","12612,82501,FORM"]
[{"$f":"CONCATENATE(B667,\",\",C667)","v":"12612,82601"},12612,82601,"FORMAAL","12612,82601,FORM"]
[{"$f":"CONCATENATE(B668,\",\",C668)","v":"12612,82701"},12612,82701,"FORMAAL","12612,82701,FORM"]
[{"$f":"CONCATENATE(B669,\",\",C669)","v":"12612,82801"},12612,82801,"FORMAAL","12612,82801,FORM"]
[{"$f":"CONCATENATE(B670,\",\",C670)","v":"12612,82901"},12612,82901,"FORMAAL","12612,82901,FORM"]
[{"$f":"CONCATENATE(B671,\",\",C671)","v":"12612,86101"},12612,86101,"FORMAAL","12612,86101,FORM"]
[{"$f":"CONCATENATE(B672,\",\",C672)","v":"12612,86201"},12612,86201,"FORMAAL","12612,86201,FORM"]
[{"$f":"CONCATENATE(B673,\",\",C673)","v":"12612,86301"},12612,86301,"FORMAAL","12612,86301,FORM"]
[{"$f":"CONCATENATE(B674,\",\",C674)","v":"12612,86401"},12612,86401,"FORMAAL","12612,86401,FORM"]
[{"$f":"CONCATENATE(B675,\",\",C675)","v":"12612,86999"},12612,86999,"FORMAAL","12612,86999,FORM"]
[{"$f":"CONCATENATE(B676,\",\",C676)","v":"12612,91101"},12612,91101,"FORMAAL","12612,91101,FORM"]
[{"$f":"CONCATENATE(B677,\",\",C677)","v":"12612,91777"},12612,91777,"FORMAAL","12612,91777,FORM"]
[{"$f":"CONCATENATE(B678,\",\",C678)","v":"12612,92101"},12612,92101,"FORMAAL","12612,92101,FORM"]
[{"$f":"CONCATENATE(B679,\",\",C679)","v":"12612,92201"},12612,92201,"FORMAAL","12612,92201,FORM"]
[{"$f":"CONCATENATE(B680,\",\",C680)","v":"12612,92301"},12612,92301,"FORMAAL","12612,92301,FORM"]
[{"$f":"CONCATENATE(B681,\",\",C681)","v":"12612,92401"},12612,92401,"FORMAAL","12612,92401,FORM"]
[{"$f":"CONCATENATE(B682,\",\",C682)","v":"12612,92711"},12612,92711,"FORMAAL","12612,92711,FORM"]
[{"$f":"CONCATENATE(B683,\",\",C683)","v":"12612,92712"},12612,92712,"FORMAAL","12612,92712,FORM"]
[{"$f":"CONCATENATE(B684,\",\",C684)","v":"12612,92801"},12612,92801,"FORMAAL","12612,92801,FORM"]
[{"$f":"CONCATENATE(B685,\",\",C685)","v":"12612,93001"},12612,93001,"FORMAAL","12612,93001,FORM"]
[{"$f":"CONCATENATE(B686,\",\",C686)","v":"12612,93511"},12612,93511,"FORMAAL","12612,93511,FORM"]
[{"$f":"CONCATENATE(B687,\",\",C687)","v":"12612,93611"},12612,93611,"FORMAAL","12612,93611,FORM"]
[{"$f":"CONCATENATE(B688,\",\",C688)","v":"12612,93711"},12612,93711,"FORMAAL","12612,93711,FORM"]
[{"$f":"CONCATENATE(B689,\",\",C689)","v":"12612,93777"},12612,93777,"FORMAAL","12612,93777,FORM"]
[{"$f":"CONCATENATE(B690,\",\",C690)","v":"12612,96101"},12612,96101,"FORMAAL","12612,96101,FORM"]
[{"$f":"CONCATENATE(B691,\",\",C691)","v":"12612,96102"},12612,96102,"FORMAAL","12612,96102,FORM"]
[{"$f":"CONCATENATE(B692,\",\",C692)","v":"12612,96498"},12612,96498,"FORMAAL","12612,96498,FORM"]
[{"$f":"CONCATENATE(B693,\",\",C693)","v":"12612,96501"},12612,96501,"FORMAAL","12612,96501,FORM"]
[{"$f":"CONCATENATE(B694,\",\",C694)","v":"12613,81101"},12613,81101,"FORMAAL","12613,81101,FORM"]
[{"$f":"CONCATENATE(B695,\",\",C695)","v":"12613,81111"},12613,81111,"FORMAAL","12613,81111,FORM"]
[{"$f":"CONCATENATE(B696,\",\",C696)","v":"12613,81201"},12613,81201,"FORMAAL","12613,81201,FORM"]
[{"$f":"CONCATENATE(B697,\",\",C697)","v":"12613,81301"},12613,81301,"FORMAAL","12613,81301,FORM"]
[{"$f":"CONCATENATE(B698,\",\",C698)","v":"12613,81401"},12613,81401,"FORMAAL","12613,81401,FORM"]
[{"$f":"CONCATENATE(B699,\",\",C699)","v":"12613,81501"},12613,81501,"FORMAAL","12613,81501,FORM"]
[{"$f":"CONCATENATE(B700,\",\",C700)","v":"12613,81601"},12613,81601,"FORMAAL","12613,81601,FORM"]
[{"$f":"CONCATENATE(B701,\",\",C701)","v":"12613,82101"},12613,82101,"FORMAAL","12613,82101,FORM"]
[{"$f":"CONCATENATE(B702,\",\",C702)","v":"12613,82201"},12613,82201,"FORMAAL","12613,82201,FORM"]
[{"$f":"CONCATENATE(B703,\",\",C703)","v":"12613,82301"},12613,82301,"FORMAAL","12613,82301,FORM"]
[{"$f":"CONCATENATE(B704,\",\",C704)","v":"12613,82401"},12613,82401,"FORMAAL","12613,82401,FORM"]
[{"$f":"CONCATENATE(B705,\",\",C705)","v":"12613,82501"},12613,82501,"FORMAAL","12613,82501,FORM"]
[{"$f":"CONCATENATE(B706,\",\",C706)","v":"12613,82601"},12613,82601,"FORMAAL","12613,82601,FORM"]
[{"$f":"CONCATENATE(B707,\",\",C707)","v":"12613,82701"},12613,82701,"FORMAAL","12613,82701,FORM"]
[{"$f":"CONCATENATE(B708,\",\",C708)","v":"12613,82801"},12613,82801,"FORMAAL","12613,82801,FORM"]
[{"$f":"CONCATENATE(B709,\",\",C709)","v":"12613,82901"},12613,82901,"FORMAAL","12613,82901,FORM"]
[{"$f":"CONCATENATE(B710,\",\",C710)","v":"12613,86101"},12613,86101,"FORMAAL","12613,86101,FORM"]
[{"$f":"CONCATENATE(B711,\",\",C711)","v":"12613,86201"},12613,86201,"FORMAAL","12613,86201,FORM"]
[{"$f":"CONCATENATE(B712,\",\",C712)","v":"12613,86301"},12613,86301,"FORMAAL","12613,86301,FORM"]
[{"$f":"CONCATENATE(B713,\",\",C713)","v":"12613,86401"},12613,86401,"FORMAAL","12613,86401,FORM"]
[{"$f":"CONCATENATE(B714,\",\",C714)","v":"12613,86999"},12613,86999,"FORMAAL","12613,86999,FORM"]
[{"$f":"CONCATENATE(B715,\",\",C715)","v":"12613,91101"},12613,91101,"FORMAAL","12613,91101,FORM"]
[{"$f":"CONCATENATE(B716,\",\",C716)","v":"12613,91777"},12613,91777,"FORMAAL","12613,91777,FORM"]
[{"$f":"CONCATENATE(B717,\",\",C717)","v":"12613,92101"},12613,92101,"FORMAAL","12613,92101,FORM"]
[{"$f":"CONCATENATE(B718,\",\",C718)","v":"12613,92201"},12613,92201,"FORMAAL","12613,92201,FORM"]
[{"$f":"CONCATENATE(B719,\",\",C719)","v":"12613,92301"},12613,92301,"FORMAAL","12613,92301,FORM"]
[{"$f":"CONCATENATE(B720,\",\",C720)","v":"12613,92401"},12613,92401,"FORMAAL","12613,92401,FORM"]
[{"$f":"CONCATENATE(B721,\",\",C721)","v":"12613,92711"},12613,92711,"FORMAAL","12613,92711,FORM"]
[{"$f":"CONCATENATE(B722,\",\",C722)","v":"12613,92712"},12613,92712,"FORMAAL","12613,92712,FORM"]
[{"$f":"CONCATENATE(B723,\",\",C723)","v":"12613,92801"},12613,92801,"FORMAAL","12613,92801,FORM"]
[{"$f":"CONCATENATE(B724,\",\",C724)","v":"12613,93001"},12613,93001,"FORMAAL","12613,93001,FORM"]
[{"$f":"CONCATENATE(B725,\",\",C725)","v":"12613,93511"},12613,93511,"FORMAAL","12613,93511,FORM"]
[{"$f":"CONCATENATE(B726,\",\",C726)","v":"12613,93611"},12613,93611,"FORMAAL","12613,93611,FORM"]
[{"$f":"CONCATENATE(B727,\",\",C727)","v":"12613,93711"},12613,93711,"FORMAAL","12613,93711,FORM"]
[{"$f":"CONCATENATE(B728,\",\",C728)","v":"12613,93777"},12613,93777,"FORMAAL","12613,93777,FORM"]
[{"$f":"CONCATENATE(B729,\",\",C729)","v":"12613,96101"},12613,96101,"FORMAAL","12613,96101,FORM"]
[{"$f":"CONCATENATE(B730,\",\",C730)","v":"12613,96102"},12613,96102,"FORMAAL","12613,96102,FORM"]
[{"$f":"CONCATENATE(B731,\",\",C731)","v":"12613,96498"},12613,96498,"FORMAAL","12613,96498,FORM"]
[{"$f":"CONCATENATE(B732,\",\",C732)","v":"12613,96501"},12613,96501,"FORMAAL","12613,96501,FORM"]
[{"$f":"CONCATENATE(B733,\",\",C733)","v":"12614,81101"},12614,81101,"FORMAAL","12614,81101,FORM"]
[{"$f":"CONCATENATE(B734,\",\",C734)","v":"12614,81111"},12614,81111,"FORMAAL","12614,81111,FORM"]
[{"$f":"CONCATENATE(B735,\",\",C735)","v":"12614,81201"},12614,81201,"FORMAAL","12614,81201,FORM"]
[{"$f":"CONCATENATE(B736,\",\",C736)","v":"12614,81301"},12614,81301,"FORMAAL","12614,81301,FORM"]
[{"$f":"CONCATENATE(B737,\",\",C737)","v":"12614,81401"},12614,81401,"FORMAAL","12614,81401,FORM"]
[{"$f":"CONCATENATE(B738,\",\",C738)","v":"12614,81501"},12614,81501,"FORMAAL","12614,81501,FORM"]
[{"$f":"CONCATENATE(B739,\",\",C739)","v":"12614,81601"},12614,81601,"FORMAAL","12614,81601,FORM"]
[{"$f":"CONCATENATE(B740,\",\",C740)","v":"12614,82101"},12614,82101,"FORMAAL","12614,82101,FORM"]
[{"$f":"CONCATENATE(B741,\",\",C741)","v":"12614,82201"},12614,82201,"FORMAAL","12614,82201,FORM"]
[{"$f":"CONCATENATE(B742,\",\",C742)","v":"12614,82301"},12614,82301,"FORMAAL","12614,82301,FORM"]
[{"$f":"CONCATENATE(B743,\",\",C743)","v":"12614,82401"},12614,82401,"FORMAAL","12614,82401,FORM"]
[{"$f":"CONCATENATE(B744,\",\",C744)","v":"12614,82501"},12614,82501,"FORMAAL","12614,82501,FORM"]
[{"$f":"CONCATENATE(B745,\",\",C745)","v":"12614,82601"},12614,82601,"FORMAAL","12614,82601,FORM"]
[{"$f":"CONCATENATE(B746,\",\",C746)","v":"12614,82701"},12614,82701,"FORMAAL","12614,82701,FORM"]
[{"$f":"CONCATENATE(B747,\",\",C747)","v":"12614,82801"},12614,82801,"FORMAAL","12614,82801,FORM"]
[{"$f":"CONCATENATE(B748,\",\",C748)","v":"12614,82901"},12614,82901,"FORMAAL","12614,82901,FORM"]
[{"$f":"CONCATENATE(B749,\",\",C749)","v":"12614,86101"},12614,86101,"FORMAAL","12614,86101,FORM"]
[{"$f":"CONCATENATE(B750,\",\",C750)","v":"12614,86201"},12614,86201,"FORMAAL","12614,86201,FORM"]
[{"$f":"CONCATENATE(B751,\",\",C751)","v":"12614,86301"},12614,86301,"FORMAAL","12614,86301,FORM"]
[{"$f":"CONCATENATE(B752,\",\",C752)","v":"12614,86401"},12614,86401,"FORMAAL","12614,86401,FORM"]
[{"$f":"CONCATENATE(B753,\",\",C753)","v":"12614,86999"},12614,86999,"FORMAAL","12614,86999,FORM"]
[{"$f":"CONCATENATE(B754,\",\",C754)","v":"12614,91101"},12614,91101,"FORMAAL","12614,91101,FORM"]
[{"$f":"CONCATENATE(B755,\",\",C755)","v":"12614,91777"},12614,91777,"FORMAAL","12614,91777,FORM"]
[{"$f":"CONCATENATE(B756,\",\",C756)","v":"12614,92101"},12614,92101,"FORMAAL","12614,92101,FORM"]
[{"$f":"CONCATENATE(B757,\",\",C757)","v":"12614,92201"},12614,92201,"FORMAAL","12614,92201,FORM"]
[{"$f":"CONCATENATE(B758,\",\",C758)","v":"12614,92301"},12614,92301,"FORMAAL","12614,92301,FORM"]
[{"$f":"CONCATENATE(B759,\",\",C759)","v":"12614,92401"},12614,92401,"FORMAAL","12614,92401,FORM"]
[{"$f":"CONCATENATE(B760,\",\",C760)","v":"12614,92711"},12614,92711,"FORMAAL","12614,92711,FORM"]
[{"$f":"CONCATENATE(B761,\",\",C761)","v":"12614,92712"},12614,92712,"FORMAAL","12614,92712,FORM"]
[{"$f":"CONCATENATE(B762,\",\",C762)","v":"12614,92801"},12614,92801,"FORMAAL","12614,92801,FORM"]
[{"$f":"CONCATENATE(B763,\",\",C763)","v":"12614,93001"},12614,93001,"FORMAAL","12614,93001,FORM"]
[{"$f":"CONCATENATE(B764,\",\",C764)","v":"12614,93511"},12614,93511,"FORMAAL","12614,93511,FORM"]
[{"$f":"CONCATENATE(B765,\",\",C765)","v":"12614,93611"},12614,93611,"FORMAAL","12614,93611,FORM"]
[{"$f":"CONCATENATE(B766,\",\",C766)","v":"12614,93711"},12614,93711,"FORMAAL","12614,93711,FORM"]
[{"$f":"CONCATENATE(B767,\",\",C767)","v":"12614,93777"},12614,93777,"FORMAAL","12614,93777,FORM"]
[{"$f":"CONCATENATE(B768,\",\",C768)","v":"12614,96101"},12614,96101,"FORMAAL","12614,96101,FORM"]
[{"$f":"CONCATENATE(B769,\",\",C769)","v":"12614,96102"},12614,96102,"FORMAAL","12614,96102,FORM"]
[{"$f":"CONCATENATE(B770,\",\",C770)","v":"12614,96498"},12614,96498,"FORMAAL","12614,96498,FORM"]
[{"$f":"CONCATENATE(B771,\",\",C771)","v":"12614,96501"},12614,96501,"FORMAAL","12614,96501,FORM"]
[{"$f":"CONCATENATE(B772,\",\",C772)","v":"12615,91777"},12615,91777,"FORMAAL","1016901"]
[{"$f":"CONCATENATE(B773,\",\",C773)","v":"12625,87001"},12625,87001,"FORMAAL","12625,87001,FORM"]
[{"$f":"CONCATENATE(B774,\",\",C774)","v":"12625,87002"},12625,87002,"FORMAAL","12625,87002,FORM"]
[{"$f":"CONCATENATE(B775,\",\",C775)","v":"12625,87004"},12625,87004,"FORMAAL","12625,87004,FORM"]
[{"$f":"CONCATENATE(B776,\",\",C776)","v":"12625,87005"},12625,87005,"FORMAAL","12625,87005,FORM"]
[{"$f":"CONCATENATE(B777,\",\",C777)","v":"12625,87006"},12625,87006,"FORMAAL","12625,87006,FORM"]
[{"$f":"CONCATENATE(B778,\",\",C778)","v":"12625,87009"},12625,87009,"FORMAAL","12625,87009,FORM"]
[{"$f":"CONCATENATE(B779,\",\",C779)","v":"12625,87010"},12625,87010,"FORMAAL","12625,87010,FORM"]
[{"$f":"CONCATENATE(B780,\",\",C780)","v":"12625,87012"},12625,87012,"FORMAAL","12625,87012,FORM"]
[{"$f":"CONCATENATE(B781,\",\",C781)","v":"12625,87014"},12625,87014,"FORMAAL","12625,87014,FORM"]
[{"$f":"CONCATENATE(B782,\",\",C782)","v":"12625,87015"},12625,87015,"FORMAAL","12625,87015,FORM"]
[{"$f":"CONCATENATE(B783,\",\",C783)","v":"12625,87016"},12625,87016,"FORMAAL","12625,87016,FORM"]
[{"$f":"CONCATENATE(B784,\",\",C784)","v":"12625,87019"},12625,87019,"FORMAAL","12625,87019,FORM"]
[{"$f":"CONCATENATE(B785,\",\",C785)","v":"12625,87025"},12625,87025,"FORMAAL","12625,87025,FORM"]
[{"$f":"CONCATENATE(B786,\",\",C786)","v":"12625,87035"},12625,87035,"FORMAAL","12625,87035,FORM"]
[{"$f":"CONCATENATE(B787,\",\",C787)","v":"12625,87045"},12625,87045,"FORMAAL","12625,87045,FORM"]
[{"$f":"CONCATENATE(B788,\",\",C788)","v":"12625,87050"},12625,87050,"FORMAAL","12625,87050,FORM"]
[{"$f":"CONCATENATE(B789,\",\",C789)","v":"12625,87052"},12625,87052,"FORMAAL","12625,87052,FORM"]
[{"$f":"CONCATENATE(B790,\",\",C790)","v":"12625,87054"},12625,87054,"FORMAAL","12625,87054,FORM"]
[{"$f":"CONCATENATE(B791,\",\",C791)","v":"12625,87055"},12625,87055,"FORMAAL","12625,87055,FORM"]
[{"$f":"CONCATENATE(B792,\",\",C792)","v":"12625,87056"},12625,87056,"FORMAAL","12625,87056,FORM"]
[{"$f":"CONCATENATE(B793,\",\",C793)","v":"12625,87059"},12625,87059,"FORMAAL","12625,87059,FORM"]
[{"$f":"CONCATENATE(B794,\",\",C794)","v":"12625,87060"},12625,87060,"FORMAAL","12625,87060,FORM"]
[{"$f":"CONCATENATE(B795,\",\",C795)","v":"12625,87062"},12625,87062,"FORMAAL","12625,87062,FORM"]
[{"$f":"CONCATENATE(B796,\",\",C796)","v":"12625,87064"},12625,87064,"FORMAAL","12625,87064,FORM"]
[{"$f":"CONCATENATE(B797,\",\",C797)","v":"12625,87065"},12625,87065,"FORMAAL","12625,87065,FORM"]
[{"$f":"CONCATENATE(B798,\",\",C798)","v":"12625,87066"},12625,87066,"FORMAAL","12625,87066,FORM"]
[{"$f":"CONCATENATE(B799,\",\",C799)","v":"12625,87069"},12625,87069,"FORMAAL","12625,87069,FORM"]
[{"$f":"CONCATENATE(B800,\",\",C800)","v":"12625,87070"},12625,87070,"FORMAAL","12625,87070,FORM"]
[{"$f":"CONCATENATE(B801,\",\",C801)","v":"12625,87072"},12625,87072,"FORMAAL","12625,87072,FORM"]
[{"$f":"CONCATENATE(B802,\",\",C802)","v":"12625,87074"},12625,87074,"FORMAAL","12625,87074,FORM"]
[{"$f":"CONCATENATE(B803,\",\",C803)","v":"12625,87075"},12625,87075,"FORMAAL","12625,87075,FORM"]
[{"$f":"CONCATENATE(B804,\",\",C804)","v":"12625,87076"},12625,87076,"FORMAAL","12625,87076,FORM"]
[{"$f":"CONCATENATE(B805,\",\",C805)","v":"12625,87079"},12625,87079,"FORMAAL","12625,87079,FORM"]
[{"$f":"CONCATENATE(B806,\",\",C806)","v":"12625,89049"},12625,89049,"FORMAAL","12625,89049,FORM"]
[{"$f":"CONCATENATE(B807,\",\",C807)","v":"12628,81101"},12628,81101,"FORMAAL","12628,81101,FORM"]
[{"$f":"CONCATENATE(B808,\",\",C808)","v":"12628,81111"},12628,81111,"FORMAAL","12628,81111,FORM"]
[{"$f":"CONCATENATE(B809,\",\",C809)","v":"12628,81201"},12628,81201,"FORMAAL","12628,81201,FORM"]
[{"$f":"CONCATENATE(B810,\",\",C810)","v":"12628,81301"},12628,81301,"FORMAAL","12628,81301,FORM"]
[{"$f":"CONCATENATE(B811,\",\",C811)","v":"12628,81401"},12628,81401,"FORMAAL","12628,81401,FORM"]
[{"$f":"CONCATENATE(B812,\",\",C812)","v":"12628,81501"},12628,81501,"FORMAAL","12628,81501,FORM"]
[{"$f":"CONCATENATE(B813,\",\",C813)","v":"12628,81601"},12628,81601,"FORMAAL","12628,81601,FORM"]
[{"$f":"CONCATENATE(B814,\",\",C814)","v":"12628,82101"},12628,82101,"FORMAAL","12628,82101,FORM"]
[{"$f":"CONCATENATE(B815,\",\",C815)","v":"12628,82201"},12628,82201,"FORMAAL","12628,82201,FORM"]
[{"$f":"CONCATENATE(B816,\",\",C816)","v":"12628,82301"},12628,82301,"FORMAAL","12628,82301,FORM"]
[{"$f":"CONCATENATE(B817,\",\",C817)","v":"12628,82401"},12628,82401,"FORMAAL","12628,82401,FORM"]
[{"$f":"CONCATENATE(B818,\",\",C818)","v":"12628,82501"},12628,82501,"FORMAAL","12628,82501,FORM"]
[{"$f":"CONCATENATE(B819,\",\",C819)","v":"12628,82601"},12628,82601,"FORMAAL","12628,82601,FORM"]
[{"$f":"CONCATENATE(B820,\",\",C820)","v":"12628,82701"},12628,82701,"FORMAAL","12628,82701,FORM"]
[{"$f":"CONCATENATE(B821,\",\",C821)","v":"12628,82801"},12628,82801,"FORMAAL","12628,82801,FORM"]
[{"$f":"CONCATENATE(B822,\",\",C822)","v":"12628,82901"},12628,82901,"FORMAAL","12628,82901,FORM"]
[{"$f":"CONCATENATE(B823,\",\",C823)","v":"12628,86101"},12628,86101,"FORMAAL","12628,86101,FORM"]
[{"$f":"CONCATENATE(B824,\",\",C824)","v":"12628,86201"},12628,86201,"FORMAAL","12628,86201,FORM"]
[{"$f":"CONCATENATE(B825,\",\",C825)","v":"12628,86301"},12628,86301,"FORMAAL","12628,86301,FORM"]
[{"$f":"CONCATENATE(B826,\",\",C826)","v":"12628,86401"},12628,86401,"FORMAAL","12628,86401,FORM"]
[{"$f":"CONCATENATE(B827,\",\",C827)","v":"12628,86999"},12628,86999,"FORMAAL","12628,86999,FORM"]
[{"$f":"CONCATENATE(B828,\",\",C828)","v":"12628,88886"},12628,88886,"FORMAAL","12628,88886,FORM"]
[{"$f":"CONCATENATE(B829,\",\",C829)","v":"12628,91101"},12628,91101,"FORMAAL","12628,91101,FORM"]
[{"$f":"CONCATENATE(B830,\",\",C830)","v":"12628,91777"},12628,91777,"FORMAAL","12628,91777,FORM"]
[{"$f":"CONCATENATE(B831,\",\",C831)","v":"12628,92101"},12628,92101,"FORMAAL","12628,92101,FORM"]
[{"$f":"CONCATENATE(B832,\",\",C832)","v":"12628,92201"},12628,92201,"FORMAAL","12628,92201,FORM"]
[{"$f":"CONCATENATE(B833,\",\",C833)","v":"12628,92301"},12628,92301,"FORMAAL","12628,92301,FORM"]
[{"$f":"CONCATENATE(B834,\",\",C834)","v":"12628,92401"},12628,92401,"FORMAAL","12628,92401,FORM"]
[{"$f":"CONCATENATE(B835,\",\",C835)","v":"12628,92711"},12628,92711,"FORMAAL","12628,92711,FORM"]
[{"$f":"CONCATENATE(B836,\",\",C836)","v":"12628,92712"},12628,92712,"FORMAAL","12628,92712,FORM"]
[{"$f":"CONCATENATE(B837,\",\",C837)","v":"12628,92801"},12628,92801,"FORMAAL","12628,92801,FORM"]
[{"$f":"CONCATENATE(B838,\",\",C838)","v":"12628,93001"},12628,93001,"FORMAAL","12628,93001,FORM"]
[{"$f":"CONCATENATE(B839,\",\",C839)","v":"12628,93511"},12628,93511,"FORMAAL","12628,93511,FORM"]
[{"$f":"CONCATENATE(B840,\",\",C840)","v":"12628,93611"},12628,93611,"FORMAAL","12628,93611,FORM"]
[{"$f":"CONCATENATE(B841,\",\",C841)","v":"12628,93711"},12628,93711,"FORMAAL","12628,93711,FORM"]
[{"$f":"CONCATENATE(B842,\",\",C842)","v":"12628,93777"},12628,93777,"FORMAAL","12628,93777,FORM"]
[{"$f":"CONCATENATE(B843,\",\",C843)","v":"12628,96101"},12628,96101,"FORMAAL","12628,96101,FORM"]
[{"$f":"CONCATENATE(B844,\",\",C844)","v":"12628,96102"},12628,96102,"FORMAAL","12628,96102,FORM"]
[{"$f":"CONCATENATE(B845,\",\",C845)","v":"12628,96498"},12628,96498,"FORMAAL","12628,96498,FORM"]
[{"$f":"CONCATENATE(B846,\",\",C846)","v":"12628,96501"},12628,96501,"FORMAAL","12628,96501,FORM"]
[{"$f":"CONCATENATE(B847,\",\",C847)","v":"12629,81101"},12629,81101,"FORMAAL","12629,81101,FORM"]
[{"$f":"CONCATENATE(B848,\",\",C848)","v":"12629,81111"},12629,81111,"FORMAAL","12629,81111,FORM"]
[{"$f":"CONCATENATE(B849,\",\",C849)","v":"12629,81201"},12629,81201,"FORMAAL","12629,81201,FORM"]
[{"$f":"CONCATENATE(B850,\",\",C850)","v":"12629,81301"},12629,81301,"FORMAAL","12629,81301,FORM"]
[{"$f":"CONCATENATE(B851,\",\",C851)","v":"12629,81401"},12629,81401,"FORMAAL","12629,81401,FORM"]
[{"$f":"CONCATENATE(B852,\",\",C852)","v":"12629,81501"},12629,81501,"FORMAAL","12629,81501,FORM"]
[{"$f":"CONCATENATE(B853,\",\",C853)","v":"12629,81601"},12629,81601,"FORMAAL","12629,81601,FORM"]
[{"$f":"CONCATENATE(B854,\",\",C854)","v":"12629,82101"},12629,82101,"FORMAAL","12629,82101,FORM"]
[{"$f":"CONCATENATE(B855,\",\",C855)","v":"12629,82201"},12629,82201,"FORMAAL","12629,82201,FORM"]
[{"$f":"CONCATENATE(B856,\",\",C856)","v":"12629,82301"},12629,82301,"FORMAAL","12629,82301,FORM"]
[{"$f":"CONCATENATE(B857,\",\",C857)","v":"12629,82401"},12629,82401,"FORMAAL","12629,82401,FORM"]
[{"$f":"CONCATENATE(B858,\",\",C858)","v":"12629,82501"},12629,82501,"FORMAAL","12629,82501,FORM"]
[{"$f":"CONCATENATE(B859,\",\",C859)","v":"12629,82601"},12629,82601,"FORMAAL","12629,82601,FORM"]
[{"$f":"CONCATENATE(B860,\",\",C860)","v":"12629,82701"},12629,82701,"FORMAAL","12629,82701,FORM"]
[{"$f":"CONCATENATE(B861,\",\",C861)","v":"12629,82801"},12629,82801,"FORMAAL","12629,82801,FORM"]
[{"$f":"CONCATENATE(B862,\",\",C862)","v":"12629,82901"},12629,82901,"FORMAAL","12629,82901,FORM"]
[{"$f":"CONCATENATE(B863,\",\",C863)","v":"12629,86101"},12629,86101,"FORMAAL","12629,86101,FORM"]
[{"$f":"CONCATENATE(B864,\",\",C864)","v":"12629,86201"},12629,86201,"FORMAAL","12629,86201,FORM"]
[{"$f":"CONCATENATE(B865,\",\",C865)","v":"12629,86301"},12629,86301,"FORMAAL","12629,86301,FORM"]
[{"$f":"CONCATENATE(B866,\",\",C866)","v":"12629,86401"},12629,86401,"FORMAAL","12629,86401,FORM"]
[{"$f":"CONCATENATE(B867,\",\",C867)","v":"12629,86999"},12629,86999,"FORMAAL","12629,86999,FORM"]
[{"$f":"CONCATENATE(B868,\",\",C868)","v":"12629,88886"},12629,88886,"FORMAAL","12629,88886,FORM"]
[{"$f":"CONCATENATE(B869,\",\",C869)","v":"12629,91101"},12629,91101,"FORMAAL","12629,91101,FORM"]
[{"$f":"CONCATENATE(B870,\",\",C870)","v":"12629,91777"},12629,91777,"FORMAAL","12629,91777,FORM"]
[{"$f":"CONCATENATE(B871,\",\",C871)","v":"12629,92101"},12629,92101,"FORMAAL","12629,92101,FORM"]
[{"$f":"CONCATENATE(B872,\",\",C872)","v":"12629,92201"},12629,92201,"FORMAAL","12629,92201,FORM"]
[{"$f":"CONCATENATE(B873,\",\",C873)","v":"12629,92301"},12629,92301,"FORMAAL","12629,92301,FORM"]
[{"$f":"CONCATENATE(B874,\",\",C874)","v":"12629,92401"},12629,92401,"FORMAAL","12629,92401,FORM"]
[{"$f":"CONCATENATE(B875,\",\",C875)","v":"12629,92711"},12629,92711,"FORMAAL","12629,92711,FORM"]
[{"$f":"CONCATENATE(B876,\",\",C876)","v":"12629,92712"},12629,92712,"FORMAAL","12629,92712,FORM"]
[{"$f":"CONCATENATE(B877,\",\",C877)","v":"12629,92801"},12629,92801,"FORMAAL","12629,92801,FORM"]
[{"$f":"CONCATENATE(B878,\",\",C878)","v":"12629,93001"},12629,93001,"FORMAAL","12629,93001,FORM"]
[{"$f":"CONCATENATE(B879,\",\",C879)","v":"12629,93511"},12629,93511,"FORMAAL","12629,93511,FORM"]
[{"$f":"CONCATENATE(B880,\",\",C880)","v":"12629,93611"},12629,93611,"FORMAAL","12629,93611,FORM"]
[{"$f":"CONCATENATE(B881,\",\",C881)","v":"12629,93711"},12629,93711,"FORMAAL","12629,93711,FORM"]
[{"$f":"CONCATENATE(B882,\",\",C882)","v":"12629,93777"},12629,93777,"FORMAAL","12629,93777,FORM"]
[{"$f":"CONCATENATE(B883,\",\",C883)","v":"12629,96101"},12629,96101,"FORMAAL","12629,96101,FORM"]
[{"$f":"CONCATENATE(B884,\",\",C884)","v":"12629,96102"},12629,96102,"FORMAAL","12629,96102,FORM"]
[{"$f":"CONCATENATE(B885,\",\",C885)","v":"12629,96498"},12629,96498,"FORMAAL","12629,96498,FORM"]
[{"$f":"CONCATENATE(B886,\",\",C886)","v":"12629,96501"},12629,96501,"FORMAAL","12629,96501,FORM"]
[{"$f":"CONCATENATE(B887,\",\",C887)","v":"12630,81101"},12630,81101,"FORMAAL","12630,81101,FORM"]
[{"$f":"CONCATENATE(B888,\",\",C888)","v":"12630,81111"},12630,81111,"FORMAAL","12630,81111,FORM"]
[{"$f":"CONCATENATE(B889,\",\",C889)","v":"12630,81201"},12630,81201,"FORMAAL","12630,81201,FORM"]
[{"$f":"CONCATENATE(B890,\",\",C890)","v":"12630,81301"},12630,81301,"FORMAAL","12630,81301,FORM"]
[{"$f":"CONCATENATE(B891,\",\",C891)","v":"12630,81401"},12630,81401,"FORMAAL","12630,81401,FORM"]
[{"$f":"CONCATENATE(B892,\",\",C892)","v":"12630,81501"},12630,81501,"FORMAAL","12630,81501,FORM"]
[{"$f":"CONCATENATE(B893,\",\",C893)","v":"12630,81601"},12630,81601,"FORMAAL","12630,81601,FORM"]
[{"$f":"CONCATENATE(B894,\",\",C894)","v":"12630,82101"},12630,82101,"FORMAAL","12630,82101,FORM"]
[{"$f":"CONCATENATE(B895,\",\",C895)","v":"12630,82201"},12630,82201,"FORMAAL","12630,82201,FORM"]
[{"$f":"CONCATENATE(B896,\",\",C896)","v":"12630,82301"},12630,82301,"FORMAAL","12630,82301,FORM"]
[{"$f":"CONCATENATE(B897,\",\",C897)","v":"12630,82401"},12630,82401,"FORMAAL","12630,82401,FORM"]
[{"$f":"CONCATENATE(B898,\",\",C898)","v":"12630,82501"},12630,82501,"FORMAAL","12630,82501,FORM"]
[{"$f":"CONCATENATE(B899,\",\",C899)","v":"12630,82601"},12630,82601,"FORMAAL","12630,82601,FORM"]
[{"$f":"CONCATENATE(B900,\",\",C900)","v":"12630,82701"},12630,82701,"FORMAAL","12630,82701,FORM"]
[{"$f":"CONCATENATE(B901,\",\",C901)","v":"12630,82801"},12630,82801,"FORMAAL","12630,82801,FORM"]
[{"$f":"CONCATENATE(B902,\",\",C902)","v":"12630,82901"},12630,82901,"FORMAAL","12630,82901,FORM"]
[{"$f":"CONCATENATE(B903,\",\",C903)","v":"12630,86101"},12630,86101,"FORMAAL","12630,86101,FORM"]
[{"$f":"CONCATENATE(B904,\",\",C904)","v":"12630,86201"},12630,86201,"FORMAAL","12630,86201,FORM"]
[{"$f":"CONCATENATE(B905,\",\",C905)","v":"12630,86301"},12630,86301,"FORMAAL","12630,86301,FORM"]
[{"$f":"CONCATENATE(B906,\",\",C906)","v":"12630,86401"},12630,86401,"FORMAAL","12630,86401,FORM"]
[{"$f":"CONCATENATE(B907,\",\",C907)","v":"12630,86999"},12630,86999,"FORMAAL","12630,86999,FORM"]
[{"$f":"CONCATENATE(B908,\",\",C908)","v":"12630,88886"},12630,88886,"FORMAAL","12630,88886,FORM"]
[{"$f":"CONCATENATE(B909,\",\",C909)","v":"12630,91101"},12630,91101,"FORMAAL","12630,91101,FORM"]
[{"$f":"CONCATENATE(B910,\",\",C910)","v":"12630,91777"},12630,91777,"FORMAAL","12630,91777,FORM"]
[{"$f":"CONCATENATE(B911,\",\",C911)","v":"12630,92101"},12630,92101,"FORMAAL","12630,92101,FORM"]
[{"$f":"CONCATENATE(B912,\",\",C912)","v":"12630,92201"},12630,92201,"FORMAAL","12630,92201,FORM"]
[{"$f":"CONCATENATE(B913,\",\",C913)","v":"12630,92301"},12630,92301,"FORMAAL","12630,92301,FORM"]
[{"$f":"CONCATENATE(B914,\",\",C914)","v":"12630,92401"},12630,92401,"FORMAAL","12630,92401,FORM"]
[{"$f":"CONCATENATE(B915,\",\",C915)","v":"12630,92711"},12630,92711,"FORMAAL","12630,92711,FORM"]
[{"$f":"CONCATENATE(B916,\",\",C916)","v":"12630,92712"},12630,92712,"FORMAAL","12630,92712,FORM"]
[{"$f":"CONCATENATE(B917,\",\",C917)","v":"12630,92801"},12630,92801,"FORMAAL","12630,92801,FORM"]
[{"$f":"CONCATENATE(B918,\",\",C918)","v":"12630,93001"},12630,93001,"FORMAAL","12630,93001,FORM"]
[{"$f":"CONCATENATE(B919,\",\",C919)","v":"12630,93511"},12630,93511,"FORMAAL","12630,93511,FORM"]
[{"$f":"CONCATENATE(B920,\",\",C920)","v":"12630,93611"},12630,93611,"FORMAAL","12630,93611,FORM"]
[{"$f":"CONCATENATE(B921,\",\",C921)","v":"12630,93711"},12630,93711,"FORMAAL","12630,93711,FORM"]
[{"$f":"CONCATENATE(B922,\",\",C922)","v":"12630,93777"},12630,93777,"FORMAAL","12630,93777,FORM"]
[{"$f":"CONCATENATE(B923,\",\",C923)","v":"12630,96101"},12630,96101,"FORMAAL","12630,96101,FORM"]
[{"$f":"CONCATENATE(B924,\",\",C924)","v":"12630,96102"},12630,96102,"FORMAAL","12630,96102,FORM"]
[{"$f":"CONCATENATE(B925,\",\",C925)","v":"12630,96498"},12630,96498,"FORMAAL","12630,96498,FORM"]
[{"$f":"CONCATENATE(B926,\",\",C926)","v":"12630,96501"},12630,96501,"FORMAAL","12630,96501,FORM"]
[{"$f":"CONCATENATE(B927,\",\",C927)","v":"12677,91777"},12677,91777,"FORMAAL","1016902"]
[{"$f":"CONCATENATE(B928,\",\",C928)","v":"12679,91777"},12679,91777,"FORMAAL","1016903"]
[{"$f":"CONCATENATE(B929,\",\",C929)","v":"12680,91777"},12680,91777,"FORMAAL","1016904"]
[{"$f":"CONCATENATE(B930,\",\",C930)","v":"12681,91777"},12681,91777,"FORMAAL","1016905"]
[{"$f":"CONCATENATE(B931,\",\",C931)","v":"12682,91777"},12682,91777,"FORMAAL","1016906"]
[{"$f":"CONCATENATE(B932,\",\",C932)","v":"12683,91777"},12683,91777,"FORMAAL","1016907"]
[{"$f":"CONCATENATE(B933,\",\",C933)","v":"12684,91777"},12684,91777,"FORMAAL","1016908"]
[{"$f":"CONCATENATE(B934,\",\",C934)","v":"12685,91777"},12685,91777,"FORMAAL","1016909"]
[{"$f":"CONCATENATE(B935,\",\",C935)","v":"12687,91777"},12687,91777,"FORMAAL","1016910"]
[{"$f":"CONCATENATE(B936,\",\",C936)","v":"12689,91777"},12689,91777,"FORMAAL","1016911"]
[{"$f":"CONCATENATE(B937,\",\",C937)","v":"12690,91777"},12690,91777,"FORMAAL","1016912"]
[{"$f":"CONCATENATE(B938,\",\",C938)","v":"12693,91777"},12693,91777,"FORMAAL","1016913"]
[{"$f":"CONCATENATE(B939,\",\",C939)","v":"12732,56101"},12732,56101,"FORMAAL","12732,56101,FORM"]
[{"$f":"CONCATENATE(B940,\",\",C940)","v":"12732,56201"},12732,56201,"FORMAAL","12732,56201,FORM"]
[{"$f":"CONCATENATE(B941,\",\",C941)","v":"12732,56211"},12732,56211,"FORMAAL","12732,56211,FORM"]
[{"$f":"CONCATENATE(B942,\",\",C942)","v":"12732,56221"},12732,56221,"FORMAAL","12732,56221,FORM"]
[{"$f":"CONCATENATE(B943,\",\",C943)","v":"12732,56302"},12732,56302,"FORMAAL","12732,56302,FORM"]
[{"$f":"CONCATENATE(B944,\",\",C944)","v":"12847,56202"},12847,56202,"FORMAAL","12847,56202,FORM"]
[{"$f":"CONCATENATE(B945,\",\",C945)","v":"12854,81102"},12854,81102,"FORMAAL","12854,81102,FORM"]
[{"$f":"CONCATENATE(B946,\",\",C946)","v":"12854,81112"},12854,81112,"FORMAAL","1009351"]
[{"$f":"CONCATENATE(B947,\",\",C947)","v":"12854,82602"},12854,82602,"FORMAAL","12854,82602,FORM"]
[{"$f":"CONCATENATE(B948,\",\",C948)","v":"12861,21101"},12861,21101,"FORMAAL","1021085"]
[{"$f":"CONCATENATE(B949,\",\",C949)","v":"12861,21202"},12861,21202,"FORMAAL","1021093"]
[{"$f":"CONCATENATE(B950,\",\",C950)","v":"12861,21203"},12861,21203,"FORMAAL","1021091"]
[{"$f":"CONCATENATE(B951,\",\",C951)","v":"12861,21302"},12861,21302,"FORMAAL","1021092"]
[{"$f":"CONCATENATE(B952,\",\",C952)","v":"12861,21303"},12861,21303,"FORMAAL","1021087"]
[{"$f":"CONCATENATE(B953,\",\",C953)","v":"12861,21304"},12861,21304,"FORMAAL","1021094"]
[{"$f":"CONCATENATE(B954,\",\",C954)","v":"12861,21305"},12861,21305,"FORMAAL","1021086"]
[{"$f":"CONCATENATE(B955,\",\",C955)","v":"12861,21701"},12861,21701,"FORMAAL","1021089"]
[{"$f":"CONCATENATE(B956,\",\",C956)","v":"12861,21801"},12861,21801,"FORMAAL","1021088"]
[{"$f":"CONCATENATE(B957,\",\",C957)","v":"12861,26102"},12861,26102,"FORMAAL","1021090"]
[{"$f":"CONCATENATE(B958,\",\",C958)","v":"12862,21101"},12862,21101,"FORMAAL","1021095"]
[{"$f":"CONCATENATE(B959,\",\",C959)","v":"12862,21202"},12862,21202,"FORMAAL","1021098"]
[{"$f":"CONCATENATE(B960,\",\",C960)","v":"12862,21203"},12862,21203,"FORMAAL","1021104"]
[{"$f":"CONCATENATE(B961,\",\",C961)","v":"12862,21302"},12862,21302,"FORMAAL","1021103"]
[{"$f":"CONCATENATE(B962,\",\",C962)","v":"12862,21303"},12862,21303,"FORMAAL","1021096"]
[{"$f":"CONCATENATE(B963,\",\",C963)","v":"12862,21304"},12862,21304,"FORMAAL","1021099"]
[{"$f":"CONCATENATE(B964,\",\",C964)","v":"12862,21305"},12862,21305,"FORMAAL","1021100"]
[{"$f":"CONCATENATE(B965,\",\",C965)","v":"12862,21701"},12862,21701,"FORMAAL","1021097"]
[{"$f":"CONCATENATE(B966,\",\",C966)","v":"12862,21801"},12862,21801,"FORMAAL","1021101"]
[{"$f":"CONCATENATE(B967,\",\",C967)","v":"12862,26102"},12862,26102,"FORMAAL","1021102"]
[{"$f":"CONCATENATE(B968,\",\",C968)","v":"13000,21101"},13000,21101,"FORMAAL","1021105"]
[{"$f":"CONCATENATE(B969,\",\",C969)","v":"13000,21202"},13000,21202,"FORMAAL","1021111"]
[{"$f":"CONCATENATE(B970,\",\",C970)","v":"13000,21203"},13000,21203,"FORMAAL","1021109"]
[{"$f":"CONCATENATE(B971,\",\",C971)","v":"13000,21302"},13000,21302,"FORMAAL","1021108"]
[{"$f":"CONCATENATE(B972,\",\",C972)","v":"13000,21303"},13000,21303,"FORMAAL","1021110"]
[{"$f":"CONCATENATE(B973,\",\",C973)","v":"13000,21304"},13000,21304,"FORMAAL","1021107"]
[{"$f":"CONCATENATE(B974,\",\",C974)","v":"13000,21305"},13000,21305,"FORMAAL","1021112"]
[{"$f":"CONCATENATE(B975,\",\",C975)","v":"13000,21701"},13000,21701,"FORMAAL","1021106"]
[{"$f":"CONCATENATE(B976,\",\",C976)","v":"13000,21801"},13000,21801,"FORMAAL","1021114"]
[{"$f":"CONCATENATE(B977,\",\",C977)","v":"13000,26102"},13000,26102,"FORMAAL","1021113"]
[{"$f":"CONCATENATE(B978,\",\",C978)","v":"13010,82110"},13010,82110,"FORMAAL","13010,82110,FORM"]
[{"$f":"CONCATENATE(B979,\",\",C979)","v":"13010,82111"},13010,82111,"FORMAAL","13010,82111,FORM"]
[{"$f":"CONCATENATE(B980,\",\",C980)","v":"13010,82112"},13010,82112,"FORMAAL","13010,82112,FORM"]
[{"$f":"CONCATENATE(B981,\",\",C981)","v":"13619,56202"},13619,56202,"FORMAAL","13619,56202,FORM"]
[{"$f":"CONCATENATE(B982,\",\",C982)","v":"13622,56202"},13622,56202,"FORMAAL","13622,56202,FORM"]
[{"$f":"CONCATENATE(B983,\",\",C983)","v":"13623,56202"},13623,56202,"FORMAAL","13623,56202,FORM"]
[{"$f":"CONCATENATE(B984,\",\",C984)","v":"13625,82702"},13625,82702,"FORMAAL","13625,82702,FORM"]
[{"$f":"CONCATENATE(B985,\",\",C985)","v":"13631,96082"},13631,96082,"FORMAAL","1037804"]
[{"$f":"CONCATENATE(B986,\",\",C986)","v":"13631,96090"},13631,96090,"FORMAAL","1018085"]
[{"$f":"CONCATENATE(B987,\",\",C987)","v":"13631,96091"},13631,96091,"FORMAAL","1020498"]
[{"$f":"CONCATENATE(B988,\",\",C988)","v":"13631,96093"},13631,96093,"FORMAAL","13631,96093,FORM"]
[{"$f":"CONCATENATE(B989,\",\",C989)","v":"13631,96094"},13631,96094,"FORMAAL","13631,96094,FORM"]
[{"$f":"CONCATENATE(B990,\",\",C990)","v":"13631,96095"},13631,96095,"FORMAAL","13631,96095,FORM"]
[{"$f":"CONCATENATE(B991,\",\",C991)","v":"13631,96096"},13631,96096,"FORMAAL","13631,96096,FORM"]
[{"$f":"CONCATENATE(B992,\",\",C992)","v":"13631,96097"},13631,96097,"FORMAAL","13631,96097,FORM"]
[{"$f":"CONCATENATE(B993,\",\",C993)","v":"13631,96100"},13631,96100,"FORMAAL","13631,96100,FORM"]
[{"$f":"CONCATENATE(B994,\",\",C994)","v":"13631,96101"},13631,96101,"FORMAAL","13631,96101,FORM"]
[{"$f":"CONCATENATE(B995,\",\",C995)","v":"13631,96102"},13631,96102,"FORMAAL","13631,96102,FORM"]
[{"$f":"CONCATENATE(B996,\",\",C996)","v":"13631,96103"},13631,96103,"FORMAAL","13631,96103,FORM"]
[{"$f":"CONCATENATE(B997,\",\",C997)","v":"13824,82715"},13824,82715,"FORMAAL","1014334"]
[{"$f":"CONCATENATE(B998,\",\",C998)","v":"13824,82716"},13824,82716,"FORMAAL","1014335"]
[{"$f":"CONCATENATE(B999,\",\",C999)","v":"13824,82717"},13824,82717,"FORMAAL","1015201"]
[{"$f":"CONCATENATE(B1000,\",\",C1000)","v":"13824,82718"},13824,82718,"FORMAAL","1015202"]
[{"$f":"CONCATENATE(B1001,\",\",C1001)","v":"13824,82719"},13824,82719,"FORMAAL","1015203"]
[{"$f":"CONCATENATE(B1002,\",\",C1002)","v":"13824,82720"},13824,82720,"FORMAAL","1015204"]
[{"$f":"CONCATENATE(B1003,\",\",C1003)","v":"13824,82721"},13824,82721,"FORMAAL","1015205"]
[{"$f":"CONCATENATE(B1004,\",\",C1004)","v":"13824,82722"},13824,82722,"FORMAAL","1015206"]
[{"$f":"CONCATENATE(B1005,\",\",C1005)","v":"13824,82723"},13824,82723,"FORMAAL","1015207"]
[{"$f":"CONCATENATE(B1006,\",\",C1006)","v":"13824,82724"},13824,82724,"FORMAAL","1015208"]
[{"$f":"CONCATENATE(B1007,\",\",C1007)","v":"13824,82725"},13824,82725,"FORMAAL","1015209"]
[{"$f":"CONCATENATE(B1008,\",\",C1008)","v":"13824,82726"},13824,82726,"FORMAAL","1015210"]
[{"$f":"CONCATENATE(B1009,\",\",C1009)","v":"13824,82727"},13824,82727,"FORMAAL","1015211"]
[{"$f":"CONCATENATE(B1010,\",\",C1010)","v":"13824,82728"},13824,82728,"FORMAAL","1015212"]
[{"$f":"CONCATENATE(B1011,\",\",C1011)","v":"13824,82729"},13824,82729,"FORMAAL","1015213"]
[{"$f":"CONCATENATE(B1012,\",\",C1012)","v":"13824,82730"},13824,82730,"FORMAAL","13824,82730,FORM"]
[{"$f":"CONCATENATE(B1013,\",\",C1013)","v":"13824,82731"},13824,82731,"FORMAAL","13824,82731,FORM"]
[{"$f":"CONCATENATE(B1014,\",\",C1014)","v":"13824,82732"},13824,82732,"FORMAAL","13824,82732,FORM"]
[{"$f":"CONCATENATE(B1015,\",\",C1015)","v":"13824,82733"},13824,82733,"FORMAAL","13824,82733,FORM"]
[{"$f":"CONCATENATE(B1016,\",\",C1016)","v":"13824,82734"},13824,82734,"FORMAAL","13824,82734,FORM"]
[{"$f":"CONCATENATE(B1017,\",\",C1017)","v":"13824,82735"},13824,82735,"FORMAAL","13824,82735,FORM"]
[{"$f":"CONCATENATE(B1018,\",\",C1018)","v":"13824,82736"},13824,82736,"FORMAAL","13824,82736,FORM"]
[{"$f":"CONCATENATE(B1019,\",\",C1019)","v":"13824,82737"},13824,82737,"FORMAAL","13824,82737,FORM"]
[{"$f":"CONCATENATE(B1020,\",\",C1020)","v":"13824,82738"},13824,82738,"FORMAAL","13824,82738,FORM"]
[{"$f":"CONCATENATE(B1021,\",\",C1021)","v":"13824,82739"},13824,82739,"FORMAAL","13824,82739,FORM"]
[{"$f":"CONCATENATE(B1022,\",\",C1022)","v":"13824,82740"},13824,82740,"FORMAAL","13824,82740,FORM"]
[{"$f":"CONCATENATE(B1023,\",\",C1023)","v":"13824,82741"},13824,82741,"FORMAAL","13824,82741,FORM"]
[{"$f":"CONCATENATE(B1024,\",\",C1024)","v":"13824,82742"},13824,82742,"FORMAAL","13824,82742,FORM"]
[{"$f":"CONCATENATE(B1025,\",\",C1025)","v":"13824,82743"},13824,82743,"FORMAAL","13824,82743,FORM"]
[{"$f":"CONCATENATE(B1026,\",\",C1026)","v":"13824,82744"},13824,82744,"FORMAAL","13824,82744,FORM"]
[{"$f":"CONCATENATE(B1027,\",\",C1027)","v":"13824,82745"},13824,82745,"FORMAAL","13824,82745,FORM"]
[{"$f":"CONCATENATE(B1028,\",\",C1028)","v":"13824,82746"},13824,82746,"FORMAAL","13824,82746,FORM"]
[{"$f":"CONCATENATE(B1029,\",\",C1029)","v":"13824,82747"},13824,82747,"FORMAAL","13824,82747,FORM"]
[{"$f":"CONCATENATE(B1030,\",\",C1030)","v":"13824,82748"},13824,82748,"FORMAAL","13824,82748,FORM"]
[{"$f":"CONCATENATE(B1031,\",\",C1031)","v":"13824,82749"},13824,82749,"FORMAAL","13824,82749,FORM"]
[{"$f":"CONCATENATE(B1032,\",\",C1032)","v":"13824,82750"},13824,82750,"FORMAAL","13824,82750,FORM"]
[{"$f":"CONCATENATE(B1033,\",\",C1033)","v":"13824,82751"},13824,82751,"FORMAAL","13824,82751,FORM"]
[{"$f":"CONCATENATE(B1034,\",\",C1034)","v":"13824,82752"},13824,82752,"FORMAAL","13824,82752,FORM"]
[{"$f":"CONCATENATE(B1035,\",\",C1035)","v":"13824,82753"},13824,82753,"FORMAAL","13824,82753,FORM"]
[{"$f":"CONCATENATE(B1036,\",\",C1036)","v":"13824,82754"},13824,82754,"FORMAAL","13824,82754,FORM"]
[{"$f":"CONCATENATE(B1037,\",\",C1037)","v":"13824,82755"},13824,82755,"FORMAAL","13824,82755,FORM"]
[{"$f":"CONCATENATE(B1038,\",\",C1038)","v":"13824,82756"},13824,82756,"FORMAAL","13824,82756,FORM"]
[{"$f":"CONCATENATE(B1039,\",\",C1039)","v":"13824,82757"},13824,82757,"FORMAAL","13824,82757,FORM"]
[{"$f":"CONCATENATE(B1040,\",\",C1040)","v":"13824,82758"},13824,82758,"FORMAAL","13824,82758,FORM"]
[{"$f":"CONCATENATE(B1041,\",\",C1041)","v":"13824,82759"},13824,82759,"FORMAAL","13824,82759,FORM"]
[{"$f":"CONCATENATE(B1042,\",\",C1042)","v":"13824,82760"},13824,82760,"FORMAAL","13824,82760,FORM"]
[{"$f":"CONCATENATE(B1043,\",\",C1043)","v":"13824,82761"},13824,82761,"FORMAAL","13824,82761,FORM"]
[{"$f":"CONCATENATE(B1044,\",\",C1044)","v":"13898,21077"},13898,21077,"FORMAAL","13898,21077,FORM"]
[{"$f":"CONCATENATE(B1045,\",\",C1045)","v":"13898,21101"},13898,21101,"FORMAAL","1021115"]
[{"$f":"CONCATENATE(B1046,\",\",C1046)","v":"13898,21201"},13898,21201,"FORMAAL","13898,21201,FORM"]
[{"$f":"CONCATENATE(B1047,\",\",C1047)","v":"13898,21202"},13898,21202,"FORMAAL","1021124"]
[{"$f":"CONCATENATE(B1048,\",\",C1048)","v":"13898,21203"},13898,21203,"FORMAAL","1021117"]
[{"$f":"CONCATENATE(B1049,\",\",C1049)","v":"13898,21301"},13898,21301,"FORMAAL","13898,21301,FORM"]
[{"$f":"CONCATENATE(B1050,\",\",C1050)","v":"13898,21302"},13898,21302,"FORMAAL","1021121"]
[{"$f":"CONCATENATE(B1051,\",\",C1051)","v":"13898,21303"},13898,21303,"FORMAAL","1021122"]
[{"$f":"CONCATENATE(B1052,\",\",C1052)","v":"13898,21304"},13898,21304,"FORMAAL","1021116"]
[{"$f":"CONCATENATE(B1053,\",\",C1053)","v":"13898,21305"},13898,21305,"FORMAAL","1021123"]
[{"$f":"CONCATENATE(B1054,\",\",C1054)","v":"13898,21701"},13898,21701,"FORMAAL","1021120"]
[{"$f":"CONCATENATE(B1055,\",\",C1055)","v":"13898,21801"},13898,21801,"FORMAAL","1021119"]
[{"$f":"CONCATENATE(B1056,\",\",C1056)","v":"13898,23201"},13898,23201,"FORMAAL","13898,23201,FORM"]
[{"$f":"CONCATENATE(B1057,\",\",C1057)","v":"13898,26102"},13898,26102,"FORMAAL","1021118"]
[{"$f":"CONCATENATE(B1058,\",\",C1058)","v":"13898,27777"},13898,27777,"FORMAAL","13898,27777,FORM"]
[{"$f":"CONCATENATE(B1059,\",\",C1059)","v":"13898,91101"},13898,91101,"FORMAAL","13898,91101,FORM"]
[{"$f":"CONCATENATE(B1060,\",\",C1060)","v":"13898,93777"},13898,93777,"FORMAAL","13898,93777,FORM"]
[{"$f":"CONCATENATE(B1061,\",\",C1061)","v":"13898,96501"},13898,96501,"FORMAAL","13898,96501,FORM"]
[{"$f":"CONCATENATE(B1062,\",\",C1062)","v":"13924,81202"},13924,81202,"FORMAAL","13924,81202,FORM"]
[{"$f":"CONCATENATE(B1063,\",\",C1063)","v":"14048,21101"},14048,21101,"FORMAAL","1021125"]
[{"$f":"CONCATENATE(B1064,\",\",C1064)","v":"14048,21202"},14048,21202,"FORMAAL","1021129"]
[{"$f":"CONCATENATE(B1065,\",\",C1065)","v":"14048,21203"},14048,21203,"FORMAAL","1021126"]
[{"$f":"CONCATENATE(B1066,\",\",C1066)","v":"14048,21302"},14048,21302,"FORMAAL","1021134"]
[{"$f":"CONCATENATE(B1067,\",\",C1067)","v":"14048,21303"},14048,21303,"FORMAAL","1021133"]
[{"$f":"CONCATENATE(B1068,\",\",C1068)","v":"14048,21304"},14048,21304,"FORMAAL","1021130"]
[{"$f":"CONCATENATE(B1069,\",\",C1069)","v":"14048,21305"},14048,21305,"FORMAAL","1021128"]
[{"$f":"CONCATENATE(B1070,\",\",C1070)","v":"14048,21701"},14048,21701,"FORMAAL","1021132"]
[{"$f":"CONCATENATE(B1071,\",\",C1071)","v":"14048,21801"},14048,21801,"FORMAAL","1021127"]
[{"$f":"CONCATENATE(B1072,\",\",C1072)","v":"14048,26102"},14048,26102,"FORMAAL","1021131"]
[{"$f":"CONCATENATE(B1073,\",\",C1073)","v":"14059,56202"},14059,56202,"FORMAAL","14059,56202,FORM"]
[{"$f":"CONCATENATE(B1074,\",\",C1074)","v":"14132,56202"},14132,56202,"FORMAAL","14132,56202,FORM"]
[{"$f":"CONCATENATE(B1075,\",\",C1075)","v":"14166,26103"},14166,26103,"FORMAAL","14166,26103,FORM"]
[{"$f":"CONCATENATE(B1076,\",\",C1076)","v":"14200,82680"},14200,82680,"FORMAAL","14200,82680,FORM"]
[{"$f":"CONCATENATE(B1077,\",\",C1077)","v":"14419,56202"},14419,56202,"FORMAAL","14419,56202,FORM"]
[{"$f":"CONCATENATE(B1078,\",\",C1078)","v":"14432,21077"},14432,21077,"FORMAAL","14432,21077,FORM"]
[{"$f":"CONCATENATE(B1079,\",\",C1079)","v":"14432,21101"},14432,21101,"FORMAAL","1021135"]
[{"$f":"CONCATENATE(B1080,\",\",C1080)","v":"14432,21202"},14432,21202,"FORMAAL","1021137"]
[{"$f":"CONCATENATE(B1081,\",\",C1081)","v":"14432,21203"},14432,21203,"FORMAAL","1021140"]
[{"$f":"CONCATENATE(B1082,\",\",C1082)","v":"14432,21301"},14432,21301,"FORMAAL","14432,21301,FORM"]
[{"$f":"CONCATENATE(B1083,\",\",C1083)","v":"14432,21302"},14432,21302,"FORMAAL","1021139"]
[{"$f":"CONCATENATE(B1084,\",\",C1084)","v":"14432,21303"},14432,21303,"FORMAAL","1021138"]
[{"$f":"CONCATENATE(B1085,\",\",C1085)","v":"14432,21304"},14432,21304,"FORMAAL","1021142"]
[{"$f":"CONCATENATE(B1086,\",\",C1086)","v":"14432,21305"},14432,21305,"FORMAAL","1021141"]
[{"$f":"CONCATENATE(B1087,\",\",C1087)","v":"14432,21401"},14432,21401,"FORMAAL","14432,21401,FORM"]
[{"$f":"CONCATENATE(B1088,\",\",C1088)","v":"14432,21701"},14432,21701,"FORMAAL","1021143"]
[{"$f":"CONCATENATE(B1089,\",\",C1089)","v":"14432,21801"},14432,21801,"FORMAAL","1021136"]
[{"$f":"CONCATENATE(B1090,\",\",C1090)","v":"14432,26102"},14432,26102,"FORMAAL","1021144"]
[{"$f":"CONCATENATE(B1091,\",\",C1091)","v":"14432,27777"},14432,27777,"FORMAAL","14432,27777,FORM"]
[{"$f":"CONCATENATE(B1092,\",\",C1092)","v":"14432,91101"},14432,91101,"FORMAAL","14432,91101,FORM"]
[{"$f":"CONCATENATE(B1093,\",\",C1093)","v":"14432,93777"},14432,93777,"FORMAAL","14432,93777,FORM"]
[{"$f":"CONCATENATE(B1094,\",\",C1094)","v":"14432,96501"},14432,96501,"FORMAAL","14432,96501,FORM"]
[{"$f":"CONCATENATE(B1095,\",\",C1095)","v":"14681,21001"},14681,21001,"FORMAAL","14681,21001,FORM"]
[{"$f":"CONCATENATE(B1096,\",\",C1096)","v":"14681,21077"},14681,21077,"FORMAAL","14681,21077,FORM"]
[{"$f":"CONCATENATE(B1097,\",\",C1097)","v":"14681,21101"},14681,21101,"FORMAAL","14681,21101,FORM"]
[{"$f":"CONCATENATE(B1098,\",\",C1098)","v":"14681,21301"},14681,21301,"FORMAAL","14681,21301,FORM"]
[{"$f":"CONCATENATE(B1099,\",\",C1099)","v":"14681,21401"},14681,21401,"FORMAAL","14681,21401,FORM"]
[{"$f":"CONCATENATE(B1100,\",\",C1100)","v":"14681,21501"},14681,21501,"FORMAAL","14681,21501,FORM"]
[{"$f":"CONCATENATE(B1101,\",\",C1101)","v":"14681,21601"},14681,21601,"FORMAAL","14681,21601,FORM"]
[{"$f":"CONCATENATE(B1102,\",\",C1102)","v":"14681,21701"},14681,21701,"FORMAAL","14681,21701,FORM"]
[{"$f":"CONCATENATE(B1103,\",\",C1103)","v":"14681,21801"},14681,21801,"FORMAAL","14681,21801,FORM"]
[{"$f":"CONCATENATE(B1104,\",\",C1104)","v":"14681,21901"},14681,21901,"FORMAAL","14681,21901,FORM"]
[{"$f":"CONCATENATE(B1105,\",\",C1105)","v":"14681,21951"},14681,21951,"FORMAAL","14681,21951,FORM"]
[{"$f":"CONCATENATE(B1106,\",\",C1106)","v":"14681,22401"},14681,22401,"FORMAAL","14681,22401,FORM"]
[{"$f":"CONCATENATE(B1107,\",\",C1107)","v":"14681,22601"},14681,22601,"FORMAAL","14681,22601,FORM"]
[{"$f":"CONCATENATE(B1108,\",\",C1108)","v":"14681,22901"},14681,22901,"FORMAAL","14681,22901,FORM"]
[{"$f":"CONCATENATE(B1109,\",\",C1109)","v":"14681,23201"},14681,23201,"FORMAAL","14681,23201,FORM"]
[{"$f":"CONCATENATE(B1110,\",\",C1110)","v":"14681,23301"},14681,23301,"FORMAAL","14681,23301,FORM"]
[{"$f":"CONCATENATE(B1111,\",\",C1111)","v":"14681,23401"},14681,23401,"FORMAAL","14681,23401,FORM"]
[{"$f":"CONCATENATE(B1112,\",\",C1112)","v":"14681,24301"},14681,24301,"FORMAAL","14681,24301,FORM"]
[{"$f":"CONCATENATE(B1113,\",\",C1113)","v":"14681,24401"},14681,24401,"FORMAAL","14681,24401,FORM"]
[{"$f":"CONCATENATE(B1114,\",\",C1114)","v":"14681,24601"},14681,24601,"FORMAAL","14681,24601,FORM"]
[{"$f":"CONCATENATE(B1115,\",\",C1115)","v":"14681,25101"},14681,25101,"FORMAAL","14681,25101,FORM"]
[{"$f":"CONCATENATE(B1116,\",\",C1116)","v":"14681,25201"},14681,25201,"FORMAAL","14681,25201,FORM"]
[{"$f":"CONCATENATE(B1117,\",\",C1117)","v":"14681,26901"},14681,26901,"FORMAAL","14681,26901,FORM"]
[{"$f":"CONCATENATE(B1118,\",\",C1118)","v":"14681,27101"},14681,27101,"FORMAAL","14681,27101,FORM"]
[{"$f":"CONCATENATE(B1119,\",\",C1119)","v":"14681,27501"},14681,27501,"FORMAAL","14681,27501,FORM"]
[{"$f":"CONCATENATE(B1120,\",\",C1120)","v":"14681,27777"},14681,27777,"FORMAAL","14681,27777,FORM"]
[{"$f":"CONCATENATE(B1121,\",\",C1121)","v":"14681,29101"},14681,29101,"FORMAAL","14681,29101,FORM"]
[{"$f":"CONCATENATE(B1122,\",\",C1122)","v":"14681,29201"},14681,29201,"FORMAAL","14681,29201,FORM"]
[{"$f":"CONCATENATE(B1123,\",\",C1123)","v":"14681,91101"},14681,91101,"FORMAAL","14681,91101,FORM"]
[{"$f":"CONCATENATE(B1124,\",\",C1124)","v":"14681,93777"},14681,93777,"FORMAAL","14681,93777,FORM"]
[{"$f":"CONCATENATE(B1125,\",\",C1125)","v":"14681,96501"},14681,96501,"FORMAAL","14681,96501,FORM"]
[{"$f":"CONCATENATE(B1126,\",\",C1126)","v":"14793,21077"},14793,21077,"FORMAAL","14793,21077,FORM"]
[{"$f":"CONCATENATE(B1127,\",\",C1127)","v":"14793,21101"},14793,21101,"FORMAAL","1021145"]
[{"$f":"CONCATENATE(B1128,\",\",C1128)","v":"14793,21201"},14793,21201,"FORMAAL","14793,21201,FORM"]
[{"$f":"CONCATENATE(B1129,\",\",C1129)","v":"14793,21202"},14793,21202,"FORMAAL","1021146"]
[{"$f":"CONCATENATE(B1130,\",\",C1130)","v":"14793,21203"},14793,21203,"FORMAAL","1021152"]
[{"$f":"CONCATENATE(B1131,\",\",C1131)","v":"14793,21302"},14793,21302,"FORMAAL","1021147"]
[{"$f":"CONCATENATE(B1132,\",\",C1132)","v":"14793,21303"},14793,21303,"FORMAAL","1021151"]
[{"$f":"CONCATENATE(B1133,\",\",C1133)","v":"14793,21304"},14793,21304,"FORMAAL","1021153"]
[{"$f":"CONCATENATE(B1134,\",\",C1134)","v":"14793,21305"},14793,21305,"FORMAAL","1021154"]
[{"$f":"CONCATENATE(B1135,\",\",C1135)","v":"14793,21401"},14793,21401,"FORMAAL","14793,21401,FORM"]
[{"$f":"CONCATENATE(B1136,\",\",C1136)","v":"14793,21601"},14793,21601,"FORMAAL","14793,21601,FORM"]
[{"$f":"CONCATENATE(B1137,\",\",C1137)","v":"14793,21701"},14793,21701,"FORMAAL","1021148"]
[{"$f":"CONCATENATE(B1138,\",\",C1138)","v":"14793,21801"},14793,21801,"FORMAAL","1021150"]
[{"$f":"CONCATENATE(B1139,\",\",C1139)","v":"14793,23201"},14793,23201,"FORMAAL","14793,23201,FORM"]
[{"$f":"CONCATENATE(B1140,\",\",C1140)","v":"14793,26102"},14793,26102,"FORMAAL","1021149"]
[{"$f":"CONCATENATE(B1141,\",\",C1141)","v":"14793,27777"},14793,27777,"FORMAAL","14793,27777,FORM"]
[{"$f":"CONCATENATE(B1142,\",\",C1142)","v":"14793,91101"},14793,91101,"FORMAAL","14793,91101,FORM"]
[{"$f":"CONCATENATE(B1143,\",\",C1143)","v":"14793,93777"},14793,93777,"FORMAAL","14793,93777,FORM"]
[{"$f":"CONCATENATE(B1144,\",\",C1144)","v":"14793,96501"},14793,96501,"FORMAAL","14793,96501,FORM"]
[{"$f":"CONCATENATE(B1145,\",\",C1145)","v":"14990,21077"},14990,21077,"FORMAAL","14990,21077,FORM"]
[{"$f":"CONCATENATE(B1146,\",\",C1146)","v":"14990,21101"},14990,21101,"FORMAAL","1021155"]
[{"$f":"CONCATENATE(B1147,\",\",C1147)","v":"14990,21201"},14990,21201,"FORMAAL","14990,21201,FORM"]
[{"$f":"CONCATENATE(B1148,\",\",C1148)","v":"14990,21202"},14990,21202,"FORMAAL","1021160"]
[{"$f":"CONCATENATE(B1149,\",\",C1149)","v":"14990,21203"},14990,21203,"FORMAAL","1021163"]
[{"$f":"CONCATENATE(B1150,\",\",C1150)","v":"14990,21302"},14990,21302,"FORMAAL","1021156"]
[{"$f":"CONCATENATE(B1151,\",\",C1151)","v":"14990,21303"},14990,21303,"FORMAAL","1021164"]
[{"$f":"CONCATENATE(B1152,\",\",C1152)","v":"14990,21304"},14990,21304,"FORMAAL","1021158"]
[{"$f":"CONCATENATE(B1153,\",\",C1153)","v":"14990,21305"},14990,21305,"FORMAAL","1021159"]
[{"$f":"CONCATENATE(B1154,\",\",C1154)","v":"14990,21401"},14990,21401,"FORMAAL","14990,21401,FORM"]
[{"$f":"CONCATENATE(B1155,\",\",C1155)","v":"14990,21601"},14990,21601,"FORMAAL","14990,21601,FORM"]
[{"$f":"CONCATENATE(B1156,\",\",C1156)","v":"14990,21701"},14990,21701,"FORMAAL","1021161"]
[{"$f":"CONCATENATE(B1157,\",\",C1157)","v":"14990,21801"},14990,21801,"FORMAAL","1021162"]
[{"$f":"CONCATENATE(B1158,\",\",C1158)","v":"14990,23201"},14990,23201,"FORMAAL","14990,23201,FORM"]
[{"$f":"CONCATENATE(B1159,\",\",C1159)","v":"14990,26102"},14990,26102,"FORMAAL","1021157"]
[{"$f":"CONCATENATE(B1160,\",\",C1160)","v":"14990,27777"},14990,27777,"FORMAAL","14990,27777,FORM"]
[{"$f":"CONCATENATE(B1161,\",\",C1161)","v":"14990,91101"},14990,91101,"FORMAAL","14990,91101,FORM"]
[{"$f":"CONCATENATE(B1162,\",\",C1162)","v":"14990,93777"},14990,93777,"FORMAAL","14990,93777,FORM"]
[{"$f":"CONCATENATE(B1163,\",\",C1163)","v":"14990,96501"},14990,96501,"FORMAAL","14990,96501,FORM"]
[{"$f":"CONCATENATE(B1164,\",\",C1164)","v":"15074,82655"},15074,82655,"FORMAAL","1019016"]
[{"$f":"CONCATENATE(B1165,\",\",C1165)","v":"15178,21101"},15178,21101,"FORMAAL","1021165"]
[{"$f":"CONCATENATE(B1166,\",\",C1166)","v":"15178,21202"},15178,21202,"FORMAAL","1021172"]
[{"$f":"CONCATENATE(B1167,\",\",C1167)","v":"15178,21203"},15178,21203,"FORMAAL","1021168"]
[{"$f":"CONCATENATE(B1168,\",\",C1168)","v":"15178,21302"},15178,21302,"FORMAAL","1021170"]
[{"$f":"CONCATENATE(B1169,\",\",C1169)","v":"15178,21303"},15178,21303,"FORMAAL","1021169"]
[{"$f":"CONCATENATE(B1170,\",\",C1170)","v":"15178,21304"},15178,21304,"FORMAAL","1021171"]
[{"$f":"CONCATENATE(B1171,\",\",C1171)","v":"15178,21305"},15178,21305,"FORMAAL","1021167"]
[{"$f":"CONCATENATE(B1172,\",\",C1172)","v":"15178,21701"},15178,21701,"FORMAAL","1021174"]
[{"$f":"CONCATENATE(B1173,\",\",C1173)","v":"15178,21801"},15178,21801,"FORMAAL","1021173"]
[{"$f":"CONCATENATE(B1174,\",\",C1174)","v":"15178,26102"},15178,26102,"FORMAAL","1021166"]
[{"$f":"CONCATENATE(B1175,\",\",C1175)","v":"15278,59136"},15278,59136,"FORMAAL","1017244"]
[{"$f":"CONCATENATE(B1176,\",\",C1176)","v":"15303,21077"},15303,21077,"FORMAAL","15303,21077,FORM"]
[{"$f":"CONCATENATE(B1177,\",\",C1177)","v":"15303,21201"},15303,21201,"FORMAAL","15303,21201,FORM"]
[{"$f":"CONCATENATE(B1178,\",\",C1178)","v":"15303,21301"},15303,21301,"FORMAAL","15303,21301,FORM"]
[{"$f":"CONCATENATE(B1179,\",\",C1179)","v":"15303,21401"},15303,21401,"FORMAAL","15303,21401,FORM"]
[{"$f":"CONCATENATE(B1180,\",\",C1180)","v":"15303,21601"},15303,21601,"FORMAAL","15303,21601,FORM"]
[{"$f":"CONCATENATE(B1181,\",\",C1181)","v":"15303,23201"},15303,23201,"FORMAAL","15303,23201,FORM"]
[{"$f":"CONCATENATE(B1182,\",\",C1182)","v":"15303,26101"},15303,26101,"FORMAAL","15303,26101,FORM"]
[{"$f":"CONCATENATE(B1183,\",\",C1183)","v":"15303,27777"},15303,27777,"FORMAAL","15303,27777,FORM"]
[{"$f":"CONCATENATE(B1184,\",\",C1184)","v":"15303,61077"},15303,61077,"FORMAAL","15303,61077,FORM"]
[{"$f":"CONCATENATE(B1185,\",\",C1185)","v":"15303,61201"},15303,61201,"FORMAAL","15303,61201,FORM"]
[{"$f":"CONCATENATE(B1186,\",\",C1186)","v":"15303,61301"},15303,61301,"FORMAAL","15303,61301,FORM"]
[{"$f":"CONCATENATE(B1187,\",\",C1187)","v":"15303,61401"},15303,61401,"FORMAAL","15303,61401,FORM"]
[{"$f":"CONCATENATE(B1188,\",\",C1188)","v":"15303,61601"},15303,61601,"FORMAAL","15303,61601,FORM"]
[{"$f":"CONCATENATE(B1189,\",\",C1189)","v":"15303,63201"},15303,63201,"FORMAAL","15303,63201,FORM"]
[{"$f":"CONCATENATE(B1190,\",\",C1190)","v":"15303,66101"},15303,66101,"FORMAAL","15303,66101,FORM"]
[{"$f":"CONCATENATE(B1191,\",\",C1191)","v":"15303,67777"},15303,67777,"FORMAAL","15303,67777,FORM"]
[{"$f":"CONCATENATE(B1192,\",\",C1192)","v":"15303,77777"},15303,77777,"FORMAAL","15303,77777,FORM"]
[{"$f":"CONCATENATE(B1193,\",\",C1193)","v":"15303,91101"},15303,91101,"FORMAAL","15303,91101,FORM"]
[{"$f":"CONCATENATE(B1194,\",\",C1194)","v":"15303,93777"},15303,93777,"FORMAAL","15303,93777,FORM"]
[{"$f":"CONCATENATE(B1195,\",\",C1195)","v":"15303,95777"},15303,95777,"FORMAAL","15303,95777,FORM"]
[{"$f":"CONCATENATE(B1196,\",\",C1196)","v":"15303,96501"},15303,96501,"FORMAAL","15303,96501,FORM"]
[{"$f":"CONCATENATE(B1197,\",\",C1197)","v":"15402,21077"},15402,21077,"FORMAAL","15402,21077,FORM"]
[{"$f":"CONCATENATE(B1198,\",\",C1198)","v":"15402,21201"},15402,21201,"FORMAAL","15402,21201,FORM"]
[{"$f":"CONCATENATE(B1199,\",\",C1199)","v":"15402,21301"},15402,21301,"FORMAAL","15402,21301,FORM"]
[{"$f":"CONCATENATE(B1200,\",\",C1200)","v":"15402,21401"},15402,21401,"FORMAAL","15402,21401,FORM"]
[{"$f":"CONCATENATE(B1201,\",\",C1201)","v":"15402,21601"},15402,21601,"FORMAAL","15402,21601,FORM"]
[{"$f":"CONCATENATE(B1202,\",\",C1202)","v":"15402,23301"},15402,23301,"FORMAAL","15402,23301,FORM"]
[{"$f":"CONCATENATE(B1203,\",\",C1203)","v":"15402,23401"},15402,23401,"FORMAAL","15402,23401,FORM"]
[{"$f":"CONCATENATE(B1204,\",\",C1204)","v":"15402,24301"},15402,24301,"FORMAAL","15402,24301,FORM"]
[{"$f":"CONCATENATE(B1205,\",\",C1205)","v":"15402,27777"},15402,27777,"FORMAAL","15402,27777,FORM"]
[{"$f":"CONCATENATE(B1206,\",\",C1206)","v":"15402,91101"},15402,91101,"FORMAAL","15402,91101,FORM"]
[{"$f":"CONCATENATE(B1207,\",\",C1207)","v":"15402,93777"},15402,93777,"FORMAAL","15402,93777,FORM"]
[{"$f":"CONCATENATE(B1208,\",\",C1208)","v":"15402,96501"},15402,96501,"FORMAAL","15402,96501,FORM"]
[{"$f":"CONCATENATE(B1209,\",\",C1209)","v":"15466,21077"},15466,21077,"FORMAAL","15466,21077,FORM"]
[{"$f":"CONCATENATE(B1210,\",\",C1210)","v":"15466,21101"},15466,21101,"FORMAAL","1021175"]
[{"$f":"CONCATENATE(B1211,\",\",C1211)","v":"15466,21201"},15466,21201,"FORMAAL","15466,21201,FORM"]
[{"$f":"CONCATENATE(B1212,\",\",C1212)","v":"15466,21202"},15466,21202,"FORMAAL","1021183"]
[{"$f":"CONCATENATE(B1213,\",\",C1213)","v":"15466,21203"},15466,21203,"FORMAAL","1021181"]
[{"$f":"CONCATENATE(B1214,\",\",C1214)","v":"15466,21301"},15466,21301,"FORMAAL","15466,21301,FORM"]
[{"$f":"CONCATENATE(B1215,\",\",C1215)","v":"15466,21302"},15466,21302,"FORMAAL","1021182"]
[{"$f":"CONCATENATE(B1216,\",\",C1216)","v":"15466,21303"},15466,21303,"FORMAAL","1021177"]
[{"$f":"CONCATENATE(B1217,\",\",C1217)","v":"15466,21304"},15466,21304,"FORMAAL","1021184"]
[{"$f":"CONCATENATE(B1218,\",\",C1218)","v":"15466,21305"},15466,21305,"FORMAAL","1021176"]
[{"$f":"CONCATENATE(B1219,\",\",C1219)","v":"15466,21401"},15466,21401,"FORMAAL","15466,21401,FORM"]
[{"$f":"CONCATENATE(B1220,\",\",C1220)","v":"15466,21601"},15466,21601,"FORMAAL","15466,21601,FORM"]
[{"$f":"CONCATENATE(B1221,\",\",C1221)","v":"15466,21701"},15466,21701,"FORMAAL","1021179"]
[{"$f":"CONCATENATE(B1222,\",\",C1222)","v":"15466,21801"},15466,21801,"FORMAAL","1021178"]
[{"$f":"CONCATENATE(B1223,\",\",C1223)","v":"15466,23201"},15466,23201,"FORMAAL","15466,23201,FORM"]
[{"$f":"CONCATENATE(B1224,\",\",C1224)","v":"15466,26102"},15466,26102,"FORMAAL","1021180"]
[{"$f":"CONCATENATE(B1225,\",\",C1225)","v":"15466,27777"},15466,27777,"FORMAAL","15466,27777,FORM"]
[{"$f":"CONCATENATE(B1226,\",\",C1226)","v":"15466,61077"},15466,61077,"FORMAAL","15466,61077,FORM"]
[{"$f":"CONCATENATE(B1227,\",\",C1227)","v":"15466,61201"},15466,61201,"FORMAAL","15466,61201,FORM"]
[{"$f":"CONCATENATE(B1228,\",\",C1228)","v":"15466,61301"},15466,61301,"FORMAAL","15466,61301,FORM"]
[{"$f":"CONCATENATE(B1229,\",\",C1229)","v":"15466,61401"},15466,61401,"FORMAAL","15466,61401,FORM"]
[{"$f":"CONCATENATE(B1230,\",\",C1230)","v":"15466,61601"},15466,61601,"FORMAAL","15466,61601,FORM"]
[{"$f":"CONCATENATE(B1231,\",\",C1231)","v":"15466,63201"},15466,63201,"FORMAAL","15466,63201,FORM"]
[{"$f":"CONCATENATE(B1232,\",\",C1232)","v":"15466,66101"},15466,66101,"FORMAAL","15466,66101,FORM"]
[{"$f":"CONCATENATE(B1233,\",\",C1233)","v":"15466,67777"},15466,67777,"FORMAAL","15466,67777,FORM"]
[{"$f":"CONCATENATE(B1234,\",\",C1234)","v":"15466,91101"},15466,91101,"FORMAAL","15466,91101,FORM"]
[{"$f":"CONCATENATE(B1235,\",\",C1235)","v":"15466,93777"},15466,93777,"FORMAAL","15466,93777,FORM"]
[{"$f":"CONCATENATE(B1236,\",\",C1236)","v":"15466,96501"},15466,96501,"FORMAAL","15466,96501,FORM"]
[{"$f":"CONCATENATE(B1237,\",\",C1237)","v":"15577,21077"},15577,21077,"FORMAAL","15577,21077,FORM"]
[{"$f":"CONCATENATE(B1238,\",\",C1238)","v":"15577,21101"},15577,21101,"FORMAAL","1021185"]
[{"$f":"CONCATENATE(B1239,\",\",C1239)","v":"15577,21201"},15577,21201,"FORMAAL","15577,21201,FORM"]
[{"$f":"CONCATENATE(B1240,\",\",C1240)","v":"15577,21202"},15577,21202,"FORMAAL","1021188"]
[{"$f":"CONCATENATE(B1241,\",\",C1241)","v":"15577,21203"},15577,21203,"FORMAAL","1021194"]
[{"$f":"CONCATENATE(B1242,\",\",C1242)","v":"15577,21301"},15577,21301,"FORMAAL","15577,21301,FORM"]
[{"$f":"CONCATENATE(B1243,\",\",C1243)","v":"15577,21302"},15577,21302,"FORMAAL","1021193"]
[{"$f":"CONCATENATE(B1244,\",\",C1244)","v":"15577,21303"},15577,21303,"FORMAAL","1021186"]
[{"$f":"CONCATENATE(B1245,\",\",C1245)","v":"15577,21304"},15577,21304,"FORMAAL","1021189"]
[{"$f":"CONCATENATE(B1246,\",\",C1246)","v":"15577,21305"},15577,21305,"FORMAAL","1021190"]
[{"$f":"CONCATENATE(B1247,\",\",C1247)","v":"15577,21401"},15577,21401,"FORMAAL","15577,21401,FORM"]
[{"$f":"CONCATENATE(B1248,\",\",C1248)","v":"15577,21701"},15577,21701,"FORMAAL","1021187"]
[{"$f":"CONCATENATE(B1249,\",\",C1249)","v":"15577,21801"},15577,21801,"FORMAAL","1021191"]
[{"$f":"CONCATENATE(B1250,\",\",C1250)","v":"15577,23201"},15577,23201,"FORMAAL","15577,23201,FORM"]
[{"$f":"CONCATENATE(B1251,\",\",C1251)","v":"15577,26102"},15577,26102,"FORMAAL","1021192"]
[{"$f":"CONCATENATE(B1252,\",\",C1252)","v":"15577,27777"},15577,27777,"FORMAAL","15577,27777,FORM"]
[{"$f":"CONCATENATE(B1253,\",\",C1253)","v":"15577,91101"},15577,91101,"FORMAAL","15577,91101,FORM"]
[{"$f":"CONCATENATE(B1254,\",\",C1254)","v":"15577,93777"},15577,93777,"FORMAAL","15577,93777,FORM"]
[{"$f":"CONCATENATE(B1255,\",\",C1255)","v":"15577,96501"},15577,96501,"FORMAAL","15577,96501,FORM"]
[{"$f":"CONCATENATE(B1256,\",\",C1256)","v":"15765,21077"},15765,21077,"FORMAAL","15765,21077,FORM"]
[{"$f":"CONCATENATE(B1257,\",\",C1257)","v":"15765,21201"},15765,21201,"FORMAAL","15765,21201,FORM"]
[{"$f":"CONCATENATE(B1258,\",\",C1258)","v":"15765,21301"},15765,21301,"FORMAAL","15765,21301,FORM"]
[{"$f":"CONCATENATE(B1259,\",\",C1259)","v":"15765,21401"},15765,21401,"FORMAAL","15765,21401,FORM"]
[{"$f":"CONCATENATE(B1260,\",\",C1260)","v":"15765,21601"},15765,21601,"FORMAAL","15765,21601,FORM"]
[{"$f":"CONCATENATE(B1261,\",\",C1261)","v":"15765,23301"},15765,23301,"FORMAAL","15765,23301,FORM"]
[{"$f":"CONCATENATE(B1262,\",\",C1262)","v":"15765,23401"},15765,23401,"FORMAAL","15765,23401,FORM"]
[{"$f":"CONCATENATE(B1263,\",\",C1263)","v":"15765,24301"},15765,24301,"FORMAAL","15765,24301,FORM"]
[{"$f":"CONCATENATE(B1264,\",\",C1264)","v":"15765,27777"},15765,27777,"FORMAAL","15765,27777,FORM"]
[{"$f":"CONCATENATE(B1265,\",\",C1265)","v":"15765,91101"},15765,91101,"FORMAAL","15765,91101,FORM"]
[{"$f":"CONCATENATE(B1266,\",\",C1266)","v":"15765,93777"},15765,93777,"FORMAAL","15765,93777,FORM"]
[{"$f":"CONCATENATE(B1267,\",\",C1267)","v":"15765,96501"},15765,96501,"FORMAAL","15765,96501,FORM"]
[{"$f":"CONCATENATE(B1268,\",\",C1268)","v":"15792,21077"},15792,21077,"FORMAAL","15792,21077,FORM"]
[{"$f":"CONCATENATE(B1269,\",\",C1269)","v":"15792,21101"},15792,21101,"FORMAAL","1021195"]
[{"$f":"CONCATENATE(B1270,\",\",C1270)","v":"15792,21202"},15792,21202,"FORMAAL","1021201"]
[{"$f":"CONCATENATE(B1271,\",\",C1271)","v":"15792,21203"},15792,21203,"FORMAAL","1021199"]
[{"$f":"CONCATENATE(B1272,\",\",C1272)","v":"15792,21301"},15792,21301,"FORMAAL","15792,21301,FORM"]
[{"$f":"CONCATENATE(B1273,\",\",C1273)","v":"15792,21302"},15792,21302,"FORMAAL","1021198"]
[{"$f":"CONCATENATE(B1274,\",\",C1274)","v":"15792,21303"},15792,21303,"FORMAAL","1021200"]
[{"$f":"CONCATENATE(B1275,\",\",C1275)","v":"15792,21304"},15792,21304,"FORMAAL","1021197"]
[{"$f":"CONCATENATE(B1276,\",\",C1276)","v":"15792,21305"},15792,21305,"FORMAAL","1021202"]
[{"$f":"CONCATENATE(B1277,\",\",C1277)","v":"15792,21401"},15792,21401,"FORMAAL","15792,21401,FORM"]
[{"$f":"CONCATENATE(B1278,\",\",C1278)","v":"15792,21601"},15792,21601,"FORMAAL","15792,21601,FORM"]
[{"$f":"CONCATENATE(B1279,\",\",C1279)","v":"15792,21701"},15792,21701,"FORMAAL","1021196"]
[{"$f":"CONCATENATE(B1280,\",\",C1280)","v":"15792,21801"},15792,21801,"FORMAAL","1021204"]
[{"$f":"CONCATENATE(B1281,\",\",C1281)","v":"15792,23201"},15792,23201,"FORMAAL","15792,23201,FORM"]
[{"$f":"CONCATENATE(B1282,\",\",C1282)","v":"15792,26102"},15792,26102,"FORMAAL","1021203"]
[{"$f":"CONCATENATE(B1283,\",\",C1283)","v":"15792,27777"},15792,27777,"FORMAAL","15792,27777,FORM"]
[{"$f":"CONCATENATE(B1284,\",\",C1284)","v":"15792,91101"},15792,91101,"FORMAAL","15792,91101,FORM"]
[{"$f":"CONCATENATE(B1285,\",\",C1285)","v":"15792,93777"},15792,93777,"FORMAAL","15792,93777,FORM"]
[{"$f":"CONCATENATE(B1286,\",\",C1286)","v":"15792,96501"},15792,96501,"FORMAAL","15792,96501,FORM"]
[{"$f":"CONCATENATE(B1287,\",\",C1287)","v":"15952,21077"},15952,21077,"FORMAAL","15952,21077,FORM"]
[{"$f":"CONCATENATE(B1288,\",\",C1288)","v":"15952,21101"},15952,21101,"FORMAAL","1021205"]
[{"$f":"CONCATENATE(B1289,\",\",C1289)","v":"15952,21202"},15952,21202,"FORMAAL","1021214"]
[{"$f":"CONCATENATE(B1290,\",\",C1290)","v":"15952,21203"},15952,21203,"FORMAAL","1021207"]
[{"$f":"CONCATENATE(B1291,\",\",C1291)","v":"15952,21302"},15952,21302,"FORMAAL","1021211"]
[{"$f":"CONCATENATE(B1292,\",\",C1292)","v":"15952,21303"},15952,21303,"FORMAAL","1021212"]
[{"$f":"CONCATENATE(B1293,\",\",C1293)","v":"15952,21304"},15952,21304,"FORMAAL","1021206"]
[{"$f":"CONCATENATE(B1294,\",\",C1294)","v":"15952,21305"},15952,21305,"FORMAAL","1021213"]
[{"$f":"CONCATENATE(B1295,\",\",C1295)","v":"15952,21701"},15952,21701,"FORMAAL","1021210"]
[{"$f":"CONCATENATE(B1296,\",\",C1296)","v":"15952,21801"},15952,21801,"FORMAAL","1021209"]
[{"$f":"CONCATENATE(B1297,\",\",C1297)","v":"15952,23201"},15952,23201,"FORMAAL","15952,23201,FORM"]
[{"$f":"CONCATENATE(B1298,\",\",C1298)","v":"15952,26102"},15952,26102,"FORMAAL","1021208"]
[{"$f":"CONCATENATE(B1299,\",\",C1299)","v":"15952,26103"},15952,26103,"FORMAAL","15952,26103,FORM"]
[{"$f":"CONCATENATE(B1300,\",\",C1300)","v":"15952,27777"},15952,27777,"FORMAAL","15952,27777,FORM"]
[{"$f":"CONCATENATE(B1301,\",\",C1301)","v":"15952,91101"},15952,91101,"FORMAAL","15952,91101,FORM"]
[{"$f":"CONCATENATE(B1302,\",\",C1302)","v":"15952,93777"},15952,93777,"FORMAAL","15952,93777,FORM"]
[{"$f":"CONCATENATE(B1303,\",\",C1303)","v":"15952,95811"},15952,95811,"FORMAAL","15952,95811,FORM"]
[{"$f":"CONCATENATE(B1304,\",\",C1304)","v":"15952,96501"},15952,96501,"FORMAAL","15952,96501,FORM"]
[{"$f":"CONCATENATE(B1305,\",\",C1305)","v":"16401,23108"},16401,23108,"FORMAAL","16401,23108,FORM"]
[{"$f":"CONCATENATE(B1306,\",\",C1306)","v":"16401,63108"},16401,63108,"FORMAAL","16401,63108,FORM"]
[{"$f":"CONCATENATE(B1307,\",\",C1307)","v":"16569,81102"},16569,81102,"FORMAAL","1018152"]
[{"$f":"CONCATENATE(B1308,\",\",C1308)","v":"16569,81103"},16569,81103,"FORMAAL","1018153"]
[{"$f":"CONCATENATE(B1309,\",\",C1309)","v":"16569,81104"},16569,81104,"FORMAAL","16569,81104,FORM"]
[{"$f":"CONCATENATE(B1310,\",\",C1310)","v":"16569,81105"},16569,81105,"FORMAAL","16569,81105,FORM"]
[{"$f":"CONCATENATE(B1311,\",\",C1311)","v":"16577,56202"},16577,56202,"FORMAAL","16577,56202,FORM"]
[{"$f":"CONCATENATE(B1312,\",\",C1312)","v":"16578,56202"},16578,56202,"FORMAAL","16578,56202,FORM"]
[{"$f":"CONCATENATE(B1313,\",\",C1313)","v":"16580,56202"},16580,56202,"FORMAAL","16580,56202,FORM"]
[{"$f":"CONCATENATE(B1314,\",\",C1314)","v":"16623,56202"},16623,56202,"FORMAAL","16623,56202,FORM"]
[{"$f":"CONCATENATE(B1315,\",\",C1315)","v":"16624,56202"},16624,56202,"FORMAAL","16624,56202,FORM"]
[{"$f":"CONCATENATE(B1316,\",\",C1316)","v":"16633,82902"},16633,82902,"FORMAAL","16633,82902,FORM"]
[{"$f":"CONCATENATE(B1317,\",\",C1317)","v":"16680,81101"},16680,81101,"FORMAAL","16680,81101,FORM"]
[{"$f":"CONCATENATE(B1318,\",\",C1318)","v":"16680,81401"},16680,81401,"FORMAAL","16680,81401,FORM"]
[{"$f":"CONCATENATE(B1319,\",\",C1319)","v":"16683,81101"},16683,81101,"FORMAAL","16683,81101,FORM"]
[{"$f":"CONCATENATE(B1320,\",\",C1320)","v":"16683,81401"},16683,81401,"FORMAAL","16683,81401,FORM"]
[{"$f":"CONCATENATE(B1321,\",\",C1321)","v":"16684,81101"},16684,81101,"FORMAAL","16684,81101,FORM"]
[{"$f":"CONCATENATE(B1322,\",\",C1322)","v":"16684,81401"},16684,81401,"FORMAAL","16684,81401,FORM"]
[{"$f":"CONCATENATE(B1323,\",\",C1323)","v":"16689,21101"},16689,21101,"FORMAAL","1021215"]
[{"$f":"CONCATENATE(B1324,\",\",C1324)","v":"16689,21202"},16689,21202,"FORMAAL","1021219"]
[{"$f":"CONCATENATE(B1325,\",\",C1325)","v":"16689,21203"},16689,21203,"FORMAAL","1021216"]
[{"$f":"CONCATENATE(B1326,\",\",C1326)","v":"16689,21302"},16689,21302,"FORMAAL","1021224"]
[{"$f":"CONCATENATE(B1327,\",\",C1327)","v":"16689,21303"},16689,21303,"FORMAAL","1021223"]
[{"$f":"CONCATENATE(B1328,\",\",C1328)","v":"16689,21304"},16689,21304,"FORMAAL","1021220"]
[{"$f":"CONCATENATE(B1329,\",\",C1329)","v":"16689,21305"},16689,21305,"FORMAAL","1021218"]
[{"$f":"CONCATENATE(B1330,\",\",C1330)","v":"16689,21701"},16689,21701,"FORMAAL","1021222"]
[{"$f":"CONCATENATE(B1331,\",\",C1331)","v":"16689,21801"},16689,21801,"FORMAAL","1021217"]
[{"$f":"CONCATENATE(B1332,\",\",C1332)","v":"16689,26102"},16689,26102,"FORMAAL","1021221"]
[{"$f":"CONCATENATE(B1333,\",\",C1333)","v":"16783,50214"},16783,50214,"FORMAAL","1016607"]
[{"$f":"CONCATENATE(B1334,\",\",C1334)","v":"16783,50215"},16783,50215,"FORMAAL","1016608"]
[{"$f":"CONCATENATE(B1335,\",\",C1335)","v":"16783,50216"},16783,50216,"FORMAAL","1016609"]
[{"$f":"CONCATENATE(B1336,\",\",C1336)","v":"16783,50217"},16783,50217,"FORMAAL","1016610"]
[{"$f":"CONCATENATE(B1337,\",\",C1337)","v":"16878,82462"},16878,82462,"FORMAAL","16878,82462,FORM"]
[{"$f":"CONCATENATE(B1338,\",\",C1338)","v":"16927,21077"},16927,21077,"FORMAAL","16927,21077,FORM"]
[{"$f":"CONCATENATE(B1339,\",\",C1339)","v":"16927,21101"},16927,21101,"FORMAAL","1021225"]
[{"$f":"CONCATENATE(B1340,\",\",C1340)","v":"16927,21201"},16927,21201,"FORMAAL","16927,21201,FORM"]
[{"$f":"CONCATENATE(B1341,\",\",C1341)","v":"16927,21202"},16927,21202,"FORMAAL","1021227"]
[{"$f":"CONCATENATE(B1342,\",\",C1342)","v":"16927,21203"},16927,21203,"FORMAAL","1021230"]
[{"$f":"CONCATENATE(B1343,\",\",C1343)","v":"16927,21301"},16927,21301,"FORMAAL","16927,21301,FORM"]
[{"$f":"CONCATENATE(B1344,\",\",C1344)","v":"16927,21302"},16927,21302,"FORMAAL","1021229"]
[{"$f":"CONCATENATE(B1345,\",\",C1345)","v":"16927,21303"},16927,21303,"FORMAAL","1021228"]
[{"$f":"CONCATENATE(B1346,\",\",C1346)","v":"16927,21304"},16927,21304,"FORMAAL","1021232"]
[{"$f":"CONCATENATE(B1347,\",\",C1347)","v":"16927,21305"},16927,21305,"FORMAAL","1021231"]
[{"$f":"CONCATENATE(B1348,\",\",C1348)","v":"16927,21401"},16927,21401,"FORMAAL","16927,21401,FORM"]
[{"$f":"CONCATENATE(B1349,\",\",C1349)","v":"16927,21601"},16927,21601,"FORMAAL","16927,21601,FORM"]
[{"$f":"CONCATENATE(B1350,\",\",C1350)","v":"16927,21701"},16927,21701,"FORMAAL","1021233"]
[{"$f":"CONCATENATE(B1351,\",\",C1351)","v":"16927,21801"},16927,21801,"FORMAAL","1021226"]
[{"$f":"CONCATENATE(B1352,\",\",C1352)","v":"16927,23201"},16927,23201,"FORMAAL","16927,23201,FORM"]
[{"$f":"CONCATENATE(B1353,\",\",C1353)","v":"16927,26102"},16927,26102,"FORMAAL","1021234"]
[{"$f":"CONCATENATE(B1354,\",\",C1354)","v":"16927,27777"},16927,27777,"FORMAAL","16927,27777,FORM"]
[{"$f":"CONCATENATE(B1355,\",\",C1355)","v":"16927,91101"},16927,91101,"FORMAAL","16927,91101,FORM"]
[{"$f":"CONCATENATE(B1356,\",\",C1356)","v":"16927,96501"},16927,96501,"FORMAAL","16927,96501,FORM"]
[{"$f":"CONCATENATE(B1357,\",\",C1357)","v":"17061,21077"},17061,21077,"FORMAAL","17061,21077,FORM"]
[{"$f":"CONCATENATE(B1358,\",\",C1358)","v":"17061,21101"},17061,21101,"FORMAAL","1021235"]
[{"$f":"CONCATENATE(B1359,\",\",C1359)","v":"17061,21202"},17061,21202,"FORMAAL","1021236"]
[{"$f":"CONCATENATE(B1360,\",\",C1360)","v":"17061,21203"},17061,21203,"FORMAAL","1021242"]
[{"$f":"CONCATENATE(B1361,\",\",C1361)","v":"17061,21301"},17061,21301,"FORMAAL","17061,21301,FORM"]
[{"$f":"CONCATENATE(B1362,\",\",C1362)","v":"17061,21302"},17061,21302,"FORMAAL","1021237"]
[{"$f":"CONCATENATE(B1363,\",\",C1363)","v":"17061,21303"},17061,21303,"FORMAAL","1021241"]
[{"$f":"CONCATENATE(B1364,\",\",C1364)","v":"17061,21304"},17061,21304,"FORMAAL","1021243"]
[{"$f":"CONCATENATE(B1365,\",\",C1365)","v":"17061,21305"},17061,21305,"FORMAAL","1021244"]
[{"$f":"CONCATENATE(B1366,\",\",C1366)","v":"17061,21401"},17061,21401,"FORMAAL","17061,21401,FORM"]
[{"$f":"CONCATENATE(B1367,\",\",C1367)","v":"17061,21701"},17061,21701,"FORMAAL","1021238"]
[{"$f":"CONCATENATE(B1368,\",\",C1368)","v":"17061,21801"},17061,21801,"FORMAAL","1021240"]
[{"$f":"CONCATENATE(B1369,\",\",C1369)","v":"17061,23201"},17061,23201,"FORMAAL","17061,23201,FORM"]
[{"$f":"CONCATENATE(B1370,\",\",C1370)","v":"17061,26102"},17061,26102,"FORMAAL","1021239"]
[{"$f":"CONCATENATE(B1371,\",\",C1371)","v":"17061,27777"},17061,27777,"FORMAAL","17061,27777,FORM"]
[{"$f":"CONCATENATE(B1372,\",\",C1372)","v":"17061,91101"},17061,91101,"FORMAAL","17061,91101,FORM"]
[{"$f":"CONCATENATE(B1373,\",\",C1373)","v":"17061,96501"},17061,96501,"FORMAAL","17061,96501,FORM"]
[{"$f":"CONCATENATE(B1374,\",\",C1374)","v":"17174,21077"},17174,21077,"FORMAAL","17174,21077,FORM"]
[{"$f":"CONCATENATE(B1375,\",\",C1375)","v":"17174,21101"},17174,21101,"FORMAAL","1021245"]
[{"$f":"CONCATENATE(B1376,\",\",C1376)","v":"17174,21202"},17174,21202,"FORMAAL","1021250"]
[{"$f":"CONCATENATE(B1377,\",\",C1377)","v":"17174,21203"},17174,21203,"FORMAAL","1021253"]
[{"$f":"CONCATENATE(B1378,\",\",C1378)","v":"17174,21301"},17174,21301,"FORMAAL","17174,21301,FORM"]
[{"$f":"CONCATENATE(B1379,\",\",C1379)","v":"17174,21302"},17174,21302,"FORMAAL","1021246"]
[{"$f":"CONCATENATE(B1380,\",\",C1380)","v":"17174,21303"},17174,21303,"FORMAAL","1021254"]
[{"$f":"CONCATENATE(B1381,\",\",C1381)","v":"17174,21304"},17174,21304,"FORMAAL","1021248"]
[{"$f":"CONCATENATE(B1382,\",\",C1382)","v":"17174,21305"},17174,21305,"FORMAAL","1021249"]
[{"$f":"CONCATENATE(B1383,\",\",C1383)","v":"17174,21401"},17174,21401,"FORMAAL","17174,21401,FORM"]
[{"$f":"CONCATENATE(B1384,\",\",C1384)","v":"17174,21601"},17174,21601,"FORMAAL","17174,21601,FORM"]
[{"$f":"CONCATENATE(B1385,\",\",C1385)","v":"17174,21701"},17174,21701,"FORMAAL","1021251"]
[{"$f":"CONCATENATE(B1386,\",\",C1386)","v":"17174,21801"},17174,21801,"FORMAAL","1021252"]
[{"$f":"CONCATENATE(B1387,\",\",C1387)","v":"17174,23201"},17174,23201,"FORMAAL","17174,23201,FORM"]
[{"$f":"CONCATENATE(B1388,\",\",C1388)","v":"17174,26102"},17174,26102,"FORMAAL","1021247"]
[{"$f":"CONCATENATE(B1389,\",\",C1389)","v":"17174,27777"},17174,27777,"FORMAAL","17174,27777,FORM"]
[{"$f":"CONCATENATE(B1390,\",\",C1390)","v":"17174,91101"},17174,91101,"FORMAAL","17174,91101,FORM"]
[{"$f":"CONCATENATE(B1391,\",\",C1391)","v":"17174,96501"},17174,96501,"FORMAAL","17174,96501,FORM"]
[{"$f":"CONCATENATE(B1392,\",\",C1392)","v":"17298,21001"},17298,21001,"FORMAAL","17298,21001,FORM"]
[{"$f":"CONCATENATE(B1393,\",\",C1393)","v":"17298,21077"},17298,21077,"FORMAAL","17298,21077,FORM"]
[{"$f":"CONCATENATE(B1394,\",\",C1394)","v":"17298,21101"},17298,21101,"FORMAAL","17298,21101,FORM"]
[{"$f":"CONCATENATE(B1395,\",\",C1395)","v":"17298,21401"},17298,21401,"FORMAAL","17298,21401,FORM"]
[{"$f":"CONCATENATE(B1396,\",\",C1396)","v":"17298,21501"},17298,21501,"FORMAAL","17298,21501,FORM"]
[{"$f":"CONCATENATE(B1397,\",\",C1397)","v":"17298,21701"},17298,21701,"FORMAAL","17298,21701,FORM"]
[{"$f":"CONCATENATE(B1398,\",\",C1398)","v":"17298,21801"},17298,21801,"FORMAAL","17298,21801,FORM"]
[{"$f":"CONCATENATE(B1399,\",\",C1399)","v":"17298,21901"},17298,21901,"FORMAAL","17298,21901,FORM"]
[{"$f":"CONCATENATE(B1400,\",\",C1400)","v":"17298,21951"},17298,21951,"FORMAAL","17298,21951,FORM"]
[{"$f":"CONCATENATE(B1401,\",\",C1401)","v":"17298,22401"},17298,22401,"FORMAAL","17298,22401,FORM"]
[{"$f":"CONCATENATE(B1402,\",\",C1402)","v":"17298,22601"},17298,22601,"FORMAAL","17298,22601,FORM"]
[{"$f":"CONCATENATE(B1403,\",\",C1403)","v":"17298,22901"},17298,22901,"FORMAAL","17298,22901,FORM"]
[{"$f":"CONCATENATE(B1404,\",\",C1404)","v":"17298,23301"},17298,23301,"FORMAAL","17298,23301,FORM"]
[{"$f":"CONCATENATE(B1405,\",\",C1405)","v":"17298,24401"},17298,24401,"FORMAAL","17298,24401,FORM"]
[{"$f":"CONCATENATE(B1406,\",\",C1406)","v":"17298,24601"},17298,24601,"FORMAAL","17298,24601,FORM"]
[{"$f":"CONCATENATE(B1407,\",\",C1407)","v":"17298,25101"},17298,25101,"FORMAAL","17298,25101,FORM"]
[{"$f":"CONCATENATE(B1408,\",\",C1408)","v":"17298,25201"},17298,25201,"FORMAAL","17298,25201,FORM"]
[{"$f":"CONCATENATE(B1409,\",\",C1409)","v":"17298,26801"},17298,26801,"FORMAAL","17298,26801,FORM"]
[{"$f":"CONCATENATE(B1410,\",\",C1410)","v":"17298,27101"},17298,27101,"FORMAAL","17298,27101,FORM"]
[{"$f":"CONCATENATE(B1411,\",\",C1411)","v":"17298,27501"},17298,27501,"FORMAAL","17298,27501,FORM"]
[{"$f":"CONCATENATE(B1412,\",\",C1412)","v":"17298,27777"},17298,27777,"FORMAAL","17298,27777,FORM"]
[{"$f":"CONCATENATE(B1413,\",\",C1413)","v":"17298,29101"},17298,29101,"FORMAAL","17298,29101,FORM"]
[{"$f":"CONCATENATE(B1414,\",\",C1414)","v":"17298,29201"},17298,29201,"FORMAAL","17298,29201,FORM"]
[{"$f":"CONCATENATE(B1415,\",\",C1415)","v":"17298,91101"},17298,91101,"FORMAAL","17298,91101,FORM"]
[{"$f":"CONCATENATE(B1416,\",\",C1416)","v":"17298,93777"},17298,93777,"FORMAAL","17298,93777,FORM"]
[{"$f":"CONCATENATE(B1417,\",\",C1417)","v":"17303,95777"},17303,95777,"FORMAAL","897637"]
[{"$f":"CONCATENATE(B1418,\",\",C1418)","v":"17546,21101"},17546,21101,"FORMAAL","1021255"]
[{"$f":"CONCATENATE(B1419,\",\",C1419)","v":"17546,21202"},17546,21202,"FORMAAL","1021262"]
[{"$f":"CONCATENATE(B1420,\",\",C1420)","v":"17546,21203"},17546,21203,"FORMAAL","1021258"]
[{"$f":"CONCATENATE(B1421,\",\",C1421)","v":"17546,21302"},17546,21302,"FORMAAL","1021260"]
[{"$f":"CONCATENATE(B1422,\",\",C1422)","v":"17546,21303"},17546,21303,"FORMAAL","1021259"]
[{"$f":"CONCATENATE(B1423,\",\",C1423)","v":"17546,21304"},17546,21304,"FORMAAL","1021261"]
[{"$f":"CONCATENATE(B1424,\",\",C1424)","v":"17546,21305"},17546,21305,"FORMAAL","1021257"]
[{"$f":"CONCATENATE(B1425,\",\",C1425)","v":"17546,21701"},17546,21701,"FORMAAL","1021264"]
[{"$f":"CONCATENATE(B1426,\",\",C1426)","v":"17546,21801"},17546,21801,"FORMAAL","1021263"]
[{"$f":"CONCATENATE(B1427,\",\",C1427)","v":"17546,26102"},17546,26102,"FORMAAL","1021256"]
[{"$f":"CONCATENATE(B1428,\",\",C1428)","v":"17590,21101"},17590,21101,"FORMAAL","1021265"]
[{"$f":"CONCATENATE(B1429,\",\",C1429)","v":"17590,21202"},17590,21202,"FORMAAL","1021273"]
[{"$f":"CONCATENATE(B1430,\",\",C1430)","v":"17590,21203"},17590,21203,"FORMAAL","1021271"]
[{"$f":"CONCATENATE(B1431,\",\",C1431)","v":"17590,21302"},17590,21302,"FORMAAL","1021272"]
[{"$f":"CONCATENATE(B1432,\",\",C1432)","v":"17590,21303"},17590,21303,"FORMAAL","1021267"]
[{"$f":"CONCATENATE(B1433,\",\",C1433)","v":"17590,21304"},17590,21304,"FORMAAL","1021274"]
[{"$f":"CONCATENATE(B1434,\",\",C1434)","v":"17590,21305"},17590,21305,"FORMAAL","1021266"]
[{"$f":"CONCATENATE(B1435,\",\",C1435)","v":"17590,21701"},17590,21701,"FORMAAL","1021269"]
[{"$f":"CONCATENATE(B1436,\",\",C1436)","v":"17590,21801"},17590,21801,"FORMAAL","1021268"]
[{"$f":"CONCATENATE(B1437,\",\",C1437)","v":"17590,26102"},17590,26102,"FORMAAL","1021270"]
[{"$f":"CONCATENATE(B1438,\",\",C1438)","v":"17611,86111"},17611,86111,"FORMAAL","1016084"]
[{"$f":"CONCATENATE(B1439,\",\",C1439)","v":"17611,86112"},17611,86112,"FORMAAL","17611,86112,FORM"]
[{"$f":"CONCATENATE(B1440,\",\",C1440)","v":"17611,96807"},17611,96807,"FORMAAL","1019269"]
[{"$f":"CONCATENATE(B1441,\",\",C1441)","v":"18047,21077"},18047,21077,"FORMAAL","18047,21077,FORM"]
[{"$f":"CONCATENATE(B1442,\",\",C1442)","v":"18047,21101"},18047,21101,"FORMAAL","1021275"]
[{"$f":"CONCATENATE(B1443,\",\",C1443)","v":"18047,21202"},18047,21202,"FORMAAL","1021278"]
[{"$f":"CONCATENATE(B1444,\",\",C1444)","v":"18047,21203"},18047,21203,"FORMAAL","1021284"]
[{"$f":"CONCATENATE(B1445,\",\",C1445)","v":"18047,21301"},18047,21301,"FORMAAL","18047,21301,FORM"]
[{"$f":"CONCATENATE(B1446,\",\",C1446)","v":"18047,21302"},18047,21302,"FORMAAL","1021283"]
[{"$f":"CONCATENATE(B1447,\",\",C1447)","v":"18047,21303"},18047,21303,"FORMAAL","1021276"]
[{"$f":"CONCATENATE(B1448,\",\",C1448)","v":"18047,21304"},18047,21304,"FORMAAL","1021279"]
[{"$f":"CONCATENATE(B1449,\",\",C1449)","v":"18047,21305"},18047,21305,"FORMAAL","1021280"]
[{"$f":"CONCATENATE(B1450,\",\",C1450)","v":"18047,21401"},18047,21401,"FORMAAL","18047,21401,FORM"]
[{"$f":"CONCATENATE(B1451,\",\",C1451)","v":"18047,21601"},18047,21601,"FORMAAL","18047,21601,FORM"]
[{"$f":"CONCATENATE(B1452,\",\",C1452)","v":"18047,21701"},18047,21701,"FORMAAL","1021277"]
[{"$f":"CONCATENATE(B1453,\",\",C1453)","v":"18047,21801"},18047,21801,"FORMAAL","1021281"]
[{"$f":"CONCATENATE(B1454,\",\",C1454)","v":"18047,23201"},18047,23201,"FORMAAL","18047,23201,FORM"]
[{"$f":"CONCATENATE(B1455,\",\",C1455)","v":"18047,26102"},18047,26102,"FORMAAL","1021282"]
[{"$f":"CONCATENATE(B1456,\",\",C1456)","v":"18047,27777"},18047,27777,"FORMAAL","18047,27777,FORM"]
[{"$f":"CONCATENATE(B1457,\",\",C1457)","v":"18047,29103"},18047,29103,"FORMAAL","18047,29103,FORM"]
[{"$f":"CONCATENATE(B1458,\",\",C1458)","v":"18047,91101"},18047,91101,"FORMAAL","18047,91101,FORM"]
[{"$f":"CONCATENATE(B1459,\",\",C1459)","v":"18047,95811"},18047,95811,"FORMAAL","18047,95811,FORM"]
[{"$f":"CONCATENATE(B1460,\",\",C1460)","v":"18047,96501"},18047,96501,"FORMAAL","18047,96501,FORM"]
[{"$f":"CONCATENATE(B1461,\",\",C1461)","v":"18052,21077"},18052,21077,"FORMAAL","18052,21077,FORM"]
[{"$f":"CONCATENATE(B1462,\",\",C1462)","v":"18052,21101"},18052,21101,"FORMAAL","1021285"]
[{"$f":"CONCATENATE(B1463,\",\",C1463)","v":"18052,21201"},18052,21201,"FORMAAL","18052,21201,FORM"]
[{"$f":"CONCATENATE(B1464,\",\",C1464)","v":"18052,21202"},18052,21202,"FORMAAL","1021291"]
[{"$f":"CONCATENATE(B1465,\",\",C1465)","v":"18052,21203"},18052,21203,"FORMAAL","1021289"]
[{"$f":"CONCATENATE(B1466,\",\",C1466)","v":"18052,21301"},18052,21301,"FORMAAL","18052,21301,FORM"]
[{"$f":"CONCATENATE(B1467,\",\",C1467)","v":"18052,21302"},18052,21302,"FORMAAL","1021288"]
[{"$f":"CONCATENATE(B1468,\",\",C1468)","v":"18052,21303"},18052,21303,"FORMAAL","1021290"]
[{"$f":"CONCATENATE(B1469,\",\",C1469)","v":"18052,21304"},18052,21304,"FORMAAL","1021287"]
[{"$f":"CONCATENATE(B1470,\",\",C1470)","v":"18052,21305"},18052,21305,"FORMAAL","1021292"]
[{"$f":"CONCATENATE(B1471,\",\",C1471)","v":"18052,21401"},18052,21401,"FORMAAL","18052,21401,FORM"]
[{"$f":"CONCATENATE(B1472,\",\",C1472)","v":"18052,21601"},18052,21601,"FORMAAL","18052,21601,FORM"]
[{"$f":"CONCATENATE(B1473,\",\",C1473)","v":"18052,21701"},18052,21701,"FORMAAL","1021286"]
[{"$f":"CONCATENATE(B1474,\",\",C1474)","v":"18052,21801"},18052,21801,"FORMAAL","1021294"]
[{"$f":"CONCATENATE(B1475,\",\",C1475)","v":"18052,23201"},18052,23201,"FORMAAL","18052,23201,FORM"]
[{"$f":"CONCATENATE(B1476,\",\",C1476)","v":"18052,26102"},18052,26102,"FORMAAL","1021293"]
[{"$f":"CONCATENATE(B1477,\",\",C1477)","v":"18052,27777"},18052,27777,"FORMAAL","18052,27777,FORM"]
[{"$f":"CONCATENATE(B1478,\",\",C1478)","v":"18052,29103"},18052,29103,"FORMAAL","18052,29103,FORM"]
[{"$f":"CONCATENATE(B1479,\",\",C1479)","v":"18052,91101"},18052,91101,"FORMAAL","18052,91101,FORM"]
[{"$f":"CONCATENATE(B1480,\",\",C1480)","v":"18052,96501"},18052,96501,"FORMAAL","18052,96501,FORM"]
[{"$f":"CONCATENATE(B1481,\",\",C1481)","v":"18056,81101"},18056,81101,"FORMAAL","18056,81101,FORM"]
[{"$f":"CONCATENATE(B1482,\",\",C1482)","v":"18056,81111"},18056,81111,"FORMAAL","18056,81111,FORM"]
[{"$f":"CONCATENATE(B1483,\",\",C1483)","v":"18056,81201"},18056,81201,"FORMAAL","18056,81201,FORM"]
[{"$f":"CONCATENATE(B1484,\",\",C1484)","v":"18056,81301"},18056,81301,"FORMAAL","18056,81301,FORM"]
[{"$f":"CONCATENATE(B1485,\",\",C1485)","v":"18056,81401"},18056,81401,"FORMAAL","18056,81401,FORM"]
[{"$f":"CONCATENATE(B1486,\",\",C1486)","v":"18056,81501"},18056,81501,"FORMAAL","18056,81501,FORM"]
[{"$f":"CONCATENATE(B1487,\",\",C1487)","v":"18056,81601"},18056,81601,"FORMAAL","18056,81601,FORM"]
[{"$f":"CONCATENATE(B1488,\",\",C1488)","v":"18056,82101"},18056,82101,"FORMAAL","18056,82101,FORM"]
[{"$f":"CONCATENATE(B1489,\",\",C1489)","v":"18056,82201"},18056,82201,"FORMAAL","18056,82201,FORM"]
[{"$f":"CONCATENATE(B1490,\",\",C1490)","v":"18056,82301"},18056,82301,"FORMAAL","18056,82301,FORM"]
[{"$f":"CONCATENATE(B1491,\",\",C1491)","v":"18056,82401"},18056,82401,"FORMAAL","18056,82401,FORM"]
[{"$f":"CONCATENATE(B1492,\",\",C1492)","v":"18056,82501"},18056,82501,"FORMAAL","18056,82501,FORM"]
[{"$f":"CONCATENATE(B1493,\",\",C1493)","v":"18056,82601"},18056,82601,"FORMAAL","18056,82601,FORM"]
[{"$f":"CONCATENATE(B1494,\",\",C1494)","v":"18056,82701"},18056,82701,"FORMAAL","18056,82701,FORM"]
[{"$f":"CONCATENATE(B1495,\",\",C1495)","v":"18056,82801"},18056,82801,"FORMAAL","18056,82801,FORM"]
[{"$f":"CONCATENATE(B1496,\",\",C1496)","v":"18056,82901"},18056,82901,"FORMAAL","18056,82901,FORM"]
[{"$f":"CONCATENATE(B1497,\",\",C1497)","v":"18056,86101"},18056,86101,"FORMAAL","18056,86101,FORM"]
[{"$f":"CONCATENATE(B1498,\",\",C1498)","v":"18056,86201"},18056,86201,"FORMAAL","18056,86201,FORM"]
[{"$f":"CONCATENATE(B1499,\",\",C1499)","v":"18056,86301"},18056,86301,"FORMAAL","18056,86301,FORM"]
[{"$f":"CONCATENATE(B1500,\",\",C1500)","v":"18056,86401"},18056,86401,"FORMAAL","18056,86401,FORM"]
[{"$f":"CONCATENATE(B1501,\",\",C1501)","v":"18056,86999"},18056,86999,"FORMAAL","18056,86999,FORM"]
[{"$f":"CONCATENATE(B1502,\",\",C1502)","v":"18056,88884"},18056,88884,"FORMAAL","18056,88884,FORM"]
[{"$f":"CONCATENATE(B1503,\",\",C1503)","v":"18056,91101"},18056,91101,"FORMAAL","18056,91101,FORM"]
[{"$f":"CONCATENATE(B1504,\",\",C1504)","v":"18056,91777"},18056,91777,"FORMAAL","1016924"]
[{"$f":"CONCATENATE(B1505,\",\",C1505)","v":"18056,92101"},18056,92101,"FORMAAL","18056,92101,FORM"]
[{"$f":"CONCATENATE(B1506,\",\",C1506)","v":"18056,92201"},18056,92201,"FORMAAL","18056,92201,FORM"]
[{"$f":"CONCATENATE(B1507,\",\",C1507)","v":"18056,92301"},18056,92301,"FORMAAL","18056,92301,FORM"]
[{"$f":"CONCATENATE(B1508,\",\",C1508)","v":"18056,92401"},18056,92401,"FORMAAL","18056,92401,FORM"]
[{"$f":"CONCATENATE(B1509,\",\",C1509)","v":"18056,92711"},18056,92711,"FORMAAL","18056,92711,FORM"]
[{"$f":"CONCATENATE(B1510,\",\",C1510)","v":"18056,92712"},18056,92712,"FORMAAL","18056,92712,FORM"]
[{"$f":"CONCATENATE(B1511,\",\",C1511)","v":"18056,92801"},18056,92801,"FORMAAL","18056,92801,FORM"]
[{"$f":"CONCATENATE(B1512,\",\",C1512)","v":"18056,93001"},18056,93001,"FORMAAL","18056,93001,FORM"]
[{"$f":"CONCATENATE(B1513,\",\",C1513)","v":"18056,93511"},18056,93511,"FORMAAL","18056,93511,FORM"]
[{"$f":"CONCATENATE(B1514,\",\",C1514)","v":"18056,93611"},18056,93611,"FORMAAL","18056,93611,FORM"]
[{"$f":"CONCATENATE(B1515,\",\",C1515)","v":"18056,93711"},18056,93711,"FORMAAL","18056,93711,FORM"]
[{"$f":"CONCATENATE(B1516,\",\",C1516)","v":"18056,93777"},18056,93777,"FORMAAL","18056,93777,FORM"]
[{"$f":"CONCATENATE(B1517,\",\",C1517)","v":"18056,96101"},18056,96101,"FORMAAL","18056,96101,FORM"]
[{"$f":"CONCATENATE(B1518,\",\",C1518)","v":"18056,96102"},18056,96102,"FORMAAL","18056,96102,FORM"]
[{"$f":"CONCATENATE(B1519,\",\",C1519)","v":"18056,96498"},18056,96498,"FORMAAL","18056,96498,FORM"]
[{"$f":"CONCATENATE(B1520,\",\",C1520)","v":"18056,96501"},18056,96501,"FORMAAL","18056,96501,FORM"]
[{"$f":"CONCATENATE(B1521,\",\",C1521)","v":"18057,81101"},18057,81101,"FORMAAL","18057,81101,FORM"]
[{"$f":"CONCATENATE(B1522,\",\",C1522)","v":"18057,81111"},18057,81111,"FORMAAL","18057,81111,FORM"]
[{"$f":"CONCATENATE(B1523,\",\",C1523)","v":"18057,81201"},18057,81201,"FORMAAL","18057,81201,FORM"]
[{"$f":"CONCATENATE(B1524,\",\",C1524)","v":"18057,81301"},18057,81301,"FORMAAL","18057,81301,FORM"]
[{"$f":"CONCATENATE(B1525,\",\",C1525)","v":"18057,81401"},18057,81401,"FORMAAL","18057,81401,FORM"]
[{"$f":"CONCATENATE(B1526,\",\",C1526)","v":"18057,81501"},18057,81501,"FORMAAL","18057,81501,FORM"]
[{"$f":"CONCATENATE(B1527,\",\",C1527)","v":"18057,81601"},18057,81601,"FORMAAL","18057,81601,FORM"]
[{"$f":"CONCATENATE(B1528,\",\",C1528)","v":"18057,82101"},18057,82101,"FORMAAL","18057,82101,FORM"]
[{"$f":"CONCATENATE(B1529,\",\",C1529)","v":"18057,82201"},18057,82201,"FORMAAL","18057,82201,FORM"]
[{"$f":"CONCATENATE(B1530,\",\",C1530)","v":"18057,82301"},18057,82301,"FORMAAL","18057,82301,FORM"]
[{"$f":"CONCATENATE(B1531,\",\",C1531)","v":"18057,82401"},18057,82401,"FORMAAL","18057,82401,FORM"]
[{"$f":"CONCATENATE(B1532,\",\",C1532)","v":"18057,82501"},18057,82501,"FORMAAL","18057,82501,FORM"]
[{"$f":"CONCATENATE(B1533,\",\",C1533)","v":"18057,82601"},18057,82601,"FORMAAL","18057,82601,FORM"]
[{"$f":"CONCATENATE(B1534,\",\",C1534)","v":"18057,82701"},18057,82701,"FORMAAL","18057,82701,FORM"]
[{"$f":"CONCATENATE(B1535,\",\",C1535)","v":"18057,82801"},18057,82801,"FORMAAL","18057,82801,FORM"]
[{"$f":"CONCATENATE(B1536,\",\",C1536)","v":"18057,82901"},18057,82901,"FORMAAL","18057,82901,FORM"]
[{"$f":"CONCATENATE(B1537,\",\",C1537)","v":"18057,86101"},18057,86101,"FORMAAL","18057,86101,FORM"]
[{"$f":"CONCATENATE(B1538,\",\",C1538)","v":"18057,86201"},18057,86201,"FORMAAL","18057,86201,FORM"]
[{"$f":"CONCATENATE(B1539,\",\",C1539)","v":"18057,86301"},18057,86301,"FORMAAL","18057,86301,FORM"]
[{"$f":"CONCATENATE(B1540,\",\",C1540)","v":"18057,86401"},18057,86401,"FORMAAL","18057,86401,FORM"]
[{"$f":"CONCATENATE(B1541,\",\",C1541)","v":"18057,86999"},18057,86999,"FORMAAL","18057,86999,FORM"]
[{"$f":"CONCATENATE(B1542,\",\",C1542)","v":"18057,87032"},18057,87032,"FORMAAL","1014248"]
[{"$f":"CONCATENATE(B1543,\",\",C1543)","v":"18057,87034"},18057,87034,"FORMAAL","1014249"]
[{"$f":"CONCATENATE(B1544,\",\",C1544)","v":"18057,87036"},18057,87036,"FORMAAL","1014250"]
[{"$f":"CONCATENATE(B1545,\",\",C1545)","v":"18057,88884"},18057,88884,"FORMAAL","18057,88884,FORM"]
[{"$f":"CONCATENATE(B1546,\",\",C1546)","v":"18057,91101"},18057,91101,"FORMAAL","18057,91101,FORM"]
[{"$f":"CONCATENATE(B1547,\",\",C1547)","v":"18057,91777"},18057,91777,"FORMAAL","1016925"]
[{"$f":"CONCATENATE(B1548,\",\",C1548)","v":"18057,92101"},18057,92101,"FORMAAL","18057,92101,FORM"]
[{"$f":"CONCATENATE(B1549,\",\",C1549)","v":"18057,92201"},18057,92201,"FORMAAL","18057,92201,FORM"]
[{"$f":"CONCATENATE(B1550,\",\",C1550)","v":"18057,92301"},18057,92301,"FORMAAL","18057,92301,FORM"]
[{"$f":"CONCATENATE(B1551,\",\",C1551)","v":"18057,92401"},18057,92401,"FORMAAL","18057,92401,FORM"]
[{"$f":"CONCATENATE(B1552,\",\",C1552)","v":"18057,92711"},18057,92711,"FORMAAL","18057,92711,FORM"]
[{"$f":"CONCATENATE(B1553,\",\",C1553)","v":"18057,92712"},18057,92712,"FORMAAL","18057,92712,FORM"]
[{"$f":"CONCATENATE(B1554,\",\",C1554)","v":"18057,92801"},18057,92801,"FORMAAL","18057,92801,FORM"]
[{"$f":"CONCATENATE(B1555,\",\",C1555)","v":"18057,93001"},18057,93001,"FORMAAL","18057,93001,FORM"]
[{"$f":"CONCATENATE(B1556,\",\",C1556)","v":"18057,93511"},18057,93511,"FORMAAL","18057,93511,FORM"]
[{"$f":"CONCATENATE(B1557,\",\",C1557)","v":"18057,93611"},18057,93611,"FORMAAL","18057,93611,FORM"]
[{"$f":"CONCATENATE(B1558,\",\",C1558)","v":"18057,93711"},18057,93711,"FORMAAL","18057,93711,FORM"]
[{"$f":"CONCATENATE(B1559,\",\",C1559)","v":"18057,93777"},18057,93777,"FORMAAL","18057,93777,FORM"]
[{"$f":"CONCATENATE(B1560,\",\",C1560)","v":"18057,96101"},18057,96101,"FORMAAL","18057,96101,FORM"]
[{"$f":"CONCATENATE(B1561,\",\",C1561)","v":"18057,96102"},18057,96102,"FORMAAL","18057,96102,FORM"]
[{"$f":"CONCATENATE(B1562,\",\",C1562)","v":"18057,96498"},18057,96498,"FORMAAL","18057,96498,FORM"]
[{"$f":"CONCATENATE(B1563,\",\",C1563)","v":"18057,96501"},18057,96501,"FORMAAL","18057,96501,FORM"]
[{"$f":"CONCATENATE(B1564,\",\",C1564)","v":"18058,81101"},18058,81101,"FORMAAL","18058,81101,FORM"]
[{"$f":"CONCATENATE(B1565,\",\",C1565)","v":"18058,81111"},18058,81111,"FORMAAL","18058,81111,FORM"]
[{"$f":"CONCATENATE(B1566,\",\",C1566)","v":"18058,81201"},18058,81201,"FORMAAL","18058,81201,FORM"]
[{"$f":"CONCATENATE(B1567,\",\",C1567)","v":"18058,81301"},18058,81301,"FORMAAL","18058,81301,FORM"]
[{"$f":"CONCATENATE(B1568,\",\",C1568)","v":"18058,81401"},18058,81401,"FORMAAL","18058,81401,FORM"]
[{"$f":"CONCATENATE(B1569,\",\",C1569)","v":"18058,81501"},18058,81501,"FORMAAL","18058,81501,FORM"]
[{"$f":"CONCATENATE(B1570,\",\",C1570)","v":"18058,81601"},18058,81601,"FORMAAL","18058,81601,FORM"]
[{"$f":"CONCATENATE(B1571,\",\",C1571)","v":"18058,82101"},18058,82101,"FORMAAL","18058,82101,FORM"]
[{"$f":"CONCATENATE(B1572,\",\",C1572)","v":"18058,82201"},18058,82201,"FORMAAL","18058,82201,FORM"]
[{"$f":"CONCATENATE(B1573,\",\",C1573)","v":"18058,82301"},18058,82301,"FORMAAL","18058,82301,FORM"]
[{"$f":"CONCATENATE(B1574,\",\",C1574)","v":"18058,82401"},18058,82401,"FORMAAL","18058,82401,FORM"]
[{"$f":"CONCATENATE(B1575,\",\",C1575)","v":"18058,82501"},18058,82501,"FORMAAL","18058,82501,FORM"]
[{"$f":"CONCATENATE(B1576,\",\",C1576)","v":"18058,82601"},18058,82601,"FORMAAL","18058,82601,FORM"]
[{"$f":"CONCATENATE(B1577,\",\",C1577)","v":"18058,82701"},18058,82701,"FORMAAL","18058,82701,FORM"]
[{"$f":"CONCATENATE(B1578,\",\",C1578)","v":"18058,82801"},18058,82801,"FORMAAL","18058,82801,FORM"]
[{"$f":"CONCATENATE(B1579,\",\",C1579)","v":"18058,82901"},18058,82901,"FORMAAL","18058,82901,FORM"]
[{"$f":"CONCATENATE(B1580,\",\",C1580)","v":"18058,86101"},18058,86101,"FORMAAL","18058,86101,FORM"]
[{"$f":"CONCATENATE(B1581,\",\",C1581)","v":"18058,86201"},18058,86201,"FORMAAL","18058,86201,FORM"]
[{"$f":"CONCATENATE(B1582,\",\",C1582)","v":"18058,86301"},18058,86301,"FORMAAL","18058,86301,FORM"]
[{"$f":"CONCATENATE(B1583,\",\",C1583)","v":"18058,86401"},18058,86401,"FORMAAL","18058,86401,FORM"]
[{"$f":"CONCATENATE(B1584,\",\",C1584)","v":"18058,86999"},18058,86999,"FORMAAL","18058,86999,FORM"]
[{"$f":"CONCATENATE(B1585,\",\",C1585)","v":"18058,88884"},18058,88884,"FORMAAL","18058,88884,FORM"]
[{"$f":"CONCATENATE(B1586,\",\",C1586)","v":"18058,91101"},18058,91101,"FORMAAL","18058,91101,FORM"]
[{"$f":"CONCATENATE(B1587,\",\",C1587)","v":"18058,91777"},18058,91777,"FORMAAL","1016926"]
[{"$f":"CONCATENATE(B1588,\",\",C1588)","v":"18058,92101"},18058,92101,"FORMAAL","18058,92101,FORM"]
[{"$f":"CONCATENATE(B1589,\",\",C1589)","v":"18058,92201"},18058,92201,"FORMAAL","18058,92201,FORM"]
[{"$f":"CONCATENATE(B1590,\",\",C1590)","v":"18058,92301"},18058,92301,"FORMAAL","18058,92301,FORM"]
[{"$f":"CONCATENATE(B1591,\",\",C1591)","v":"18058,92401"},18058,92401,"FORMAAL","18058,92401,FORM"]
[{"$f":"CONCATENATE(B1592,\",\",C1592)","v":"18058,92711"},18058,92711,"FORMAAL","18058,92711,FORM"]
[{"$f":"CONCATENATE(B1593,\",\",C1593)","v":"18058,92712"},18058,92712,"FORMAAL","18058,92712,FORM"]
[{"$f":"CONCATENATE(B1594,\",\",C1594)","v":"18058,92801"},18058,92801,"FORMAAL","18058,92801,FORM"]
[{"$f":"CONCATENATE(B1595,\",\",C1595)","v":"18058,93001"},18058,93001,"FORMAAL","18058,93001,FORM"]
[{"$f":"CONCATENATE(B1596,\",\",C1596)","v":"18058,93511"},18058,93511,"FORMAAL","18058,93511,FORM"]
[{"$f":"CONCATENATE(B1597,\",\",C1597)","v":"18058,93611"},18058,93611,"FORMAAL","18058,93611,FORM"]
[{"$f":"CONCATENATE(B1598,\",\",C1598)","v":"18058,93711"},18058,93711,"FORMAAL","18058,93711,FORM"]
[{"$f":"CONCATENATE(B1599,\",\",C1599)","v":"18058,93777"},18058,93777,"FORMAAL","18058,93777,FORM"]
[{"$f":"CONCATENATE(B1600,\",\",C1600)","v":"18058,96101"},18058,96101,"FORMAAL","18058,96101,FORM"]
[{"$f":"CONCATENATE(B1601,\",\",C1601)","v":"18058,96102"},18058,96102,"FORMAAL","18058,96102,FORM"]
[{"$f":"CONCATENATE(B1602,\",\",C1602)","v":"18058,96498"},18058,96498,"FORMAAL","18058,96498,FORM"]
[{"$f":"CONCATENATE(B1603,\",\",C1603)","v":"18058,96501"},18058,96501,"FORMAAL","18058,96501,FORM"]
[{"$f":"CONCATENATE(B1604,\",\",C1604)","v":"18231,21077"},18231,21077,"FORMAAL","18231,21077,FORM"]
[{"$f":"CONCATENATE(B1605,\",\",C1605)","v":"18231,21101"},18231,21101,"FORMAAL","1021295"]
[{"$f":"CONCATENATE(B1606,\",\",C1606)","v":"18231,21202"},18231,21202,"FORMAAL","1021304"]
[{"$f":"CONCATENATE(B1607,\",\",C1607)","v":"18231,21203"},18231,21203,"FORMAAL","1021297"]
[{"$f":"CONCATENATE(B1608,\",\",C1608)","v":"18231,21301"},18231,21301,"FORMAAL","18231,21301,FORM"]
[{"$f":"CONCATENATE(B1609,\",\",C1609)","v":"18231,21302"},18231,21302,"FORMAAL","1021301"]
[{"$f":"CONCATENATE(B1610,\",\",C1610)","v":"18231,21303"},18231,21303,"FORMAAL","1021302"]
[{"$f":"CONCATENATE(B1611,\",\",C1611)","v":"18231,21304"},18231,21304,"FORMAAL","1021296"]
[{"$f":"CONCATENATE(B1612,\",\",C1612)","v":"18231,21305"},18231,21305,"FORMAAL","1021303"]
[{"$f":"CONCATENATE(B1613,\",\",C1613)","v":"18231,21401"},18231,21401,"FORMAAL","18231,21401,FORM"]
[{"$f":"CONCATENATE(B1614,\",\",C1614)","v":"18231,21601"},18231,21601,"FORMAAL","18231,21601,FORM"]
[{"$f":"CONCATENATE(B1615,\",\",C1615)","v":"18231,21701"},18231,21701,"FORMAAL","1021300"]
[{"$f":"CONCATENATE(B1616,\",\",C1616)","v":"18231,21801"},18231,21801,"FORMAAL","1021299"]
[{"$f":"CONCATENATE(B1617,\",\",C1617)","v":"18231,23201"},18231,23201,"FORMAAL","18231,23201,FORM"]
[{"$f":"CONCATENATE(B1618,\",\",C1618)","v":"18231,26102"},18231,26102,"FORMAAL","1021298"]
[{"$f":"CONCATENATE(B1619,\",\",C1619)","v":"18231,27777"},18231,27777,"FORMAAL","18231,27777,FORM"]
[{"$f":"CONCATENATE(B1620,\",\",C1620)","v":"18231,29103"},18231,29103,"FORMAAL","18231,29103,FORM"]
[{"$f":"CONCATENATE(B1621,\",\",C1621)","v":"18231,91101"},18231,91101,"FORMAAL","18231,91101,FORM"]
[{"$f":"CONCATENATE(B1622,\",\",C1622)","v":"18231,96501"},18231,96501,"FORMAAL","18231,96501,FORM"]
[{"$f":"CONCATENATE(B1623,\",\",C1623)","v":"18391,26102"},18391,26102,"FORMAAL","1019890"]
[{"$f":"CONCATENATE(B1624,\",\",C1624)","v":"18420,21077"},18420,21077,"FORMAAL","18420,21077,FORM"]
[{"$f":"CONCATENATE(B1625,\",\",C1625)","v":"18420,21101"},18420,21101,"FORMAAL","1021305"]
[{"$f":"CONCATENATE(B1626,\",\",C1626)","v":"18420,21201"},18420,21201,"FORMAAL","18420,21201,FORM"]
[{"$f":"CONCATENATE(B1627,\",\",C1627)","v":"18420,21202"},18420,21202,"FORMAAL","1021309"]
[{"$f":"CONCATENATE(B1628,\",\",C1628)","v":"18420,21203"},18420,21203,"FORMAAL","1021306"]
[{"$f":"CONCATENATE(B1629,\",\",C1629)","v":"18420,21301"},18420,21301,"FORMAAL","18420,21301,FORM"]
[{"$f":"CONCATENATE(B1630,\",\",C1630)","v":"18420,21302"},18420,21302,"FORMAAL","1021314"]
[{"$f":"CONCATENATE(B1631,\",\",C1631)","v":"18420,21303"},18420,21303,"FORMAAL","1021313"]
[{"$f":"CONCATENATE(B1632,\",\",C1632)","v":"18420,21304"},18420,21304,"FORMAAL","1021310"]
[{"$f":"CONCATENATE(B1633,\",\",C1633)","v":"18420,21305"},18420,21305,"FORMAAL","1021308"]
[{"$f":"CONCATENATE(B1634,\",\",C1634)","v":"18420,21401"},18420,21401,"FORMAAL","18420,21401,FORM"]
[{"$f":"CONCATENATE(B1635,\",\",C1635)","v":"18420,21601"},18420,21601,"FORMAAL","18420,21601,FORM"]
[{"$f":"CONCATENATE(B1636,\",\",C1636)","v":"18420,21701"},18420,21701,"FORMAAL","1021312"]
[{"$f":"CONCATENATE(B1637,\",\",C1637)","v":"18420,21801"},18420,21801,"FORMAAL","1021307"]
[{"$f":"CONCATENATE(B1638,\",\",C1638)","v":"18420,23201"},18420,23201,"FORMAAL","18420,23201,FORM"]
[{"$f":"CONCATENATE(B1639,\",\",C1639)","v":"18420,26102"},18420,26102,"FORMAAL","1021311"]
[{"$f":"CONCATENATE(B1640,\",\",C1640)","v":"18420,27777"},18420,27777,"FORMAAL","18420,27777,FORM"]
[{"$f":"CONCATENATE(B1641,\",\",C1641)","v":"18420,29103"},18420,29103,"FORMAAL","18420,29103,FORM"]
[{"$f":"CONCATENATE(B1642,\",\",C1642)","v":"18420,91101"},18420,91101,"FORMAAL","18420,91101,FORM"]
[{"$f":"CONCATENATE(B1643,\",\",C1643)","v":"18420,96501"},18420,96501,"FORMAAL","18420,96501,FORM"]
[{"$f":"CONCATENATE(B1644,\",\",C1644)","v":"18447,95777"},18447,95777,"FORMAAL","897638"]
[{"$f":"CONCATENATE(B1645,\",\",C1645)","v":"18451,21077"},18451,21077,"FORMAAL","18451,21077,FORM"]
[{"$f":"CONCATENATE(B1646,\",\",C1646)","v":"18451,21101"},18451,21101,"FORMAAL","1021315"]
[{"$f":"CONCATENATE(B1647,\",\",C1647)","v":"18451,21201"},18451,21201,"FORMAAL","18451,21201,FORM"]
[{"$f":"CONCATENATE(B1648,\",\",C1648)","v":"18451,21202"},18451,21202,"FORMAAL","1021317"]
[{"$f":"CONCATENATE(B1649,\",\",C1649)","v":"18451,21203"},18451,21203,"FORMAAL","1021320"]
[{"$f":"CONCATENATE(B1650,\",\",C1650)","v":"18451,21301"},18451,21301,"FORMAAL","18451,21301,FORM"]
[{"$f":"CONCATENATE(B1651,\",\",C1651)","v":"18451,21302"},18451,21302,"FORMAAL","1021319"]
[{"$f":"CONCATENATE(B1652,\",\",C1652)","v":"18451,21303"},18451,21303,"FORMAAL","1021318"]
[{"$f":"CONCATENATE(B1653,\",\",C1653)","v":"18451,21304"},18451,21304,"FORMAAL","1021322"]
[{"$f":"CONCATENATE(B1654,\",\",C1654)","v":"18451,21305"},18451,21305,"FORMAAL","1021321"]
[{"$f":"CONCATENATE(B1655,\",\",C1655)","v":"18451,21601"},18451,21601,"FORMAAL","18451,21601,FORM"]
[{"$f":"CONCATENATE(B1656,\",\",C1656)","v":"18451,21701"},18451,21701,"FORMAAL","1021323"]
[{"$f":"CONCATENATE(B1657,\",\",C1657)","v":"18451,21801"},18451,21801,"FORMAAL","1021316"]
[{"$f":"CONCATENATE(B1658,\",\",C1658)","v":"18451,23201"},18451,23201,"FORMAAL","18451,23201,FORM"]
[{"$f":"CONCATENATE(B1659,\",\",C1659)","v":"18451,26102"},18451,26102,"FORMAAL","1021324"]
[{"$f":"CONCATENATE(B1660,\",\",C1660)","v":"18451,27777"},18451,27777,"FORMAAL","18451,27777,FORM"]
[{"$f":"CONCATENATE(B1661,\",\",C1661)","v":"18451,29103"},18451,29103,"FORMAAL","18451,29103,FORM"]
[{"$f":"CONCATENATE(B1662,\",\",C1662)","v":"18451,91101"},18451,91101,"FORMAAL","18451,91101,FORM"]
[{"$f":"CONCATENATE(B1663,\",\",C1663)","v":"18451,96501"},18451,96501,"FORMAAL","18451,96501,FORM"]
[{"$f":"CONCATENATE(B1664,\",\",C1664)","v":"18462,21537"},18462,21537,"FORMAAL","18462,21537,FORM"]
[{"$f":"CONCATENATE(B1665,\",\",C1665)","v":"18551,46101"},18551,46101,"FORMAAL","1014972"]
[{"$f":"CONCATENATE(B1666,\",\",C1666)","v":"18551,46102"},18551,46102,"FORMAAL","18551,46102,FORM"]
[{"$f":"CONCATENATE(B1667,\",\",C1667)","v":"18551,95777"},18551,95777,"FORMAAL","897639"]
[{"$f":"CONCATENATE(B1668,\",\",C1668)","v":"18552,46101"},18552,46101,"FORMAAL","1014973"]
[{"$f":"CONCATENATE(B1669,\",\",C1669)","v":"18555,46101"},18555,46101,"FORMAAL","1014974"]
[{"$f":"CONCATENATE(B1670,\",\",C1670)","v":"18556,46101"},18556,46101,"FORMAAL","1014975"]
[{"$f":"CONCATENATE(B1671,\",\",C1671)","v":"18556,46103"},18556,46103,"FORMAAL","18556,46103,FORM"]
[{"$f":"CONCATENATE(B1672,\",\",C1672)","v":"18556,95777"},18556,95777,"FORMAAL","897640"]
[{"$f":"CONCATENATE(B1673,\",\",C1673)","v":"18606,21101"},18606,21101,"FORMAAL","1021325"]
[{"$f":"CONCATENATE(B1674,\",\",C1674)","v":"18606,21202"},18606,21202,"FORMAAL","1021326"]
[{"$f":"CONCATENATE(B1675,\",\",C1675)","v":"18606,21203"},18606,21203,"FORMAAL","1021332"]
[{"$f":"CONCATENATE(B1676,\",\",C1676)","v":"18606,21302"},18606,21302,"FORMAAL","1021327"]
[{"$f":"CONCATENATE(B1677,\",\",C1677)","v":"18606,21303"},18606,21303,"FORMAAL","1021331"]
[{"$f":"CONCATENATE(B1678,\",\",C1678)","v":"18606,21304"},18606,21304,"FORMAAL","1021333"]
[{"$f":"CONCATENATE(B1679,\",\",C1679)","v":"18606,21305"},18606,21305,"FORMAAL","1021334"]
[{"$f":"CONCATENATE(B1680,\",\",C1680)","v":"18606,21701"},18606,21701,"FORMAAL","1021328"]
[{"$f":"CONCATENATE(B1681,\",\",C1681)","v":"18606,21801"},18606,21801,"FORMAAL","1021330"]
[{"$f":"CONCATENATE(B1682,\",\",C1682)","v":"18606,26102"},18606,26102,"FORMAAL","1021329"]
[{"$f":"CONCATENATE(B1683,\",\",C1683)","v":"18774,21077"},18774,21077,"FORMAAL","18774,21077,FORM"]
[{"$f":"CONCATENATE(B1684,\",\",C1684)","v":"18774,21101"},18774,21101,"FORMAAL","1021335"]
[{"$f":"CONCATENATE(B1685,\",\",C1685)","v":"18774,21201"},18774,21201,"FORMAAL","18774,21201,FORM"]
[{"$f":"CONCATENATE(B1686,\",\",C1686)","v":"18774,21202"},18774,21202,"FORMAAL","1021340"]
[{"$f":"CONCATENATE(B1687,\",\",C1687)","v":"18774,21203"},18774,21203,"FORMAAL","1021343"]
[{"$f":"CONCATENATE(B1688,\",\",C1688)","v":"18774,21301"},18774,21301,"FORMAAL","18774,21301,FORM"]
[{"$f":"CONCATENATE(B1689,\",\",C1689)","v":"18774,21302"},18774,21302,"FORMAAL","1021336"]
[{"$f":"CONCATENATE(B1690,\",\",C1690)","v":"18774,21303"},18774,21303,"FORMAAL","1021344"]
[{"$f":"CONCATENATE(B1691,\",\",C1691)","v":"18774,21304"},18774,21304,"FORMAAL","1021338"]
[{"$f":"CONCATENATE(B1692,\",\",C1692)","v":"18774,21305"},18774,21305,"FORMAAL","1021339"]
[{"$f":"CONCATENATE(B1693,\",\",C1693)","v":"18774,21401"},18774,21401,"FORMAAL","18774,21401,FORM"]
[{"$f":"CONCATENATE(B1694,\",\",C1694)","v":"18774,21601"},18774,21601,"FORMAAL","18774,21601,FORM"]
[{"$f":"CONCATENATE(B1695,\",\",C1695)","v":"18774,21701"},18774,21701,"FORMAAL","1021341"]
[{"$f":"CONCATENATE(B1696,\",\",C1696)","v":"18774,21801"},18774,21801,"FORMAAL","1021342"]
[{"$f":"CONCATENATE(B1697,\",\",C1697)","v":"18774,23201"},18774,23201,"FORMAAL","18774,23201,FORM"]
[{"$f":"CONCATENATE(B1698,\",\",C1698)","v":"18774,26102"},18774,26102,"FORMAAL","1021337"]
[{"$f":"CONCATENATE(B1699,\",\",C1699)","v":"18774,27777"},18774,27777,"FORMAAL","18774,27777,FORM"]
[{"$f":"CONCATENATE(B1700,\",\",C1700)","v":"18774,29103"},18774,29103,"FORMAAL","18774,29103,FORM"]
[{"$f":"CONCATENATE(B1701,\",\",C1701)","v":"18774,91101"},18774,91101,"FORMAAL","18774,91101,FORM"]
[{"$f":"CONCATENATE(B1702,\",\",C1702)","v":"18774,96501"},18774,96501,"FORMAAL","18774,96501,FORM"]
[{"$f":"CONCATENATE(B1703,\",\",C1703)","v":"18871,81502"},18871,81502,"FORMAAL","18871,81502,FORM"]
[{"$f":"CONCATENATE(B1704,\",\",C1704)","v":"18875,91777"},18875,91777,"FORMAAL","1016914"]
[{"$f":"CONCATENATE(B1705,\",\",C1705)","v":"18877,82408"},18877,82408,"FORMAAL","18877,82408,FORM"]
[{"$f":"CONCATENATE(B1706,\",\",C1706)","v":"18877,82409"},18877,82409,"FORMAAL","18877,82409,FORM"]
[{"$f":"CONCATENATE(B1707,\",\",C1707)","v":"18877,82410"},18877,82410,"FORMAAL","18877,82410,FORM"]
[{"$f":"CONCATENATE(B1708,\",\",C1708)","v":"18877,82411"},18877,82411,"FORMAAL","18877,82411,FORM"]
[{"$f":"CONCATENATE(B1709,\",\",C1709)","v":"18877,91777"},18877,91777,"FORMAAL","1016915"]
[{"$f":"CONCATENATE(B1710,\",\",C1710)","v":"18879,91777"},18879,91777,"FORMAAL","1016889"]
[{"$f":"CONCATENATE(B1711,\",\",C1711)","v":"18880,91777"},18880,91777,"FORMAAL","1016916"]
[{"$f":"CONCATENATE(B1712,\",\",C1712)","v":"18912,81807"},18912,81807,"FORMAAL","18912,81807,FORM"]
[{"$f":"CONCATENATE(B1713,\",\",C1713)","v":"19022,53031"},19022,53031,"FORMAAL","19022,53031,FORM"]
[{"$f":"CONCATENATE(B1714,\",\",C1714)","v":"19024,53802"},19024,53802,"FORMAAL","1011095"]
[{"$f":"CONCATENATE(B1715,\",\",C1715)","v":"19055,21077"},19055,21077,"FORMAAL","19055,21077,FORM"]
[{"$f":"CONCATENATE(B1716,\",\",C1716)","v":"19055,21101"},19055,21101,"FORMAAL","1021345"]
[{"$f":"CONCATENATE(B1717,\",\",C1717)","v":"19055,21201"},19055,21201,"FORMAAL","19055,21201,FORM"]
[{"$f":"CONCATENATE(B1718,\",\",C1718)","v":"19055,21202"},19055,21202,"FORMAAL","1021352"]
[{"$f":"CONCATENATE(B1719,\",\",C1719)","v":"19055,21203"},19055,21203,"FORMAAL","1021348"]
[{"$f":"CONCATENATE(B1720,\",\",C1720)","v":"19055,21301"},19055,21301,"FORMAAL","19055,21301,FORM"]
[{"$f":"CONCATENATE(B1721,\",\",C1721)","v":"19055,21302"},19055,21302,"FORMAAL","1021350"]
[{"$f":"CONCATENATE(B1722,\",\",C1722)","v":"19055,21303"},19055,21303,"FORMAAL","1021349"]
[{"$f":"CONCATENATE(B1723,\",\",C1723)","v":"19055,21304"},19055,21304,"FORMAAL","1021351"]
[{"$f":"CONCATENATE(B1724,\",\",C1724)","v":"19055,21305"},19055,21305,"FORMAAL","1021347"]
[{"$f":"CONCATENATE(B1725,\",\",C1725)","v":"19055,21401"},19055,21401,"FORMAAL","19055,21401,FORM"]
[{"$f":"CONCATENATE(B1726,\",\",C1726)","v":"19055,21601"},19055,21601,"FORMAAL","19055,21601,FORM"]
[{"$f":"CONCATENATE(B1727,\",\",C1727)","v":"19055,21701"},19055,21701,"FORMAAL","1021354"]
[{"$f":"CONCATENATE(B1728,\",\",C1728)","v":"19055,21801"},19055,21801,"FORMAAL","1021353"]
[{"$f":"CONCATENATE(B1729,\",\",C1729)","v":"19055,23201"},19055,23201,"FORMAAL","19055,23201,FORM"]
[{"$f":"CONCATENATE(B1730,\",\",C1730)","v":"19055,26102"},19055,26102,"FORMAAL","1021346"]
[{"$f":"CONCATENATE(B1731,\",\",C1731)","v":"19055,27777"},19055,27777,"FORMAAL","19055,27777,FORM"]
[{"$f":"CONCATENATE(B1732,\",\",C1732)","v":"19055,29103"},19055,29103,"FORMAAL","19055,29103,FORM"]
[{"$f":"CONCATENATE(B1733,\",\",C1733)","v":"19055,91101"},19055,91101,"FORMAAL","19055,91101,FORM"]
[{"$f":"CONCATENATE(B1734,\",\",C1734)","v":"19055,96501"},19055,96501,"FORMAAL","19055,96501,FORM"]
[{"$f":"CONCATENATE(B1735,\",\",C1735)","v":"19077,91777"},19077,91777,"FORMAAL","1016893"]
[{"$f":"CONCATENATE(B1736,\",\",C1736)","v":"19078,91777"},19078,91777,"FORMAAL","1016894"]
[{"$f":"CONCATENATE(B1737,\",\",C1737)","v":"19159,21077"},19159,21077,"FORMAAL","19159,21077,FORM"]
[{"$f":"CONCATENATE(B1738,\",\",C1738)","v":"19159,21101"},19159,21101,"FORMAAL","1021355"]
[{"$f":"CONCATENATE(B1739,\",\",C1739)","v":"19159,21201"},19159,21201,"FORMAAL","19159,21201,FORM"]
[{"$f":"CONCATENATE(B1740,\",\",C1740)","v":"19159,21202"},19159,21202,"FORMAAL","1021363"]
[{"$f":"CONCATENATE(B1741,\",\",C1741)","v":"19159,21203"},19159,21203,"FORMAAL","1021361"]
[{"$f":"CONCATENATE(B1742,\",\",C1742)","v":"19159,21301"},19159,21301,"FORMAAL","19159,21301,FORM"]
[{"$f":"CONCATENATE(B1743,\",\",C1743)","v":"19159,21302"},19159,21302,"FORMAAL","1021362"]
[{"$f":"CONCATENATE(B1744,\",\",C1744)","v":"19159,21303"},19159,21303,"FORMAAL","1021357"]
[{"$f":"CONCATENATE(B1745,\",\",C1745)","v":"19159,21304"},19159,21304,"FORMAAL","1021364"]
[{"$f":"CONCATENATE(B1746,\",\",C1746)","v":"19159,21305"},19159,21305,"FORMAAL","1021356"]
[{"$f":"CONCATENATE(B1747,\",\",C1747)","v":"19159,21401"},19159,21401,"FORMAAL","19159,21401,FORM"]
[{"$f":"CONCATENATE(B1748,\",\",C1748)","v":"19159,21601"},19159,21601,"FORMAAL","19159,21601,FORM"]
[{"$f":"CONCATENATE(B1749,\",\",C1749)","v":"19159,21701"},19159,21701,"FORMAAL","1021359"]
[{"$f":"CONCATENATE(B1750,\",\",C1750)","v":"19159,21801"},19159,21801,"FORMAAL","1021358"]
[{"$f":"CONCATENATE(B1751,\",\",C1751)","v":"19159,23201"},19159,23201,"FORMAAL","19159,23201,FORM"]
[{"$f":"CONCATENATE(B1752,\",\",C1752)","v":"19159,26102"},19159,26102,"FORMAAL","1021360"]
[{"$f":"CONCATENATE(B1753,\",\",C1753)","v":"19159,27777"},19159,27777,"FORMAAL","19159,27777,FORM"]
[{"$f":"CONCATENATE(B1754,\",\",C1754)","v":"19159,29103"},19159,29103,"FORMAAL","19159,29103,FORM"]
[{"$f":"CONCATENATE(B1755,\",\",C1755)","v":"19159,91101"},19159,91101,"FORMAAL","19159,91101,FORM"]
[{"$f":"CONCATENATE(B1756,\",\",C1756)","v":"19159,96501"},19159,96501,"FORMAAL","19159,96501,FORM"]
[{"$f":"CONCATENATE(B1757,\",\",C1757)","v":"19160,21077"},19160,21077,"FORMAAL","19160,21077,FORM"]
[{"$f":"CONCATENATE(B1758,\",\",C1758)","v":"19160,21101"},19160,21101,"FORMAAL","1021365"]
[{"$f":"CONCATENATE(B1759,\",\",C1759)","v":"19160,21201"},19160,21201,"FORMAAL","19160,21201,FORM"]
[{"$f":"CONCATENATE(B1760,\",\",C1760)","v":"19160,21202"},19160,21202,"FORMAAL","1021368"]
[{"$f":"CONCATENATE(B1761,\",\",C1761)","v":"19160,21203"},19160,21203,"FORMAAL","1021374"]
[{"$f":"CONCATENATE(B1762,\",\",C1762)","v":"19160,21301"},19160,21301,"FORMAAL","19160,21301,FORM"]
[{"$f":"CONCATENATE(B1763,\",\",C1763)","v":"19160,21302"},19160,21302,"FORMAAL","1021373"]
[{"$f":"CONCATENATE(B1764,\",\",C1764)","v":"19160,21303"},19160,21303,"FORMAAL","1021366"]
[{"$f":"CONCATENATE(B1765,\",\",C1765)","v":"19160,21304"},19160,21304,"FORMAAL","1021369"]
[{"$f":"CONCATENATE(B1766,\",\",C1766)","v":"19160,21305"},19160,21305,"FORMAAL","1021370"]
[{"$f":"CONCATENATE(B1767,\",\",C1767)","v":"19160,21401"},19160,21401,"FORMAAL","19160,21401,FORM"]
[{"$f":"CONCATENATE(B1768,\",\",C1768)","v":"19160,21601"},19160,21601,"FORMAAL","19160,21601,FORM"]
[{"$f":"CONCATENATE(B1769,\",\",C1769)","v":"19160,21701"},19160,21701,"FORMAAL","1021367"]
[{"$f":"CONCATENATE(B1770,\",\",C1770)","v":"19160,21801"},19160,21801,"FORMAAL","1021371"]
[{"$f":"CONCATENATE(B1771,\",\",C1771)","v":"19160,23201"},19160,23201,"FORMAAL","19160,23201,FORM"]
[{"$f":"CONCATENATE(B1772,\",\",C1772)","v":"19160,26102"},19160,26102,"FORMAAL","1021372"]
[{"$f":"CONCATENATE(B1773,\",\",C1773)","v":"19160,27777"},19160,27777,"FORMAAL","19160,27777,FORM"]
[{"$f":"CONCATENATE(B1774,\",\",C1774)","v":"19160,29103"},19160,29103,"FORMAAL","19160,29103,FORM"]
[{"$f":"CONCATENATE(B1775,\",\",C1775)","v":"19160,91101"},19160,91101,"FORMAAL","19160,91101,FORM"]
[{"$f":"CONCATENATE(B1776,\",\",C1776)","v":"19160,96501"},19160,96501,"FORMAAL","19160,96501,FORM"]
[{"$f":"CONCATENATE(B1777,\",\",C1777)","v":"19178,21077"},19178,21077,"FORMAAL","19178,21077,FORM"]
[{"$f":"CONCATENATE(B1778,\",\",C1778)","v":"19178,21101"},19178,21101,"FORMAAL","1021375"]
[{"$f":"CONCATENATE(B1779,\",\",C1779)","v":"19178,21201"},19178,21201,"FORMAAL","19178,21201,FORM"]
[{"$f":"CONCATENATE(B1780,\",\",C1780)","v":"19178,21202"},19178,21202,"FORMAAL","1021381"]
[{"$f":"CONCATENATE(B1781,\",\",C1781)","v":"19178,21203"},19178,21203,"FORMAAL","1021379"]
[{"$f":"CONCATENATE(B1782,\",\",C1782)","v":"19178,21301"},19178,21301,"FORMAAL","19178,21301,FORM"]
[{"$f":"CONCATENATE(B1783,\",\",C1783)","v":"19178,21302"},19178,21302,"FORMAAL","1021378"]
[{"$f":"CONCATENATE(B1784,\",\",C1784)","v":"19178,21303"},19178,21303,"FORMAAL","1021380"]
[{"$f":"CONCATENATE(B1785,\",\",C1785)","v":"19178,21304"},19178,21304,"FORMAAL","1021377"]
[{"$f":"CONCATENATE(B1786,\",\",C1786)","v":"19178,21305"},19178,21305,"FORMAAL","1021382"]
[{"$f":"CONCATENATE(B1787,\",\",C1787)","v":"19178,21401"},19178,21401,"FORMAAL","19178,21401,FORM"]
[{"$f":"CONCATENATE(B1788,\",\",C1788)","v":"19178,21701"},19178,21701,"FORMAAL","1021376"]
[{"$f":"CONCATENATE(B1789,\",\",C1789)","v":"19178,21801"},19178,21801,"FORMAAL","1021384"]
[{"$f":"CONCATENATE(B1790,\",\",C1790)","v":"19178,23201"},19178,23201,"FORMAAL","19178,23201,FORM"]
[{"$f":"CONCATENATE(B1791,\",\",C1791)","v":"19178,26102"},19178,26102,"FORMAAL","1021383"]
[{"$f":"CONCATENATE(B1792,\",\",C1792)","v":"19178,27777"},19178,27777,"FORMAAL","19178,27777,FORM"]
[{"$f":"CONCATENATE(B1793,\",\",C1793)","v":"19178,29103"},19178,29103,"FORMAAL","19178,29103,FORM"]
[{"$f":"CONCATENATE(B1794,\",\",C1794)","v":"19178,91101"},19178,91101,"FORMAAL","19178,91101,FORM"]
[{"$f":"CONCATENATE(B1795,\",\",C1795)","v":"19178,96501"},19178,96501,"FORMAAL","19178,96501,FORM"]
[{"$f":"CONCATENATE(B1796,\",\",C1796)","v":"19258,21077"},19258,21077,"FORMAAL","19258,21077,FORM"]
[{"$f":"CONCATENATE(B1797,\",\",C1797)","v":"19258,21101"},19258,21101,"FORMAAL","1021385"]
[{"$f":"CONCATENATE(B1798,\",\",C1798)","v":"19258,21201"},19258,21201,"FORMAAL","19258,21201,FORM"]
[{"$f":"CONCATENATE(B1799,\",\",C1799)","v":"19258,21202"},19258,21202,"FORMAAL","1021394"]
[{"$f":"CONCATENATE(B1800,\",\",C1800)","v":"19258,21203"},19258,21203,"FORMAAL","1021387"]
[{"$f":"CONCATENATE(B1801,\",\",C1801)","v":"19258,21302"},19258,21302,"FORMAAL","1021391"]
[{"$f":"CONCATENATE(B1802,\",\",C1802)","v":"19258,21303"},19258,21303,"FORMAAL","1021392"]
[{"$f":"CONCATENATE(B1803,\",\",C1803)","v":"19258,21304"},19258,21304,"FORMAAL","1021386"]
[{"$f":"CONCATENATE(B1804,\",\",C1804)","v":"19258,21305"},19258,21305,"FORMAAL","1021393"]
[{"$f":"CONCATENATE(B1805,\",\",C1805)","v":"19258,21401"},19258,21401,"FORMAAL","19258,21401,FORM"]
[{"$f":"CONCATENATE(B1806,\",\",C1806)","v":"19258,21701"},19258,21701,"FORMAAL","1021390"]
[{"$f":"CONCATENATE(B1807,\",\",C1807)","v":"19258,21801"},19258,21801,"FORMAAL","1021389"]
[{"$f":"CONCATENATE(B1808,\",\",C1808)","v":"19258,23201"},19258,23201,"FORMAAL","19258,23201,FORM"]
[{"$f":"CONCATENATE(B1809,\",\",C1809)","v":"19258,26102"},19258,26102,"FORMAAL","1021388"]
[{"$f":"CONCATENATE(B1810,\",\",C1810)","v":"19258,27777"},19258,27777,"FORMAAL","19258,27777,FORM"]
[{"$f":"CONCATENATE(B1811,\",\",C1811)","v":"19258,29103"},19258,29103,"FORMAAL","19258,29103,FORM"]
[{"$f":"CONCATENATE(B1812,\",\",C1812)","v":"19258,61077"},19258,61077,"FORMAAL","19258,61077,FORM"]
[{"$f":"CONCATENATE(B1813,\",\",C1813)","v":"19258,61201"},19258,61201,"FORMAAL","19258,61201,FORM"]
[{"$f":"CONCATENATE(B1814,\",\",C1814)","v":"19258,61301"},19258,61301,"FORMAAL","19258,61301,FORM"]
[{"$f":"CONCATENATE(B1815,\",\",C1815)","v":"19258,61401"},19258,61401,"FORMAAL","19258,61401,FORM"]
[{"$f":"CONCATENATE(B1816,\",\",C1816)","v":"19258,61601"},19258,61601,"FORMAAL","19258,61601,FORM"]
[{"$f":"CONCATENATE(B1817,\",\",C1817)","v":"19258,63201"},19258,63201,"FORMAAL","19258,63201,FORM"]
[{"$f":"CONCATENATE(B1818,\",\",C1818)","v":"19258,66101"},19258,66101,"FORMAAL","19258,66101,FORM"]
[{"$f":"CONCATENATE(B1819,\",\",C1819)","v":"19258,67777"},19258,67777,"FORMAAL","19258,67777,FORM"]
[{"$f":"CONCATENATE(B1820,\",\",C1820)","v":"19258,91101"},19258,91101,"FORMAAL","19258,91101,FORM"]
[{"$f":"CONCATENATE(B1821,\",\",C1821)","v":"19258,93777"},19258,93777,"FORMAAL","19258,93777,FORM"]
[{"$f":"CONCATENATE(B1822,\",\",C1822)","v":"19258,96501"},19258,96501,"FORMAAL","19258,96501,FORM"]
[{"$f":"CONCATENATE(B1823,\",\",C1823)","v":"19267,21077"},19267,21077,"FORMAAL","19267,21077,FORM"]
[{"$f":"CONCATENATE(B1824,\",\",C1824)","v":"19267,21101"},19267,21101,"FORMAAL","1021395"]
[{"$f":"CONCATENATE(B1825,\",\",C1825)","v":"19267,21201"},19267,21201,"FORMAAL","19267,21201,FORM"]
[{"$f":"CONCATENATE(B1826,\",\",C1826)","v":"19267,21202"},19267,21202,"FORMAAL","1021399"]
[{"$f":"CONCATENATE(B1827,\",\",C1827)","v":"19267,21203"},19267,21203,"FORMAAL","1021396"]
[{"$f":"CONCATENATE(B1828,\",\",C1828)","v":"19267,21301"},19267,21301,"FORMAAL","19267,21301,FORM"]
[{"$f":"CONCATENATE(B1829,\",\",C1829)","v":"19267,21302"},19267,21302,"FORMAAL","1021404"]
[{"$f":"CONCATENATE(B1830,\",\",C1830)","v":"19267,21303"},19267,21303,"FORMAAL","1021403"]
[{"$f":"CONCATENATE(B1831,\",\",C1831)","v":"19267,21304"},19267,21304,"FORMAAL","1021400"]
[{"$f":"CONCATENATE(B1832,\",\",C1832)","v":"19267,21305"},19267,21305,"FORMAAL","1021398"]
[{"$f":"CONCATENATE(B1833,\",\",C1833)","v":"19267,21401"},19267,21401,"FORMAAL","19267,21401,FORM"]
[{"$f":"CONCATENATE(B1834,\",\",C1834)","v":"19267,21601"},19267,21601,"FORMAAL","19267,21601,FORM"]
[{"$f":"CONCATENATE(B1835,\",\",C1835)","v":"19267,21701"},19267,21701,"FORMAAL","1021402"]
[{"$f":"CONCATENATE(B1836,\",\",C1836)","v":"19267,21801"},19267,21801,"FORMAAL","1021397"]
[{"$f":"CONCATENATE(B1837,\",\",C1837)","v":"19267,23201"},19267,23201,"FORMAAL","19267,23201,FORM"]
[{"$f":"CONCATENATE(B1838,\",\",C1838)","v":"19267,26102"},19267,26102,"FORMAAL","1021401"]
[{"$f":"CONCATENATE(B1839,\",\",C1839)","v":"19267,27777"},19267,27777,"FORMAAL","19267,27777,FORM"]
[{"$f":"CONCATENATE(B1840,\",\",C1840)","v":"19267,29103"},19267,29103,"FORMAAL","19267,29103,FORM"]
[{"$f":"CONCATENATE(B1841,\",\",C1841)","v":"19267,91101"},19267,91101,"FORMAAL","19267,91101,FORM"]
[{"$f":"CONCATENATE(B1842,\",\",C1842)","v":"19267,96501"},19267,96501,"FORMAAL","19267,96501,FORM"]
[{"$f":"CONCATENATE(B1843,\",\",C1843)","v":"19276,82138"},19276,82138,"FORMAAL","19276,82138,FORM"]
[{"$f":"CONCATENATE(B1844,\",\",C1844)","v":"19276,82141"},19276,82141,"FORMAAL","au261445"]
[{"$f":"CONCATENATE(B1845,\",\",C1845)","v":"19276,82144"},19276,82144,"FORMAAL","19276,82144,FORM"]
[{"$f":"CONCATENATE(B1846,\",\",C1846)","v":"19286,57587"},19286,57587,"FORMAAL","19286,57587,FORM"]
[{"$f":"CONCATENATE(B1847,\",\",C1847)","v":"19286,57589"},19286,57589,"FORMAAL","19286,57589,FORM"]
[{"$f":"CONCATENATE(B1848,\",\",C1848)","v":"19286,57590"},19286,57590,"FORMAAL","19286,57590,FORM"]
[{"$f":"CONCATENATE(B1849,\",\",C1849)","v":"19347,21077"},19347,21077,"FORMAAL","19347,21077,FORM"]
[{"$f":"CONCATENATE(B1850,\",\",C1850)","v":"19347,21101"},19347,21101,"FORMAAL","1021405"]
[{"$f":"CONCATENATE(B1851,\",\",C1851)","v":"19347,21202"},19347,21202,"FORMAAL","1021407"]
[{"$f":"CONCATENATE(B1852,\",\",C1852)","v":"19347,21203"},19347,21203,"FORMAAL","1021410"]
[{"$f":"CONCATENATE(B1853,\",\",C1853)","v":"19347,21302"},19347,21302,"FORMAAL","1021409"]
[{"$f":"CONCATENATE(B1854,\",\",C1854)","v":"19347,21303"},19347,21303,"FORMAAL","1021408"]
[{"$f":"CONCATENATE(B1855,\",\",C1855)","v":"19347,21304"},19347,21304,"FORMAAL","1021412"]
[{"$f":"CONCATENATE(B1856,\",\",C1856)","v":"19347,21305"},19347,21305,"FORMAAL","1021411"]
[{"$f":"CONCATENATE(B1857,\",\",C1857)","v":"19347,21401"},19347,21401,"FORMAAL","19347,21401,FORM"]
[{"$f":"CONCATENATE(B1858,\",\",C1858)","v":"19347,21601"},19347,21601,"FORMAAL","19347,21601,FORM"]
[{"$f":"CONCATENATE(B1859,\",\",C1859)","v":"19347,21701"},19347,21701,"FORMAAL","1021413"]
[{"$f":"CONCATENATE(B1860,\",\",C1860)","v":"19347,21801"},19347,21801,"FORMAAL","1021406"]
[{"$f":"CONCATENATE(B1861,\",\",C1861)","v":"19347,23201"},19347,23201,"FORMAAL","19347,23201,FORM"]
[{"$f":"CONCATENATE(B1862,\",\",C1862)","v":"19347,26102"},19347,26102,"FORMAAL","1021414"]
[{"$f":"CONCATENATE(B1863,\",\",C1863)","v":"19347,27777"},19347,27777,"FORMAAL","19347,27777,FORM"]
[{"$f":"CONCATENATE(B1864,\",\",C1864)","v":"19347,29103"},19347,29103,"FORMAAL","19347,29103,FORM"]
[{"$f":"CONCATENATE(B1865,\",\",C1865)","v":"19347,91101"},19347,91101,"FORMAAL","19347,91101,FORM"]
[{"$f":"CONCATENATE(B1866,\",\",C1866)","v":"19347,96501"},19347,96501,"FORMAAL","19347,96501,FORM"]
[{"$f":"CONCATENATE(B1867,\",\",C1867)","v":"19348,21077"},19348,21077,"FORMAAL","19348,21077,FORM"]
[{"$f":"CONCATENATE(B1868,\",\",C1868)","v":"19348,21101"},19348,21101,"FORMAAL","1021415"]
[{"$f":"CONCATENATE(B1869,\",\",C1869)","v":"19348,21202"},19348,21202,"FORMAAL","1021416"]
[{"$f":"CONCATENATE(B1870,\",\",C1870)","v":"19348,21203"},19348,21203,"FORMAAL","1021422"]
[{"$f":"CONCATENATE(B1871,\",\",C1871)","v":"19348,21301"},19348,21301,"FORMAAL","19348,21301,FORM"]
[{"$f":"CONCATENATE(B1872,\",\",C1872)","v":"19348,21302"},19348,21302,"FORMAAL","1021417"]
[{"$f":"CONCATENATE(B1873,\",\",C1873)","v":"19348,21303"},19348,21303,"FORMAAL","1021421"]
[{"$f":"CONCATENATE(B1874,\",\",C1874)","v":"19348,21304"},19348,21304,"FORMAAL","1021423"]
[{"$f":"CONCATENATE(B1875,\",\",C1875)","v":"19348,21305"},19348,21305,"FORMAAL","1021424"]
[{"$f":"CONCATENATE(B1876,\",\",C1876)","v":"19348,21401"},19348,21401,"FORMAAL","19348,21401,FORM"]
[{"$f":"CONCATENATE(B1877,\",\",C1877)","v":"19348,21701"},19348,21701,"FORMAAL","1021418"]
[{"$f":"CONCATENATE(B1878,\",\",C1878)","v":"19348,21801"},19348,21801,"FORMAAL","1021420"]
[{"$f":"CONCATENATE(B1879,\",\",C1879)","v":"19348,23201"},19348,23201,"FORMAAL","19348,23201,FORM"]
[{"$f":"CONCATENATE(B1880,\",\",C1880)","v":"19348,26102"},19348,26102,"FORMAAL","1021419"]
[{"$f":"CONCATENATE(B1881,\",\",C1881)","v":"19348,27777"},19348,27777,"FORMAAL","19348,27777,FORM"]
[{"$f":"CONCATENATE(B1882,\",\",C1882)","v":"19348,29103"},19348,29103,"FORMAAL","19348,29103,FORM"]
[{"$f":"CONCATENATE(B1883,\",\",C1883)","v":"19348,91101"},19348,91101,"FORMAAL","19348,91101,FORM"]
[{"$f":"CONCATENATE(B1884,\",\",C1884)","v":"19348,96501"},19348,96501,"FORMAAL","19348,96501,FORM"]
[{"$f":"CONCATENATE(B1885,\",\",C1885)","v":"19352,52621"},19352,52621,"FORMAAL","19352,52621,FORM"]
[{"$f":"CONCATENATE(B1886,\",\",C1886)","v":"19352,52709"},19352,52709,"FORMAAL","1015172"]
[{"$f":"CONCATENATE(B1887,\",\",C1887)","v":"19352,52717"},19352,52717,"FORMAAL","19352,52717,FORM"]
[{"$f":"CONCATENATE(B1888,\",\",C1888)","v":"19355,52709"},19355,52709,"FORMAAL","1015169"]
[{"$f":"CONCATENATE(B1889,\",\",C1889)","v":"19355,52712"},19355,52712,"FORMAAL","19355,52712,FORM"]
[{"$f":"CONCATENATE(B1890,\",\",C1890)","v":"19355,52724"},19355,52724,"FORMAAL","19355,52724,FORM"]
[{"$f":"CONCATENATE(B1891,\",\",C1891)","v":"19365,55631"},19365,55631,"FORMAAL","1015157"]
[{"$f":"CONCATENATE(B1892,\",\",C1892)","v":"19365,55634"},19365,55634,"FORMAAL","1015158"]
[{"$f":"CONCATENATE(B1893,\",\",C1893)","v":"19369,52621"},19369,52621,"FORMAAL","1001039"]
[{"$f":"CONCATENATE(B1894,\",\",C1894)","v":"19369,52622"},19369,52622,"FORMAAL","1001040"]
[{"$f":"CONCATENATE(B1895,\",\",C1895)","v":"19369,52656"},19369,52656,"FORMAAL","1000897"]
[{"$f":"CONCATENATE(B1896,\",\",C1896)","v":"19369,52709"},19369,52709,"FORMAAL","1015171"]
[{"$f":"CONCATENATE(B1897,\",\",C1897)","v":"19369,52711"},19369,52711,"FORMAAL","1017787"]
[{"$f":"CONCATENATE(B1898,\",\",C1898)","v":"19369,52715"},19369,52715,"FORMAAL","19369,52715,FORM"]
[{"$f":"CONCATENATE(B1899,\",\",C1899)","v":"19369,52718"},19369,52718,"FORMAAL","19369,52718,FORM"]
[{"$f":"CONCATENATE(B1900,\",\",C1900)","v":"19371,52709"},19371,52709,"FORMAAL","1015166"]
[{"$f":"CONCATENATE(B1901,\",\",C1901)","v":"19380,52666"},19380,52666,"FORMAAL","1001047"]
[{"$f":"CONCATENATE(B1902,\",\",C1902)","v":"19380,52702"},19380,52702,"FORMAAL","1015159"]
[{"$f":"CONCATENATE(B1903,\",\",C1903)","v":"19380,52703"},19380,52703,"FORMAAL","1015160"]
[{"$f":"CONCATENATE(B1904,\",\",C1904)","v":"19380,52704"},19380,52704,"FORMAAL","1015161"]
[{"$f":"CONCATENATE(B1905,\",\",C1905)","v":"19380,52705"},19380,52705,"FORMAAL","1015162"]
[{"$f":"CONCATENATE(B1906,\",\",C1906)","v":"19380,52706"},19380,52706,"FORMAAL","1015163"]
[{"$f":"CONCATENATE(B1907,\",\",C1907)","v":"19380,52707"},19380,52707,"FORMAAL","1015164"]
[{"$f":"CONCATENATE(B1908,\",\",C1908)","v":"19380,52708"},19380,52708,"FORMAAL","1015165"]
[{"$f":"CONCATENATE(B1909,\",\",C1909)","v":"19380,52709"},19380,52709,"FORMAAL","1015173"]
[{"$f":"CONCATENATE(B1910,\",\",C1910)","v":"19380,52710"},19380,52710,"FORMAAL","1016688"]
[{"$f":"CONCATENATE(B1911,\",\",C1911)","v":"19380,52714"},19380,52714,"FORMAAL","19380,52714,FORM"]
[{"$f":"CONCATENATE(B1912,\",\",C1912)","v":"19380,52721"},19380,52721,"FORMAAL","19380,52721,FORM"]
[{"$f":"CONCATENATE(B1913,\",\",C1913)","v":"19382,52642"},19382,52642,"FORMAAL","1001534"]
[{"$f":"CONCATENATE(B1914,\",\",C1914)","v":"19382,52709"},19382,52709,"FORMAAL","1015175"]
[{"$f":"CONCATENATE(B1915,\",\",C1915)","v":"19390,52709"},19390,52709,"FORMAAL","1015170"]
[{"$f":"CONCATENATE(B1916,\",\",C1916)","v":"19390,52713"},19390,52713,"FORMAAL","19390,52713,FORM"]
[{"$f":"CONCATENATE(B1917,\",\",C1917)","v":"19439,81309"},19439,81309,"FORMAAL","1000237"]
[{"$f":"CONCATENATE(B1918,\",\",C1918)","v":"19439,81310"},19439,81310,"FORMAAL","1000238"]
[{"$f":"CONCATENATE(B1919,\",\",C1919)","v":"19439,81311"},19439,81311,"FORMAAL","1000239"]
[{"$f":"CONCATENATE(B1920,\",\",C1920)","v":"19439,81312"},19439,81312,"FORMAAL","1000240"]
[{"$f":"CONCATENATE(B1921,\",\",C1921)","v":"19439,81313"},19439,81313,"FORMAAL","1000241"]
[{"$f":"CONCATENATE(B1922,\",\",C1922)","v":"19439,81314"},19439,81314,"FORMAAL","1013560"]
[{"$f":"CONCATENATE(B1923,\",\",C1923)","v":"19439,81315"},19439,81315,"FORMAAL","1020108"]
[{"$f":"CONCATENATE(B1924,\",\",C1924)","v":"19439,81316"},19439,81316,"FORMAAL","1020109"]
[{"$f":"CONCATENATE(B1925,\",\",C1925)","v":"19439,81317"},19439,81317,"FORMAAL","19439,81317,FORM"]
[{"$f":"CONCATENATE(B1926,\",\",C1926)","v":"19439,81318"},19439,81318,"FORMAAL","19439,81318,FORM"]
[{"$f":"CONCATENATE(B1927,\",\",C1927)","v":"19439,81319"},19439,81319,"FORMAAL","19439,81319,FORM"]
[{"$f":"CONCATENATE(B1928,\",\",C1928)","v":"19453,53102"},19453,53102,"FORMAAL","19453,53102,FORM"]
[{"$f":"CONCATENATE(B1929,\",\",C1929)","v":"19453,53103"},19453,53103,"FORMAAL","19453,53103,FORM"]
[{"$f":"CONCATENATE(B1930,\",\",C1930)","v":"19453,53104"},19453,53104,"FORMAAL","19453,53104,FORM"]
[{"$f":"CONCATENATE(B1931,\",\",C1931)","v":"19453,53115"},19453,53115,"FORMAAL","19453,53115,FORM"]
[{"$f":"CONCATENATE(B1932,\",\",C1932)","v":"19454,54102"},19454,54102,"FORMAAL","19454,54102,FORM"]
[{"$f":"CONCATENATE(B1933,\",\",C1933)","v":"19454,54109"},19454,54109,"FORMAAL","1012957"]
[{"$f":"CONCATENATE(B1934,\",\",C1934)","v":"19454,54111"},19454,54111,"FORMAAL","19454,54111,FORM"]
[{"$f":"CONCATENATE(B1935,\",\",C1935)","v":"19454,54113"},19454,54113,"FORMAAL","19454,54113,FORM"]
[{"$f":"CONCATENATE(B1936,\",\",C1936)","v":"19454,54114"},19454,54114,"FORMAAL","19454,54114,FORM"]
[{"$f":"CONCATENATE(B1937,\",\",C1937)","v":"19454,54118"},19454,54118,"FORMAAL","19454,54118,FORM"]
[{"$f":"CONCATENATE(B1938,\",\",C1938)","v":"19455,55151"},19455,55151,"FORMAAL","19455,55151,FORM"]
[{"$f":"CONCATENATE(B1939,\",\",C1939)","v":"19472,21077"},19472,21077,"FORMAAL","19472,21077,FORM"]
[{"$f":"CONCATENATE(B1940,\",\",C1940)","v":"19472,21101"},19472,21101,"FORMAAL","1021425"]
[{"$f":"CONCATENATE(B1941,\",\",C1941)","v":"19472,21201"},19472,21201,"FORMAAL","19472,21201,FORM"]
[{"$f":"CONCATENATE(B1942,\",\",C1942)","v":"19472,21202"},19472,21202,"FORMAAL","1021430"]
[{"$f":"CONCATENATE(B1943,\",\",C1943)","v":"19472,21203"},19472,21203,"FORMAAL","1021433"]
[{"$f":"CONCATENATE(B1944,\",\",C1944)","v":"19472,21302"},19472,21302,"FORMAAL","1021426"]
[{"$f":"CONCATENATE(B1945,\",\",C1945)","v":"19472,21303"},19472,21303,"FORMAAL","1021434"]
[{"$f":"CONCATENATE(B1946,\",\",C1946)","v":"19472,21304"},19472,21304,"FORMAAL","1021428"]
[{"$f":"CONCATENATE(B1947,\",\",C1947)","v":"19472,21305"},19472,21305,"FORMAAL","1021429"]
[{"$f":"CONCATENATE(B1948,\",\",C1948)","v":"19472,21401"},19472,21401,"FORMAAL","19472,21401,FORM"]
[{"$f":"CONCATENATE(B1949,\",\",C1949)","v":"19472,21701"},19472,21701,"FORMAAL","1021431"]
[{"$f":"CONCATENATE(B1950,\",\",C1950)","v":"19472,21801"},19472,21801,"FORMAAL","1021432"]
[{"$f":"CONCATENATE(B1951,\",\",C1951)","v":"19472,23201"},19472,23201,"FORMAAL","19472,23201,FORM"]
[{"$f":"CONCATENATE(B1952,\",\",C1952)","v":"19472,26102"},19472,26102,"FORMAAL","1021427"]
[{"$f":"CONCATENATE(B1953,\",\",C1953)","v":"19472,27777"},19472,27777,"FORMAAL","19472,27777,FORM"]
[{"$f":"CONCATENATE(B1954,\",\",C1954)","v":"19472,29103"},19472,29103,"FORMAAL","19472,29103,FORM"]
[{"$f":"CONCATENATE(B1955,\",\",C1955)","v":"19472,91101"},19472,91101,"FORMAAL","19472,91101,FORM"]
[{"$f":"CONCATENATE(B1956,\",\",C1956)","v":"19472,96501"},19472,96501,"FORMAAL","19472,96501,FORM"]
[{"$f":"CONCATENATE(B1957,\",\",C1957)","v":"19511,54421"},19511,54421,"FORMAAL","19511,54421,FORM"]
[{"$f":"CONCATENATE(B1958,\",\",C1958)","v":"19511,54422"},19511,54422,"FORMAAL","19511,54422,FORM"]
[{"$f":"CONCATENATE(B1959,\",\",C1959)","v":"19526,21077"},19526,21077,"FORMAAL","19526,21077,FORM"]
[{"$f":"CONCATENATE(B1960,\",\",C1960)","v":"19526,21101"},19526,21101,"FORMAAL","1021435"]
[{"$f":"CONCATENATE(B1961,\",\",C1961)","v":"19526,21201"},19526,21201,"FORMAAL","19526,21201,FORM"]
[{"$f":"CONCATENATE(B1962,\",\",C1962)","v":"19526,21202"},19526,21202,"FORMAAL","1021442"]
[{"$f":"CONCATENATE(B1963,\",\",C1963)","v":"19526,21203"},19526,21203,"FORMAAL","1021438"]
[{"$f":"CONCATENATE(B1964,\",\",C1964)","v":"19526,21301"},19526,21301,"FORMAAL","19526,21301,FORM"]
[{"$f":"CONCATENATE(B1965,\",\",C1965)","v":"19526,21302"},19526,21302,"FORMAAL","1021440"]
[{"$f":"CONCATENATE(B1966,\",\",C1966)","v":"19526,21303"},19526,21303,"FORMAAL","1021439"]
[{"$f":"CONCATENATE(B1967,\",\",C1967)","v":"19526,21304"},19526,21304,"FORMAAL","1021441"]
[{"$f":"CONCATENATE(B1968,\",\",C1968)","v":"19526,21305"},19526,21305,"FORMAAL","1021437"]
[{"$f":"CONCATENATE(B1969,\",\",C1969)","v":"19526,21401"},19526,21401,"FORMAAL","19526,21401,FORM"]
[{"$f":"CONCATENATE(B1970,\",\",C1970)","v":"19526,21601"},19526,21601,"FORMAAL","19526,21601,FORM"]
[{"$f":"CONCATENATE(B1971,\",\",C1971)","v":"19526,21701"},19526,21701,"FORMAAL","1021444"]
[{"$f":"CONCATENATE(B1972,\",\",C1972)","v":"19526,21801"},19526,21801,"FORMAAL","1021443"]
[{"$f":"CONCATENATE(B1973,\",\",C1973)","v":"19526,23201"},19526,23201,"FORMAAL","19526,23201,FORM"]
[{"$f":"CONCATENATE(B1974,\",\",C1974)","v":"19526,26102"},19526,26102,"FORMAAL","1021436"]
[{"$f":"CONCATENATE(B1975,\",\",C1975)","v":"19526,27777"},19526,27777,"FORMAAL","19526,27777,FORM"]
[{"$f":"CONCATENATE(B1976,\",\",C1976)","v":"19526,29103"},19526,29103,"FORMAAL","19526,29103,FORM"]
[{"$f":"CONCATENATE(B1977,\",\",C1977)","v":"19526,91101"},19526,91101,"FORMAAL","19526,91101,FORM"]
[{"$f":"CONCATENATE(B1978,\",\",C1978)","v":"19526,96501"},19526,96501,"FORMAAL","19526,96501,FORM"]
[{"$f":"CONCATENATE(B1979,\",\",C1979)","v":"19571,81209"},19571,81209,"FORMAAL","19571,81209,FORM"]
[{"$f":"CONCATENATE(B1980,\",\",C1980)","v":"19571,81210"},19571,81210,"FORMAAL","19571,81210,FORM"]
[{"$f":"CONCATENATE(B1981,\",\",C1981)","v":"19571,81211"},19571,81211,"FORMAAL","19571,81211,FORM"]
[{"$f":"CONCATENATE(B1982,\",\",C1982)","v":"19571,81213"},19571,81213,"FORMAAL","19571,81213,FORM"]
[{"$f":"CONCATENATE(B1983,\",\",C1983)","v":"19571,81214"},19571,81214,"FORMAAL","19571,81214,FORM"]
[{"$f":"CONCATENATE(B1984,\",\",C1984)","v":"19571,81215"},19571,81215,"FORMAAL","19571,81215,FORM"]
[{"$f":"CONCATENATE(B1985,\",\",C1985)","v":"19571,82163"},19571,82163,"FORMAAL","1037715"]
[{"$f":"CONCATENATE(B1986,\",\",C1986)","v":"19571,82164"},19571,82164,"FORMAAL","1037716"]
[{"$f":"CONCATENATE(B1987,\",\",C1987)","v":"19571,82170"},19571,82170,"FORMAAL","19571,82170,FORM"]
[{"$f":"CONCATENATE(B1988,\",\",C1988)","v":"19571,82177"},19571,82177,"FORMAAL","19571,82177,FORM"]
[{"$f":"CONCATENATE(B1989,\",\",C1989)","v":"19571,82178"},19571,82178,"FORMAAL","19571,82178,FORM"]
[{"$f":"CONCATENATE(B1990,\",\",C1990)","v":"19571,82179"},19571,82179,"FORMAAL","19571,82179,FORM"]
[{"$f":"CONCATENATE(B1991,\",\",C1991)","v":"19612,52325"},19612,52325,"FORMAAL","1000826"]
[{"$f":"CONCATENATE(B1992,\",\",C1992)","v":"19612,52327"},19612,52327,"FORMAAL","1000827"]
[{"$f":"CONCATENATE(B1993,\",\",C1993)","v":"19613,52339"},19613,52339,"FORMAAL","19613,52339,FORM"]
[{"$f":"CONCATENATE(B1994,\",\",C1994)","v":"19613,52340"},19613,52340,"FORMAAL","19613,52340,FORM"]
[{"$f":"CONCATENATE(B1995,\",\",C1995)","v":"19622,52222"},19622,52222,"FORMAAL","1019389"]
[{"$f":"CONCATENATE(B1996,\",\",C1996)","v":"19646,52512"},19646,52512,"FORMAAL","19646,52512,FORM"]
[{"$f":"CONCATENATE(B1997,\",\",C1997)","v":"19646,52513"},19646,52513,"FORMAAL","19646,52513,FORM"]
[{"$f":"CONCATENATE(B1998,\",\",C1998)","v":"19646,52514"},19646,52514,"FORMAAL","1001405"]
[{"$f":"CONCATENATE(B1999,\",\",C1999)","v":"19646,52519"},19646,52519,"FORMAAL","19646,52519,FORM"]
[{"$f":"CONCATENATE(B2000,\",\",C2000)","v":"19646,52526"},19646,52526,"FORMAAL","19646,52526,FORM"]
[{"$f":"CONCATENATE(B2016,\",\",C2016)","v":"19659,54064"},19659,54064,"FORMAAL","1001407"]
[{"$f":"CONCATENATE(B2047,\",\",C2047)","v":"19818,21305"},19818,21305,"FORMAAL","1021460"]
[{"$f":"CONCATENATE(B2062,\",\",C2062)","v":"19860,26109"},19860,26109,"FORMAAL","19860,26109,FORM"]
[{"$f":"CONCATENATE(B2093,\",\",C2093)","v":"19945,55221"},19945,55221,"FORMAAL","19945,55221,FORM"]
[{"$f":"CONCATENATE(B2138,\",\",C2138)","v":"20098,91101"},20098,91101,"FORMAAL","20098,91101,FORM"]
[{"$f":"CONCATENATE(B2151,\",\",C2151)","v":"20287,21202"},20287,21202,"FORMAAL","1021510"]
[{"$f":"CONCATENATE(B2185,\",\",C2185)","v":"20616,21305"},20616,21305,"FORMAAL","1021526"]
[{"$f":"CONCATENATE(B2230,\",\",C2230)","v":"20776,21305"},20776,21305,"FORMAAL","1021563"]
[{"$f":"CONCATENATE(B2261,\",\",C2261)","v":"20807,21203"},20807,21203,"FORMAAL","1021580"]
[{"$f":"CONCATENATE(B2276,\",\",C2276)","v":"20885,21305"},20885,21305,"FORMAAL","1021594"]
[{"$f":"CONCATENATE(B2321,\",\",C2321)","v":"20958,21302"},20958,21302,"FORMAAL","1021622"]
[{"$f":"CONCATENATE(B2357,\",\",C2357)","v":"21082,21077"},21082,21077,"FORMAAL","21082,21077,FORM"]
[{"$f":"CONCATENATE(B2368,\",\",C2368)","v":"21082,21601"},21082,21601,"FORMAAL","21082,21601,FORM"]
[{"$f":"CONCATENATE(B2413,\",\",C2413)","v":"21117,27777"},21117,27777,"FORMAAL","21117,27777,FORM"]
[{"$f":"CONCATENATE(B2444,\",\",C2444)","v":"21373,21302"},21373,21302,"FORMAAL","1021686"]
[{"$f":"CONCATENATE(B2459,\",\",C2459)","v":"21377,21203"},21377,21203,"FORMAAL","1021698"]
[{"$f":"CONCATENATE(B2490,\",\",C2490)","v":"21443,21801"},21443,21801,"FORMAAL","1021721"]
[{"$f":"CONCATENATE(B2528,\",\",C2528)","v":"21566,26102"},21566,26102,"FORMAAL","1021738"]
[{"$f":"CONCATENATE(B2551,\",\",C2551)","v":"21588,21303"},21588,21303,"FORMAAL","1021758"]
[{"$f":"CONCATENATE(B2582,\",\",C2582)","v":"21618,21301"},21618,21301,"FORMAAL","21618,21301,FORM"]
[{"$f":"CONCATENATE(B2627,\",\",C2627)","v":"21749,21202"},21749,21202,"FORMAAL","1021803"]
[{"$f":"CONCATENATE(B2658,\",\",C2658)","v":"21825,21202"},21825,21202,"FORMAAL","1021821"]
[{"$f":"CONCATENATE(B2673,\",\",C2673)","v":"21854,87073"},21854,87073,"FORMAAL","21854,87073,FORM"]
[{"$f":"CONCATENATE(B2699,\",\",C2699)","v":"21959,21305"},21959,21305,"FORMAAL","1021838"]
[{"$f":"CONCATENATE(B2750,\",\",C2750)","v":"22030,82201"},22030,82201,"FORMAAL","1015528"]
[{"$f":"CONCATENATE(B2765,\",\",C2765)","v":"22096,21202"},22096,21202,"FORMAAL","1021870"]
[{"$f":"CONCATENATE(B2810,\",\",C2810)","v":"22220,21701"},22220,21701,"FORMAAL","1021889"]
[{"$f":"CONCATENATE(B2841,\",\",C2841)","v":"22275,55157"},22275,55157,"FORMAAL","1018065"]
[{"$f":"CONCATENATE(B2856,\",\",C2856)","v":"22280,21401"},22280,21401,"FORMAAL","22280,21401,FORM"]
[{"$f":"CONCATENATE(B2905,\",\",C2905)","v":"22391,21701"},22391,21701,"FORMAAL","1020642"]
[{"$f":"CONCATENATE(B2933,\",\",C2933)","v":"22568,93714"},22568,93714,"FORMAAL","1012789"]
[{"$f":"CONCATENATE(B2948,\",\",C2948)","v":"22571,93702"},22571,93702,"FORMAAL","1012797"]
[{"$f":"CONCATENATE(B2979,\",\",C2979)","v":"22575,93711"},22575,93711,"FORMAAL","1012602"]
[{"$f":"CONCATENATE(B3024,\",\",C3024)","v":"22581,93714"},22581,93714,"FORMAAL","1012849"]
[{"$f":"CONCATENATE(B3039,\",\",C3039)","v":"22584,93702"},22584,93702,"FORMAAL","1012836"]
[{"$f":"CONCATENATE(B3076,\",\",C3076)","v":"22589,93704"},22589,93704,"FORMAAL","1012647"]
[{"$f":"CONCATENATE(B3116,\",\",C3116)","v":"22595,93702"},22595,93702,"FORMAAL","1012751"]
[{"$f":"CONCATENATE(B3117,\",\",C3117)","v":"22595,93703"},22595,93703,"FORMAAL","1012752"]
[{"$f":"CONCATENATE(B3162,\",\",C3162)","v":"22602,93712"},22602,93712,"FORMAAL","1012695"]
[{"$f":"CONCATENATE(B3177,\",\",C3177)","v":"22672,21202"},22672,21202,"FORMAAL","1021926"]
[{"$f":"CONCATENATE(B3208,\",\",C3208)","v":"22760,21237"},22760,21237,"FORMAAL","1000715"]
[{"$f":"CONCATENATE(B3247,\",\",C3247)","v":"22765,21276"},22765,21276,"FORMAAL","22765,21276,FORM"]
[{"$f":"CONCATENATE(B3285,\",\",C3285)","v":"23143,21305"},23143,21305,"FORMAAL","1021960"]
[{"$f":"CONCATENATE(B3300,\",\",C3300)","v":"23216,21202"},23216,21202,"FORMAAL","1021984"]
[{"$f":"CONCATENATE(B3345,\",\",C3345)","v":"23659,21202"},23659,21202,"FORMAAL","1022006"]
[{"$f":"CONCATENATE(B3376,\",\",C3376)","v":"23721,21201"},23721,21201,"FORMAAL","23721,21201,FORM"]
[{"$f":"CONCATENATE(B3391,\",\",C3391)","v":"23721,29103"},23721,29103,"FORMAAL","23721,29103,FORM"]
[{"$f":"CONCATENATE(B3418,\",\",C3418)","v":"23865,21303"},23865,21303,"FORMAAL","1022060"]
[{"$f":"CONCATENATE(B3468,\",\",C3468)","v":"24229,21305"},24229,21305,"FORMAAL","1022091"]
[{"$f":"CONCATENATE(B3483,\",\",C3483)","v":"24230,21302"},24230,21302,"FORMAAL","1022097"]
[{"$f":"CONCATENATE(B3514,\",\",C3514)","v":"24287,26102"},24287,26102,"FORMAAL","1020656"]
[{"$f":"CONCATENATE(B3559,\",\",C3559)","v":"24308,46101"},24308,46101,"FORMAAL","1014981"]
[{"$f":"CONCATENATE(B3574,\",\",C3574)","v":"24322,26102"},24322,26102,"FORMAAL","1022123"]
[{"$f":"CONCATENATE(B3624,\",\",C3624)","v":"24405,21801"},24405,21801,"FORMAAL","1020575"]
[{"$f":"CONCATENATE(B3651,\",\",C3651)","v":"24448,27777"},24448,27777,"FORMAAL","24448,27777,FORM"]
[{"$f":"CONCATENATE(B3682,\",\",C3682)","v":"24472,21305"},24472,21305,"FORMAAL","1022167"]
[{"$f":"CONCATENATE(B3697,\",\",C3697)","v":"24491,21305"},24491,21305,"FORMAAL","1022176"]
[{"$f":"CONCATENATE(B3742,\",\",C3742)","v":"24531,57587"},24531,57587,"FORMAAL","24531,57587,FORM"]
[{"$f":"CONCATENATE(B3773,\",\",C3773)","v":"24721,21303"},24721,21303,"FORMAAL","1022218"]
[{"$f":"CONCATENATE(B3795,\",\",C3795)","v":"24794,26236"},24794,26236,"FORMAAL","1013656"]
[{"$f":"CONCATENATE(B3834,\",\",C3834)","v":"24865,21202"},24865,21202,"FORMAAL","1022226"]
[{"$f":"CONCATENATE(B3865,\",\",C3865)","v":"24878,91101"},24878,91101,"FORMAAL","24878,91101,FORM"]
[{"$f":"CONCATENATE(B3880,\",\",C3880)","v":"24882,23201"},24882,23201,"FORMAAL","24882,23201,FORM"]
[{"$f":"CONCATENATE(B3911,\",\",C3911)","v":"24931,21302"},24931,21302,"FORMAAL","1022273"]
[{"$f":"CONCATENATE(B3956,\",\",C3956)","v":"25046,21304"},25046,21304,"FORMAAL","1022286"]
[{"$f":"CONCATENATE(B3966,\",\",C3966)","v":"25135,84290"},25135,84290,"FORMAAL","1002781"]
[{"$f":"CONCATENATE(B4003,\",\",C4003)","v":"25202,22131"},25202,22131,"FORMAAL","25202,22131,FORM"]
[{"$f":"CONCATENATE(B4048,\",\",C4048)","v":"25202,22911"},25202,22911,"FORMAAL","25202,22911,FORM"]
[{"$f":"CONCATENATE(B4063,\",\",C4063)","v":"25202,48141"},25202,48141,"FORMAAL","25202,48141,FORM"]
[{"$f":"CONCATENATE(B4094,\",\",C4094)","v":"25224,26102"},25224,26102,"FORMAAL","1022319"]
[{"$f":"CONCATENATE(B4139,\",\",C4139)","v":"25236,81048"},25236,81048,"FORMAAL","897862"]
[{"$f":"CONCATENATE(B4172,\",\",C4172)","v":"25237,81080"},25237,81080,"FORMAAL","25237,81080,FORM"]
[{"$f":"CONCATENATE(B4186,\",\",C4186)","v":"25239,81047"},25239,81047,"FORMAAL","897900"]
[{"$f":"CONCATENATE(B4231,\",\",C4231)","v":"25244,21304"},25244,21304,"FORMAAL","1022328"]
[{"$f":"CONCATENATE(B4262,\",\",C4262)","v":"25258,21801"},25258,21801,"FORMAAL","1022343"]
[{"$f":"CONCATENATE(B4277,\",\",C4277)","v":"25277,21301"},25277,21301,"FORMAAL","25277,21301,FORM"]
[{"$f":"CONCATENATE(B4308,\",\",C4308)","v":"25329,22161"},25329,22161,"FORMAAL","25329,22161,FORM"]
[{"$f":"CONCATENATE(B4343,\",\",C4343)","v":"25329,22751"},25329,22751,"FORMAAL","25329,22751,FORM"]
[{"$f":"CONCATENATE(B4369,\",\",C4369)","v":"25329,58111"},25329,58111,"FORMAAL","25329,58111,FORM"]
[{"$f":"CONCATENATE(B4400,\",\",C4400)","v":"25379,41031"},25379,41031,"FORMAAL","25379,41031,FORM"]
[{"$f":"CONCATENATE(B4415,\",\",C4415)","v":"25385,81135"},25385,81135,"FORMAAL","900334"]
[{"$f":"CONCATENATE(B4460,\",\",C4460)","v":"25431,21601"},25431,21601,"FORMAAL","25431,21601,FORM"]
[{"$f":"CONCATENATE(B4491,\",\",C4491)","v":"25435,43502"},25435,43502,"FORMAAL","25435,43502,FORM"]
[{"$f":"CONCATENATE(B4514,\",\",C4514)","v":"25435,45003"},25435,45003,"FORMAAL","899941"]
[{"$f":"CONCATENATE(B4538,\",\",C4538)","v":"25609,21202"},25609,21202,"FORMAAL","1022406"]
[{"$f":"CONCATENATE(B4583,\",\",C4583)","v":"25734,23201"},25734,23201,"FORMAAL","25734,23201,FORM"]
[{"$f":"CONCATENATE(B4598,\",\",C4598)","v":"25846,21304"},25846,21304,"FORMAAL","1020704"]
[{"$f":"CONCATENATE(B4629,\",\",C4629)","v":"25862,21202"},25862,21202,"FORMAAL","1022451"]
[{"$f":"CONCATENATE(B4674,\",\",C4674)","v":"25902,27777"},25902,27777,"FORMAAL","25902,27777,FORM"]
[{"$f":"CONCATENATE(B4685,\",\",C4685)","v":"25951,21303"},25951,21303,"FORMAAL","1022478"]
[{"$f":"CONCATENATE(B4721,\",\",C4721)","v":"26102,26102"},26102,26102,"FORMAAL","1022497"]
[{"$f":"CONCATENATE(B4766,\",\",C4766)","v":"26162,21302"},26162,21302,"FORMAAL","1022533"]
[{"$f":"CONCATENATE(B4797,\",\",C4797)","v":"26211,21801"},26211,21801,"FORMAAL","1022549"]
[{"$f":"CONCATENATE(B4812,\",\",C4812)","v":"26244,83113"},26244,83113,"FORMAAL","1010853"]
[{"$f":"CONCATENATE(B4857,\",\",C4857)","v":"26285,21306"},26285,21306,"FORMAAL","26285,21306,FORM"]
[{"$f":"CONCATENATE(B4891,\",\",C4891)","v":"26360,95777"},26360,95777,"FORMAAL","897653"]
[{"$f":"CONCATENATE(B4904,\",\",C4904)","v":"26379,21801"},26379,21801,"FORMAAL","1022588"]
[{"$f":"CONCATENATE(B4935,\",\",C4935)","v":"26432,26102"},26432,26102,"FORMAAL","1022613"]
[{"$f":"CONCATENATE(B4980,\",\",C4980)","v":"26451,21201"},26451,21201,"FORMAAL","26451,21201,FORM"]
[{"$f":"CONCATENATE(B4995,\",\",C4995)","v":"26451,29103"},26451,29103,"FORMAAL","26451,29103,FORM"]
[{"$f":"CONCATENATE(B5026,\",\",C5026)","v":"26459,21304"},26459,21304,"FORMAAL","1020748"]
[{"$f":"CONCATENATE(B5062,\",\",C5062)","v":"26498,21203"},26498,21203,"FORMAAL","1020761"]
[{"$f":"CONCATENATE(B5087,\",\",C5087)","v":"26509,21401"},26509,21401,"FORMAAL","26509,21401,FORM"]
[{"$f":"CONCATENATE(B5118,\",\",C5118)","v":"26520,21202"},26520,21202,"FORMAAL","1022654"]
[{"$f":"CONCATENATE(B5163,\",\",C5163)","v":"26567,21701"},26567,21701,"FORMAAL","1022678"]
[{"$f":"CONCATENATE(B5194,\",\",C5194)","v":"26613,21801"},26613,21801,"FORMAAL","1022708"]
[{"$f":"CONCATENATE(B5209,\",\",C5209)","v":"26648,21801"},26648,21801,"FORMAAL","1020791"]
[{"$f":"CONCATENATE(B5233,\",\",C5233)","v":"26716,21101"},26716,21101,"FORMAAL","1022725"]
[{"$f":"CONCATENATE(B5286,\",\",C5286)","v":"26842,21203"},26842,21203,"FORMAAL","1022752"]
[{"$f":"CONCATENATE(B5301,\",\",C5301)","v":"26856,21701"},26856,21701,"FORMAAL","1022761"]
[{"$f":"CONCATENATE(B5332,\",\",C5332)","v":"26870,21305"},26870,21305,"FORMAAL","1020806"]
[{"$f":"CONCATENATE(B5377,\",\",C5377)","v":"26897,23201"},26897,23201,"FORMAAL","26897,23201,FORM"]
[{"$f":"CONCATENATE(B5392,\",\",C5392)","v":"26900,82801"},26900,82801,"FORMAAL","900393"]
[{"$f":"CONCATENATE(B5439,\",\",C5439)","v":"26925,26102"},26925,26102,"FORMAAL","1020841"]
[{"$f":"CONCATENATE(B5469,\",\",C5469)","v":"26973,21305"},26973,21305,"FORMAAL","1022804"]
[{"$f":"CONCATENATE(B5484,\",\",C5484)","v":"27005,81603"},27005,81603,"FORMAAL","27005,81603,FORM"]
[{"$f":"CONCATENATE(B5515,\",\",C5515)","v":"27039,26102"},27039,26102,"FORMAAL","1022807"]
[{"$f":"CONCATENATE(B5530,\",\",C5530)","v":"27044,23201"},27044,23201,"FORMAAL","27044,23201,FORM"]
[{"$f":"CONCATENATE(B5561,\",\",C5561)","v":"27049,21305"},27049,21305,"FORMAAL","1022840"]
[{"$f":"CONCATENATE(B5610,\",\",C5610)","v":"27127,21601"},27127,21601,"FORMAAL","27127,21601,FORM"]
[{"$f":"CONCATENATE(B5622,\",\",C5622)","v":"27147,21202"},27147,21202,"FORMAAL","1022877"]
[{"$f":"CONCATENATE(B5653,\",\",C5653)","v":"27170,23201"},27170,23201,"FORMAAL","27170,23201,FORM"]
[{"$f":"CONCATENATE(B5698,\",\",C5698)","v":"27228,96501"},27228,96501,"FORMAAL","27228,96501,FORM"]
[{"$f":"CONCATENATE(B5713,\",\",C5713)","v":"27318,16001"},27318,16001,"FORMAAL","1017135"]
[{"$f":"CONCATENATE(B5754,\",\",C5754)","v":"27401,25201"},27401,25201,"FORMAAL","27401,25201,FORM"]
[{"$f":"CONCATENATE(B5790,\",\",C5790)","v":"27431,26102"},27431,26102,"FORMAAL","1022961"]
[{"$f":"CONCATENATE(B5821,\",\",C5821)","v":"27470,21201"},27470,21201,"FORMAAL","27470,21201,FORM"]
[{"$f":"CONCATENATE(B5836,\",\",C5836)","v":"27484,21304"},27484,21304,"FORMAAL","1022988"]
[{"$f":"CONCATENATE(B5881,\",\",C5881)","v":"27538,21202"},27538,21202,"FORMAAL","1023018"]
[{"$f":"CONCATENATE(B5912,\",\",C5912)","v":"27604,22231"},27604,22231,"FORMAAL","1015063"]
[{"$f":"CONCATENATE(B5925,\",\",C5925)","v":"27604,95814"},27604,95814,"FORMAAL","1015092"]
[{"$f":"CONCATENATE(B5959,\",\",C5959)","v":"27644,21302"},27644,21302,"FORMAAL","1023054"]
[{"$f":"CONCATENATE(B6004,\",\",C6004)","v":"27730,21301"},27730,21301,"FORMAAL","27730,21301,FORM"]
[{"$f":"CONCATENATE(B6019,\",\",C6019)","v":"27859,21101"},27859,21101,"FORMAAL","1023085"]
[{"$f":"CONCATENATE(B6050,\",\",C6050)","v":"27887,21601"},27887,21601,"FORMAAL","27887,21601,FORM"]
[{"$f":"CONCATENATE(B6095,\",\",C6095)","v":"27915,21701"},27915,21701,"FORMAAL","1023116"]
[{"$f":"CONCATENATE(B6127,\",\",C6127)","v":"27941,23201"},27941,23201,"FORMAAL","27941,23201,FORM"]
[{"$f":"CONCATENATE(B6142,\",\",C6142)","v":"27944,26102"},27944,26102,"FORMAAL","1023141"]
[{"$f":"CONCATENATE(B6187,\",\",C6187)","v":"27986,21304"},27986,21304,"FORMAAL","1023181"]
[{"$f":"CONCATENATE(B6218,\",\",C6218)","v":"28119,21305"},28119,21305,"FORMAAL","1023212"]
[{"$f":"CONCATENATE(B6233,\",\",C6233)","v":"28122,21801"},28122,21801,"FORMAAL","1023219"]
[{"$f":"CONCATENATE(B6278,\",\",C6278)","v":"28128,21801"},28128,21801,"FORMAAL","1023250"]
[{"$f":"CONCATENATE(B6302,\",\",C6302)","v":"28138,21202"},28138,21202,"FORMAAL","1023272"]
[{"$f":"CONCATENATE(B6325,\",\",C6325)","v":"28203,21202"},28203,21202,"FORMAAL","1023283"]
[{"$f":"CONCATENATE(B6356,\",\",C6356)","v":"28215,26102"},28215,26102,"FORMAAL","1020852"]
[{"$f":"CONCATENATE(B6401,\",\",C6401)","v":"28261,21203"},28261,21203,"FORMAAL","1023306"]
[{"$f":"CONCATENATE(B6416,\",\",C6416)","v":"28266,82824"},28266,82824,"FORMAAL","28266,82824,FORM"]
[{"$f":"CONCATENATE(B6447,\",\",C6447)","v":"28311,21701"},28311,21701,"FORMAAL","1023328"]
[{"$f":"CONCATENATE(B6473,\",\",C6473)","v":"28339,21203"},28339,21203,"FORMAAL","1023348"]
[{"$f":"CONCATENATE(B6508,\",\",C6508)","v":"28362,29100"},28362,29100,"FORMAAL","1009564"]
[{"$f":"CONCATENATE(B6539,\",\",C6539)","v":"28413,21302"},28413,21302,"FORMAAL","1023378"]
[{"$f":"CONCATENATE(B6584,\",\",C6584)","v":"28427,21201"},28427,21201,"FORMAAL","28427,21201,FORM"]
[{"$f":"CONCATENATE(B6615,\",\",C6615)","v":"28552,21203"},28552,21203,"FORMAAL","1023422"]
[{"$f":"CONCATENATE(B6630,\",\",C6630)","v":"28580,22112"},28580,22112,"FORMAAL","900770"]
[{"$f":"CONCATENATE(B6675,\",\",C6675)","v":"28628,93712"},28628,93712,"FORMAAL","1012486"]
[{"$f":"CONCATENATE(B6677,\",\",C6677)","v":"28628,93714"},28628,93714,"FORMAAL","1012488"]
[{"$f":"CONCATENATE(B6722,\",\",C6722)","v":"28652,29141"},28652,29141,"FORMAAL","28652,29141,FORM"]
[{"$f":"CONCATENATE(B6737,\",\",C6737)","v":"28703,21303"},28703,21303,"FORMAAL","1023472"]
[{"$f":"CONCATENATE(B6768,\",\",C6768)","v":"28737,21304"},28737,21304,"FORMAAL","1023492"]
[{"$f":"CONCATENATE(B6813,\",\",C6813)","v":"28765,96501"},28765,96501,"FORMAAL","28765,96501,FORM"]
[{"$f":"CONCATENATE(B6850,\",\",C6850)","v":"28964,22599"},28964,22599,"FORMAAL","28964,22599,FORM"]
[{"$f":"CONCATENATE(B6860,\",\",C6860)","v":"28984,26102"},28984,26102,"FORMAAL","1023553"]
[{"$f":"CONCATENATE(B6905,\",\",C6905)","v":"28999,21203"},28999,21203,"FORMAAL","1023580"]
[{"$f":"CONCATENATE(B6936,\",\",C6936)","v":"29020,91101"},29020,91101,"FORMAAL","29020,91101,FORM"]
[{"$f":"CONCATENATE(B6951,\",\",C6951)","v":"29023,23201"},29023,23201,"FORMAAL","29023,23201,FORM"]
[{"$f":"CONCATENATE(B6982,\",\",C6982)","v":"29087,21401"},29087,21401,"FORMAAL","29087,21401,FORM"]
[{"$f":"CONCATENATE(B7021,\",\",C7021)","v":"29110,21202"},29110,21202,"FORMAAL","1023654"]
[{"$f":"CONCATENATE(B7043,\",\",C7043)","v":"29158,83009"},29158,83009,"FORMAAL","1013654"]
[{"$f":"CONCATENATE(B7074,\",\",C7074)","v":"29168,96501"},29168,96501,"FORMAAL","29168,96501,FORM"]
[{"$f":"CONCATENATE(B7119,\",\",C7119)","v":"29181,27777"},29181,27777,"FORMAAL","29181,27777,FORM"]
[{"$f":"CONCATENATE(B7134,\",\",C7134)","v":"29186,21801"},29186,21801,"FORMAAL","1023708"]
[{"$f":"CONCATENATE(B7165,\",\",C7165)","v":"29209,21304"},29209,21304,"FORMAAL","1023727"]
[{"$f":"CONCATENATE(B7192,\",\",C7192)","v":"29211,27777"},29211,27777,"FORMAAL","29211,27777,FORM"]
[{"$f":"CONCATENATE(B7242,\",\",C7242)","v":"29322,21302"},29322,21302,"FORMAAL","1023767"]
[{"$f":"CONCATENATE(B7257,\",\",C7257)","v":"29334,21701"},29334,21701,"FORMAAL","1023781"]
[{"$f":"CONCATENATE(B7302,\",\",C7302)","v":"29355,21451"},29355,21451,"FORMAAL","29355,21451,FORM"]
[{"$f":"CONCATENATE(B7333,\",\",C7333)","v":"29366,27777"},29366,27777,"FORMAAL","29366,27777,FORM"]
[{"$f":"CONCATENATE(B7348,\",\",C7348)","v":"29372,21101"},29372,21101,"FORMAAL","1023815"]
[{"$f":"CONCATENATE(B7394,\",\",C7394)","v":"29401,21303"},29401,21303,"FORMAAL","1023851"]
[{"$f":"CONCATENATE(B7425,\",\",C7425)","v":"29410,96501"},29410,96501,"FORMAAL","29410,96501,FORM"]
[{"$f":"CONCATENATE(B7440,\",\",C7440)","v":"29452,21302"},29452,21302,"FORMAAL","1023860"]
[{"$f":"CONCATENATE(B7471,\",\",C7471)","v":"29532,21302"},29532,21302,"FORMAAL","1023883"]
[{"$f":"CONCATENATE(B7516,\",\",C7516)","v":"29539,22210"},29539,22210,"FORMAAL","1008322"]
[{"$f":"CONCATENATE(B7531,\",\",C7531)","v":"29539,22361"},29539,22361,"FORMAAL","1008337"]
[{"$f":"CONCATENATE(B7569,\",\",C7569)","v":"29539,89998"},29539,89998,"FORMAAL","1008375"]
[{"$f":"CONCATENATE(B7608,\",\",C7608)","v":"29572,21202"},29572,21202,"FORMAAL","1023926"]
[{"$f":"CONCATENATE(B7639,\",\",C7639)","v":"29596,21701"},29596,21701,"FORMAAL","1023954"]
[{"$f":"CONCATENATE(B7654,\",\",C7654)","v":"29620,21302"},29620,21302,"FORMAAL","1023962"]
[{"$f":"CONCATENATE(B7699,\",\",C7699)","v":"29675,21201"},29675,21201,"FORMAAL","29675,21201,FORM"]
[{"$f":"CONCATENATE(B7730,\",\",C7730)","v":"29730,21401"},29730,21401,"FORMAAL","29730,21401,FORM"]
[{"$f":"CONCATENATE(B7740,\",\",C7740)","v":"29735,21101"},29735,21101,"FORMAAL","1024005"]
[{"$f":"CONCATENATE(B7791,\",\",C7791)","v":"29823,21701"},29823,21701,"FORMAAL","1024018"]
[{"$f":"CONCATENATE(B7822,\",\",C7822)","v":"29845,21302"},29845,21302,"FORMAAL","1024040"]
[{"$f":"CONCATENATE(B7837,\",\",C7837)","v":"29846,21203"},29846,21203,"FORMAAL","1024051"]
[{"$f":"CONCATENATE(B7868,\",\",C7868)","v":"29848,23201"},29848,23201,"FORMAAL","29848,23201,FORM"]
[{"$f":"CONCATENATE(B7883,\",\",C7883)","v":"29860,22241"},29860,22241,"FORMAAL","29860,22241,FORM"]
[{"$f":"CONCATENATE(B7942,\",\",C7942)","v":"29904,21302"},29904,21302,"FORMAAL","1024099"]
[{"$f":"CONCATENATE(B7960,\",\",C7960)","v":"29915,21303"},29915,21303,"FORMAAL","1024111"]
[{"$f":"CONCATENATE(B7975,\",\",C7975)","v":"29918,21305"},29918,21305,"FORMAAL","1024119"]
[{"$f":"CONCATENATE(B8006,\",\",C8006)","v":"29923,82309"},29923,82309,"FORMAAL","29923,82309,FORM"]
[{"$f":"CONCATENATE(B8051,\",\",C8051)","v":"29933,26801"},29933,26801,"FORMAAL","29933,26801,FORM"]
[{"$f":"CONCATENATE(B8066,\",\",C8066)","v":"29933,95999"},29933,95999,"FORMAAL","29933,95999,FORM"]
[{"$f":"CONCATENATE(B8117,\",\",C8117)","v":"29959,96501"},29959,96501,"FORMAAL","29959,96501,FORM"]
[{"$f":"CONCATENATE(B8143,\",\",C8143)","v":"30004,23201"},30004,23201,"FORMAAL","30004,23201,FORM"]
[{"$f":"CONCATENATE(B8158,\",\",C8158)","v":"30030,21401"},30030,21401,"FORMAAL","30030,21401,FORM"]
[{"$f":"CONCATENATE(B8189,\",\",C8189)","v":"30037,21701"},30037,21701,"FORMAAL","1024182"]
[{"$f":"CONCATENATE(B8234,\",\",C8234)","v":"30098,96501"},30098,96501,"FORMAAL","30098,96501,FORM"]
[{"$f":"CONCATENATE(B8265,\",\",C8265)","v":"30102,21401"},30102,21401,"FORMAAL","30102,21401,FORM"]
[{"$f":"CONCATENATE(B8288,\",\",C8288)","v":"30103,26102"},30103,26102,"FORMAAL","1024230"]
[{"$f":"CONCATENATE(B8326,\",\",C8326)","v":"30116,21304"},30116,21304,"FORMAAL","1024256"]
[{"$f":"CONCATENATE(B8357,\",\",C8357)","v":"30126,21302"},30126,21302,"FORMAAL","1024287"]
[{"$f":"CONCATENATE(B8372,\",\",C8372)","v":"30131,21202"},30131,21202,"FORMAAL","1024300"]
[{"$f":"CONCATENATE(B8417,\",\",C8417)","v":"30155,88887"},30155,88887,"FORMAAL","30155,88887,FORM"]
[{"$f":"CONCATENATE(B8448,\",\",C8448)","v":"30182,88887"},30182,88887,"FORMAAL","30182,88887,FORM"]
[{"$f":"CONCATENATE(B8459,\",\",C8459)","v":"30196,21801"},30196,21801,"FORMAAL","1024349"]
[{"$f":"CONCATENATE(B8495,\",\",C8495)","v":"30205,21203"},30205,21203,"FORMAAL","1024393"]
[{"$f":"CONCATENATE(B8540,\",\",C8540)","v":"30208,26102"},30208,26102,"FORMAAL","1024410"]
[{"$f":"CONCATENATE(B8555,\",\",C8555)","v":"30228,26117"},30228,26117,"FORMAAL","30228,26117,FORM"]
[{"$f":"CONCATENATE(B8586,\",\",C8586)","v":"30241,21701"},30241,21701,"FORMAAL","1024417"]
[{"$f":"CONCATENATE(B8631,\",\",C8631)","v":"30277,21801"},30277,21801,"FORMAAL","1024447"]
[{"$f":"CONCATENATE(B8665,\",\",C8665)","v":"30281,21701"},30281,21701,"FORMAAL","1024468"]
[{"$f":"CONCATENATE(B8678,\",\",C8678)","v":"30305,21701"},30305,21701,"FORMAAL","1024481"]
[{"$f":"CONCATENATE(B8723,\",\",C8723)","v":"30318,23201"},30318,23201,"FORMAAL","30318,23201,FORM"]
[{"$f":"CONCATENATE(B8754,\",\",C8754)","v":"30335,21303"},30335,21303,"FORMAAL","1020892"]
[{"$f":"CONCATENATE(B8769,\",\",C8769)","v":"30343,81201"},30343,81201,"FORMAAL","30343,81201,FORM"]
[{"$f":"CONCATENATE(B8814,\",\",C8814)","v":"30391,21202"},30391,21202,"FORMAAL","1024560"]
[{"$f":"CONCATENATE(B8836,\",\",C8836)","v":"30393,21801"},30393,21801,"FORMAAL","1024573"]
[{"$f":"CONCATENATE(B8861,\",\",C8861)","v":"30396,96501"},30396,96501,"FORMAAL","30396,96501,FORM"]
[{"$f":"CONCATENATE(B8892,\",\",C8892)","v":"30467,21077"},30467,21077,"FORMAAL","30467,21077,FORM"]
[{"$f":"CONCATENATE(B8937,\",\",C8937)","v":"30484,21304"},30484,21304,"FORMAAL","1024632"]
[{"$f":"CONCATENATE(B8952,\",\",C8952)","v":"30491,21202"},30491,21202,"FORMAAL","1024636"]
[{"$f":"CONCATENATE(B8983,\",\",C8983)","v":"30496,23201"},30496,23201,"FORMAAL","30496,23201,FORM"]
[{"$f":"CONCATENATE(B9007,\",\",C9007)","v":"30570,21203"},30570,21203,"FORMAAL","1024658"]
[{"$f":"CONCATENATE(B9044,\",\",C9044)","v":"30614,21801"},30614,21801,"FORMAAL","1024681"]
[{"$f":"CONCATENATE(B9075,\",\",C9075)","v":"30631,23201"},30631,23201,"FORMAAL","30631,23201,FORM"]
[{"$f":"CONCATENATE(B9090,\",\",C9090)","v":"30638,26102"},30638,26102,"FORMAAL","1024711"]
[{"$f":"CONCATENATE(B9121,\",\",C9121)","v":"30657,21101"},30657,21101,"FORMAAL","1024735"]
[{"$f":"CONCATENATE(B9166,\",\",C9166)","v":"30660,21304"},30660,21304,"FORMAAL","1024764"]
[{"$f":"CONCATENATE(B9209,\",\",C9209)","v":"30706,21701"},30706,21701,"FORMAAL","1024776"]
[{"$f":"CONCATENATE(B9213,\",\",C9213)","v":"30706,27777"},30706,27777,"FORMAAL","30706,27777,FORM"]
[{"$f":"CONCATENATE(B9258,\",\",C9258)","v":"30716,29103"},30716,29103,"FORMAAL","30716,29103,FORM"]
[{"$f":"CONCATENATE(B9289,\",\",C9289)","v":"30718,91101"},30718,91101,"FORMAAL","30718,91101,FORM"]
[{"$f":"CONCATENATE(B9304,\",\",C9304)","v":"30746,21202"},30746,21202,"FORMAAL","1024853"]
[{"$f":"CONCATENATE(B9349,\",\",C9349)","v":"30792,21701"},30792,21701,"FORMAAL","1024880"]
[{"$f":"CONCATENATE(B9384,\",\",C9384)","v":"30806,81113"},30806,81113,"FORMAAL","30806,81113,FORM"]
[{"$f":"CONCATENATE(B9396,\",\",C9396)","v":"30812,21203"},30812,21203,"FORMAAL","1024886"]
[{"$f":"CONCATENATE(B9441,\",\",C9441)","v":"30828,21302"},30828,21302,"FORMAAL","1024907"]
[{"$f":"CONCATENATE(B9472,\",\",C9472)","v":"30848,21202"},30848,21202,"FORMAAL","1024932"]
[{"$f":"CONCATENATE(B9487,\",\",C9487)","v":"30858,21101"},30858,21101,"FORMAAL","1024935"]
[{"$f":"CONCATENATE(B9528,\",\",C9528)","v":"30890,21077"},30890,21077,"FORMAAL","30890,21077,FORM"]
[{"$f":"CONCATENATE(B9564,\",\",C9564)","v":"30896,29103"},30896,29103,"FORMAAL","30896,29103,FORM"]
[{"$f":"CONCATENATE(B9579,\",\",C9579)","v":"30903,21201"},30903,21201,"FORMAAL","30903,21201,FORM"]
[{"$f":"CONCATENATE(B9610,\",\",C9610)","v":"30915,21801"},30915,21801,"FORMAAL","1025012"]
[{"$f":"CONCATENATE(B9655,\",\",C9655)","v":"30942,21302"},30942,21302,"FORMAAL","1025043"]
[{"$f":"CONCATENATE(B9686,\",\",C9686)","v":"30986,21305"},30986,21305,"FORMAAL","1025063"]
[{"$f":"CONCATENATE(B9699,\",\",C9699)","v":"30993,21401"},30993,21401,"FORMAAL","30993,21401,FORM"]
[{"$f":"CONCATENATE(B9747,\",\",C9747)","v":"31027,21701"},31027,21701,"FORMAAL","1025101"]
[{"$f":"CONCATENATE(B9778,\",\",C9778)","v":"31042,21304"},31042,21304,"FORMAAL","1025124"]
[{"$f":"CONCATENATE(B9793,\",\",C9793)","v":"31044,21302"},31044,21302,"FORMAAL","1025133"]
[{"$f":"CONCATENATE(B9838,\",\",C9838)","v":"31092,21601"},31092,21601,"FORMAAL","31092,21601,FORM"]
[{"$f":"CONCATENATE(B9869,\",\",C9869)","v":"31101,21701"},31101,21701,"FORMAAL","1025178"]
[{"$f":"CONCATENATE(B9901,\",\",C9901)","v":"31118,21203"},31118,21203,"FORMAAL","1025198"]
[{"$f":"CONCATENATE(B9916,\",\",C9916)","v":"31119,21101"},31119,21101,"FORMAAL","1025205"]
[{"$f":"CONCATENATE(B9961,\",\",C9961)","v":"31145,29103"},31145,29103,"FORMAAL","31145,29103,FORM"]
[{"$f":"CONCATENATE(B9976,\",\",C9976)","v":"31146,21801"},31146,21801,"FORMAAL","1025239"]
[{"$f":"CONCATENATE(B10007,\",\",C10007)","v":"31158,21304"},31158,21304,"FORMAAL","1025262"]
[{"$f":"CONCATENATE(B10052,\",\",C10052)","v":"31246,21301"},31246,21301,"FORMAAL","31246,21301,FORM"]
[{"$f":"CONCATENATE(B10072,\",\",C10072)","v":"31248,21304"},31248,21304,"FORMAAL","1025304"]
[{"$f":"CONCATENATE(B10099,\",\",C10099)","v":"31290,21201"},31290,21201,"FORMAAL","31290,21201,FORM"]
[{"$f":"CONCATENATE(B10144,\",\",C10144)","v":"31298,21303"},31298,21303,"FORMAAL","1025338"]
[{"$f":"CONCATENATE(B10175,\",\",C10175)","v":"31318,21101"},31318,21101,"FORMAAL","1025355"]
[{"$f":"CONCATENATE(B10190,\",\",C10190)","v":"31328,21302"},31328,21302,"FORMAAL","1025370"]
[{"$f":"CONCATENATE(B10235,\",\",C10235)","v":"31340,21304"},31340,21304,"FORMAAL","1025389"]
[{"$f":"CONCATENATE(B10247,\",\",C10247)","v":"31347,21101"},31347,21101,"FORMAAL","1025395"]
[{"$f":"CONCATENATE(B10282,\",\",C10282)","v":"31350,21302"},31350,21302,"FORMAAL","1025424"]
[{"$f":"CONCATENATE(B10313,\",\",C10313)","v":"31358,83301"},31358,83301,"FORMAAL","31358,83301,FORM"]
[{"$f":"CONCATENATE(B10328,\",\",C10328)","v":"31366,21801"},31366,21801,"FORMAAL","1025440"]
[{"$f":"CONCATENATE(B10373,\",\",C10373)","v":"31441,21201"},31441,21201,"FORMAAL","31441,21201,FORM"]
[{"$f":"CONCATENATE(B10404,\",\",C10404)","v":"31446,23201"},31446,23201,"FORMAAL","31446,23201,FORM"]
[{"$f":"CONCATENATE(B10418,\",\",C10418)","v":"31476,21303"},31476,21303,"FORMAAL","1025490"]
[{"$f":"CONCATENATE(B10465,\",\",C10465)","v":"31480,22821"},31480,22821,"FORMAAL","31480,22821,FORM"]
[{"$f":"CONCATENATE(B10496,\",\",C10496)","v":"31512,96501"},31512,96501,"FORMAAL","31512,96501,FORM"]
[{"$f":"CONCATENATE(B10511,\",\",C10511)","v":"31580,93802"},31580,93802,"FORMAAL","1012858"]
[{"$f":"CONCATENATE(B10542,\",\",C10542)","v":"31624,46101"},31624,46101,"FORMAAL","1015032"]
[{"$f":"CONCATENATE(B10587,\",\",C10587)","v":"31639,26102"},31639,26102,"FORMAAL","1025537"]
[{"$f":"CONCATENATE(B10620,\",\",C10620)","v":"31641,21305"},31641,21305,"FORMAAL","1025556"]
[{"$f":"CONCATENATE(B10634,\",\",C10634)","v":"31648,21202"},31648,21202,"FORMAAL","1025568"]
[{"$f":"CONCATENATE(B10679,\",\",C10679)","v":"31654,29103"},31654,29103,"FORMAAL","31654,29103,FORM"]
[{"$f":"CONCATENATE(B10710,\",\",C10710)","v":"31709,21301"},31709,21301,"FORMAAL","31709,21301,FORM"]
[{"$f":"CONCATENATE(B10725,\",\",C10725)","v":"31713,21101"},31713,21101,"FORMAAL","1025615"]
[{"$f":"CONCATENATE(B10770,\",\",C10770)","v":"31755,21301"},31755,21301,"FORMAAL","31755,21301,FORM"]
[{"$f":"CONCATENATE(B10795,\",\",C10795)","v":"31757,21601"},31757,21601,"FORMAAL","31757,21601,FORM"]
[{"$f":"CONCATENATE(B10817,\",\",C10817)","v":"31763,21401"},31763,21401,"FORMAAL","31763,21401,FORM"]
[{"$f":"CONCATENATE(B10862,\",\",C10862)","v":"31806,21801"},31806,21801,"FORMAAL","1025679"]
[{"$f":"CONCATENATE(B10893,\",\",C10893)","v":"31831,21302"},31831,21302,"FORMAAL","1025699"]
[{"$f":"CONCATENATE(B10908,\",\",C10908)","v":"31833,21203"},31833,21203,"FORMAAL","1025712"]
[{"$f":"CONCATENATE(B10939,\",\",C10939)","v":"31840,21203"},31840,21203,"FORMAAL","1025728"]
[{"$f":"CONCATENATE(B10966,\",\",C10966)","v":"31845,21701"},31845,21701,"FORMAAL","1025739"]
[{"$f":"CONCATENATE(B11000,\",\",C11000)","v":"31905,93806"},31905,93806,"FORMAAL","1012492"]
[{"$f":"CONCATENATE(B11031,\",\",C11031)","v":"31939,96501"},31939,96501,"FORMAAL","31939,96501,FORM"]
[{"$f":"CONCATENATE(B11076,\",\",C11076)","v":"31951,21301"},31951,21301,"FORMAAL","31951,21301,FORM"]
[{"$f":"CONCATENATE(B11091,\",\",C11091)","v":"31951,96501"},31951,96501,"FORMAAL","31951,96501,FORM"]
[{"$f":"CONCATENATE(B11122,\",\",C11122)","v":"31972,21202"},31972,21202,"FORMAAL","1025833"]
[{"$f":"CONCATENATE(B11168,\",\",C11168)","v":"31979,29103"},31979,29103,"FORMAAL","31979,29103,FORM"]
[{"$f":"CONCATENATE(B11199,\",\",C11199)","v":"32006,91101"},32006,91101,"FORMAAL","32006,91101,FORM"]
[{"$f":"CONCATENATE(B11214,\",\",C11214)","v":"32011,21801"},32011,21801,"FORMAAL","1025876"]
[{"$f":"CONCATENATE(B11259,\",\",C11259)","v":"32059,21201"},32059,21201,"FORMAAL","32059,21201,FORM"]
[{"$f":"CONCATENATE(B11290,\",\",C11290)","v":"32062,21301"},32062,21301,"FORMAAL","32062,21301,FORM"]
[{"$f":"CONCATENATE(B11305,\",\",C11305)","v":"32083,21101"},32083,21101,"FORMAAL","1025935"]
[{"$f":"CONCATENATE(B11343,\",\",C11343)","v":"32128,21301"},32128,21301,"FORMAAL","32128,21301,FORM"]
[{"$f":"CONCATENATE(B11382,\",\",C11382)","v":"32146,26102"},32146,26102,"FORMAAL","1025987"]
[{"$f":"CONCATENATE(B11397,\",\",C11397)","v":"32202,21303"},32202,21303,"FORMAAL","1025999"]
[{"$f":"CONCATENATE(B11428,\",\",C11428)","v":"32203,29103"},32203,29103,"FORMAAL","32203,29103,FORM"]
[{"$f":"CONCATENATE(B11443,\",\",C11443)","v":"32239,21701"},32239,21701,"FORMAAL","1026017"]
[{"$f":"CONCATENATE(B11488,\",\",C11488)","v":"32266,29103"},32266,29103,"FORMAAL","32266,29103,FORM"]
[{"$f":"CONCATENATE(B11514,\",\",C11514)","v":"32279,21302"},32279,21302,"FORMAAL","1026059"]
[{"$f":"CONCATENATE(B11535,\",\",C11535)","v":"32287,26102"},32287,26102,"FORMAAL","1026069"]
[{"$f":"CONCATENATE(B11566,\",\",C11566)","v":"32307,96501"},32307,96501,"FORMAAL","32307,96501,FORM"]
[{"$f":"CONCATENATE(B11611,\",\",C11611)","v":"32356,18009"},32356,18009,"FORMAAL","32356,18009,FORM"]
[{"$f":"CONCATENATE(B11626,\",\",C11626)","v":"32361,21401"},32361,21401,"FORMAAL","32361,21401,FORM"]
[{"$f":"CONCATENATE(B11657,\",\",C11657)","v":"32368,21101"},32368,21101,"FORMAAL","1026105"]
[{"$f":"CONCATENATE(B11685,\",\",C11685)","v":"32369,26102"},32369,26102,"FORMAAL","1026121"]
[{"$f":"CONCATENATE(B11718,\",\",C11718)","v":"32376,26102"},32376,26102,"FORMAAL","1026139"]
[{"$f":"CONCATENATE(B11749,\",\",C11749)","v":"32401,21303"},32401,21303,"FORMAAL","1020929"]
[{"$f":"CONCATENATE(B11794,\",\",C11794)","v":"32467,21303"},32467,21303,"FORMAAL","1026166"]
[{"$f":"CONCATENATE(B11825,\",\",C11825)","v":"32469,26102"},32469,26102,"FORMAAL","1026188"]
[{"$f":"CONCATENATE(B11840,\",\",C11840)","v":"32471,21077"},32471,21077,"FORMAAL","32471,21077,FORM"]
[{"$f":"CONCATENATE(B11887,\",\",C11887)","v":"32488,21701"},32488,21701,"FORMAAL","1026231"]
[{"$f":"CONCATENATE(B11917,\",\",C11917)","v":"32513,21302"},32513,21302,"FORMAAL","1026252"]
[{"$f":"CONCATENATE(B11932,\",\",C11932)","v":"32516,21203"},32516,21203,"FORMAAL","1026264"]
[{"$f":"CONCATENATE(B11963,\",\",C11963)","v":"32528,21202"},32528,21202,"FORMAAL","1026284"]
[{"$f":"CONCATENATE(B12008,\",\",C12008)","v":"32535,21203"},32535,21203,"FORMAAL","1026312"]
[{"$f":"CONCATENATE(B12023,\",\",C12023)","v":"32535,96501"},32535,96501,"FORMAAL","32535,96501,FORM"]
[{"$f":"CONCATENATE(B12062,\",\",C12062)","v":"32559,21303"},32559,21303,"FORMAAL","1026337"]
[{"$f":"CONCATENATE(B12100,\",\",C12100)","v":"32564,21101"},32564,21101,"FORMAAL","1026355"]
[{"$f":"CONCATENATE(B12115,\",\",C12115)","v":"32564,27777"},32564,27777,"FORMAAL","32564,27777,FORM"]
[{"$f":"CONCATENATE(B12146,\",\",C12146)","v":"32591,21304"},32591,21304,"FORMAAL","1026380"]
[{"$f":"CONCATENATE(B12191,\",\",C12191)","v":"32610,21202"},32610,21202,"FORMAAL","1026396"]
[{"$f":"CONCATENATE(B12222,\",\",C12222)","v":"32613,21801"},32613,21801,"FORMAAL","1026423"]
[{"$f":"CONCATENATE(B12233,\",\",C12233)","v":"32632,21101"},32632,21101,"FORMAAL","1026425"]
[{"$f":"CONCATENATE(B12283,\",\",C12283)","v":"32637,21601"},32637,21601,"FORMAAL","32637,21601,FORM"]
[{"$f":"CONCATENATE(B12314,\",\",C12314)","v":"32643,21101"},32643,21101,"FORMAAL","1026475"]
[{"$f":"CONCATENATE(B12329,\",\",C12329)","v":"32645,21304"},32645,21304,"FORMAAL","1026493"]
[{"$f":"CONCATENATE(B12360,\",\",C12360)","v":"32673,21202"},32673,21202,"FORMAAL","1026512"]
[{"$f":"CONCATENATE(B12405,\",\",C12405)","v":"32692,21101"},32692,21101,"FORMAAL","1026535"]
[{"$f":"CONCATENATE(B12435,\",\",C12435)","v":"32712,21101"},32712,21101,"FORMAAL","1026555"]
[{"$f":"CONCATENATE(B12452,\",\",C12452)","v":"32712,91101"},32712,91101,"FORMAAL","32712,91101,FORM"]
[{"$f":"CONCATENATE(B12497,\",\",C12497)","v":"32718,27777"},32718,27777,"FORMAAL","32718,27777,FORM"]
[{"$f":"CONCATENATE(B12512,\",\",C12512)","v":"32751,21301"},32751,21301,"FORMAAL","32751,21301,FORM"]
[{"$f":"CONCATENATE(B12543,\",\",C12543)","v":"32759,21303"},32759,21303,"FORMAAL","1026616"]
[{"$f":"CONCATENATE(B12588,\",\",C12588)","v":"32801,21801"},32801,21801,"FORMAAL","1026639"]
[{"$f":"CONCATENATE(B12610,\",\",C12610)","v":"32805,27777"},32805,27777,"FORMAAL","32805,27777,FORM"]
[{"$f":"CONCATENATE(B12635,\",\",C12635)","v":"32813,21201"},32813,21201,"FORMAAL","32813,21201,FORM"]
[{"$f":"CONCATENATE(B12650,\",\",C12650)","v":"32813,29103"},32813,29103,"FORMAAL","32813,29103,FORM"]
[{"$f":"CONCATENATE(B12681,\",\",C12681)","v":"32830,29103"},32830,29103,"FORMAAL","32830,29103,FORM"]
[{"$f":"CONCATENATE(B12726,\",\",C12726)","v":"32853,91101"},32853,91101,"FORMAAL","32853,91101,FORM"]
[{"$f":"CONCATENATE(B12741,\",\",C12741)","v":"32858,21203"},32858,21203,"FORMAAL","1026717"]
[{"$f":"CONCATENATE(B12781,\",\",C12781)","v":"32871,21305"},32871,21305,"FORMAAL","1026741"]
[{"$f":"CONCATENATE(B12818,\",\",C12818)","v":"32875,21801"},32875,21801,"FORMAAL","1026762"]
[{"$f":"CONCATENATE(B12849,\",\",C12849)","v":"32879,21203"},32879,21203,"FORMAAL","1026781"]
[{"$f":"CONCATENATE(B12864,\",\",C12864)","v":"32885,22211"},32885,22211,"FORMAAL","1015379"]
[{"$f":"CONCATENATE(B12909,\",\",C12909)","v":"32901,96501"},32901,96501,"FORMAAL","32901,96501,FORM"]
[{"$f":"CONCATENATE(B12940,\",\",C12940)","v":"32905,21601"},32905,21601,"FORMAAL","32905,21601,FORM"]
[{"$f":"CONCATENATE(B12952,\",\",C12952)","v":"32916,21202"},32916,21202,"FORMAAL","1026827"]
[{"$f":"CONCATENATE(B12987,\",\",C12987)","v":"32918,91101"},32918,91101,"FORMAAL","32918,91101,FORM"]
[{"$f":"CONCATENATE(B13032,\",\",C13032)","v":"32923,21302"},32923,21302,"FORMAAL","1026883"]
[{"$f":"CONCATENATE(B13047,\",\",C13047)","v":"32924,21304"},32924,21304,"FORMAAL","1026887"]
[{"$f":"CONCATENATE(B13078,\",\",C13078)","v":"32959,21077"},32959,21077,"FORMAAL","32959,21077,FORM"]
[{"$f":"CONCATENATE(B13123,\",\",C13123)","v":"32961,29103"},32961,29103,"FORMAAL","32961,29103,FORM"]
[{"$f":"CONCATENATE(B13154,\",\",C13154)","v":"32971,21305"},32971,21305,"FORMAAL","1026937"]
[{"$f":"CONCATENATE(B13170,\",\",C13170)","v":"32972,21303"},32972,21303,"FORMAAL","1026947"]
[{"$f":"CONCATENATE(B13215,\",\",C13215)","v":"32994,23201"},32994,23201,"FORMAAL","32994,23201,FORM"]
[{"$f":"CONCATENATE(B13246,\",\",C13246)","v":"32996,26102"},32996,26102,"FORMAAL","1026991"]
[{"$f":"CONCATENATE(B13261,\",\",C13261)","v":"33002,21701"},33002,21701,"FORMAAL","1027003"]
[{"$f":"CONCATENATE(B13298,\",\",C13298)","v":"33021,21601"},33021,21601,"FORMAAL","1015653"]
[{"$f":"CONCATENATE(B13338,\",\",C13338)","v":"33037,21101"},33037,21101,"FORMAAL","1027045"]
[{"$f":"CONCATENATE(B13353,\",\",C13353)","v":"33037,27777"},33037,27777,"FORMAAL","33037,27777,FORM"]
[{"$f":"CONCATENATE(B13384,\",\",C13384)","v":"33040,21304"},33040,21304,"FORMAAL","1027066"]
[{"$f":"CONCATENATE(B13429,\",\",C13429)","v":"33056,21301"},33056,21301,"FORMAAL","33056,21301,FORM"]
[{"$f":"CONCATENATE(B13444,\",\",C13444)","v":"33063,21101"},33063,21101,"FORMAAL","1027105"]
[{"$f":"CONCATENATE(B13473,\",\",C13473)","v":"33071,21077"},33071,21077,"FORMAAL","33071,21077,FORM"]
[{"$f":"CONCATENATE(B13521,\",\",C13521)","v":"33081,21601"},33081,21601,"FORMAAL","33081,21601,FORM"]
[{"$f":"CONCATENATE(B13536,\",\",C13536)","v":"33082,21305"},33082,21305,"FORMAAL","1027163"]
[{"$f":"CONCATENATE(B13567,\",\",C13567)","v":"33088,26102"},33088,26102,"FORMAAL","1027184"]
[{"$f":"CONCATENATE(B13612,\",\",C13612)","v":"33096,21304"},33096,21304,"FORMAAL","1027211"]
[{"$f":"CONCATENATE(B13643,\",\",C13643)","v":"33130,21304"},33130,21304,"FORMAAL","1027229"]
[{"$f":"CONCATENATE(B13675,\",\",C13675)","v":"33138,29103"},33138,29103,"FORMAAL","33138,29103,FORM"]
[{"$f":"CONCATENATE(B13704,\",\",C13704)","v":"33154,21302"},33154,21302,"FORMAAL","1027269"]
[{"$f":"CONCATENATE(B13735,\",\",C13735)","v":"33172,19999"},33172,19999,"FORMAAL","33172,19999,FORM"]
[{"$f":"CONCATENATE(B13750,\",\",C13750)","v":"33205,21101"},33205,21101,"FORMAAL","1027295"]
[{"$f":"CONCATENATE(B13795,\",\",C13795)","v":"33211,21303"},33211,21303,"FORMAAL","1027316"]
[{"$f":"CONCATENATE(B13796,\",\",C13796)","v":"33211,21304"},33211,21304,"FORMAAL","1027319"]
[{"$f":"CONCATENATE(B13846,\",\",C13846)","v":"33227,21202"},33227,21202,"FORMAAL","1027349"]
[{"$f":"CONCATENATE(B13873,\",\",C13873)","v":"33230,21101"},33230,21101,"FORMAAL","1027365"]
[{"$f":"CONCATENATE(B13888,\",\",C13888)","v":"33238,21202"},33238,21202,"FORMAAL","1027380"]
[{"$f":"CONCATENATE(B13933,\",\",C13933)","v":"33240,21801"},33240,21801,"FORMAAL","1027398"]
[{"$f":"CONCATENATE(B13964,\",\",C13964)","v":"33245,21305"},33245,21305,"FORMAAL","1027422"]
[{"$f":"CONCATENATE(B13979,\",\",C13979)","v":"33247,21203"},33247,21203,"FORMAAL","1027427"]
[{"$f":"CONCATENATE(B14021,\",\",C14021)","v":"33249,21304"},33249,21304,"FORMAAL","1027452"]
[{"$f":"CONCATENATE(B14056,\",\",C14056)","v":"33276,88132"},33276,88132,"FORMAAL","33276,88132,FORM"]
[{"$f":"CONCATENATE(B14071,\",\",C14071)","v":"33288,21305"},33288,21305,"FORMAAL","1027464"]
[{"$f":"CONCATENATE(B14102,\",\",C14102)","v":"33300,21303"},33300,21303,"FORMAAL","1027479"]
[{"$f":"CONCATENATE(B14147,\",\",C14147)","v":"33306,21701"},33306,21701,"FORMAAL","1027497"]
[{"$f":"CONCATENATE(B14162,\",\",C14162)","v":"33307,21304"},33307,21304,"FORMAAL","1027507"]
[{"$f":"CONCATENATE(B14192,\",\",C14192)","v":"33314,91101"},33314,91101,"FORMAAL","33314,91101,FORM"]
[{"$f":"CONCATENATE(B14239,\",\",C14239)","v":"33319,21302"},33319,21302,"FORMAAL","1027547"]
[{"$f":"CONCATENATE(B14270,\",\",C14270)","v":"33323,21101"},33323,21101,"FORMAAL","1027565"]
[{"$f":"CONCATENATE(B14285,\",\",C14285)","v":"33323,91101"},33323,91101,"FORMAAL","33323,91101,FORM"]
[{"$f":"CONCATENATE(B14330,\",\",C14330)","v":"33347,21202"},33347,21202,"FORMAAL","1027601"]
[{"$f":"CONCATENATE(B14361,\",\",C14361)","v":"33350,21701"},33350,21701,"FORMAAL","1027622"]
[{"$f":"CONCATENATE(B14394,\",\",C14394)","v":"33366,96501"},33366,96501,"FORMAAL","33366,96501,FORM"]
[{"$f":"CONCATENATE(B14422,\",\",C14422)","v":"33378,21303"},33378,21303,"FORMAAL","1027654"]
[{"$f":"CONCATENATE(B14453,\",\",C14453)","v":"33414,22351"},33414,22351,"FORMAAL","33414,22351,FORM"]
[{"$f":"CONCATENATE(B14468,\",\",C14468)","v":"33417,26102"},33417,26102,"FORMAAL","1027656"]
[{"$f":"CONCATENATE(B14499,\",\",C14499)","v":"33425,21304"},33425,21304,"FORMAAL","1027687"]
[{"$f":"CONCATENATE(B14544,\",\",C14544)","v":"33436,21101"},33436,21101,"FORMAAL","1027715"]
[{"$f":"CONCATENATE(B14565,\",\",C14565)","v":"33437,21203"},33437,21203,"FORMAAL","1027732"]
[{"$f":"CONCATENATE(B14591,\",\",C14591)","v":"33438,91101"},33438,91101,"FORMAAL","33438,91101,FORM"]
[{"$f":"CONCATENATE(B14636,\",\",C14636)","v":"33444,23201"},33444,23201,"FORMAAL","33444,23201,FORM"]
[{"$f":"CONCATENATE(B14667,\",\",C14667)","v":"33448,26102"},33448,26102,"FORMAAL","1027788"]
[{"$f":"CONCATENATE(B14682,\",\",C14682)","v":"33451,21101"},33451,21101,"FORMAAL","1027805"]
[{"$f":"CONCATENATE(B14727,\",\",C14727)","v":"33508,21101"},33508,21101,"FORMAAL","1027825"]
[{"$f":"CONCATENATE(B14740,\",\",C14740)","v":"33508,23201"},33508,23201,"FORMAAL","33508,23201,FORM"]
[{"$f":"CONCATENATE(B14774,\",\",C14774)","v":"33526,21303"},33526,21303,"FORMAAL","1027847"]
[{"$f":"CONCATENATE(B14819,\",\",C14819)","v":"33538,21201"},33538,21201,"FORMAAL","33538,21201,FORM"]
[{"$f":"CONCATENATE(B14850,\",\",C14850)","v":"33540,21203"},33540,21203,"FORMAAL","1027900"]
[{"$f":"CONCATENATE(B14865,\",\",C14865)","v":"33541,21203"},33541,21203,"FORMAAL","1020962"]
[{"$f":"CONCATENATE(B14896,\",\",C14896)","v":"33572,21303"},33572,21303,"FORMAAL","1027919"]
[{"$f":"CONCATENATE(B14942,\",\",C14942)","v":"33585,21202"},33585,21202,"FORMAAL","1027951"]
[{"$f":"CONCATENATE(B14957,\",\",C14957)","v":"33597,66102"},33597,66102,"FORMAAL","1001390"]
[{"$f":"CONCATENATE(B14988,\",\",C14988)","v":"33610,21701"},33610,21701,"FORMAAL","1027983"]
[{"$f":"CONCATENATE(B15003,\",\",C15003)","v":"33613,22970"},33613,22970,"FORMAAL","33613,22970,FORM"]
[{"$f":"CONCATENATE(B15034,\",\",C15034)","v":"33620,21302"},33620,21302,"FORMAAL","1027996"]
[{"$f":"CONCATENATE(B15079,\",\",C15079)","v":"33635,26102"},33635,26102,"FORMAAL","1028032"]
[{"$f":"CONCATENATE(B15113,\",\",C15113)","v":"33640,21801"},33640,21801,"FORMAAL","1020969"]
[{"$f":"CONCATENATE(B15126,\",\",C15126)","v":"33646,21302"},33646,21302,"FORMAAL","1028054"]
[{"$f":"CONCATENATE(B15171,\",\",C15171)","v":"33655,21101"},33655,21101,"FORMAAL","1028075"]
[{"$f":"CONCATENATE(B15186,\",\",C15186)","v":"33656,21301"},33656,21301,"FORMAAL","33656,21301,FORM"]
[{"$f":"CONCATENATE(B15217,\",\",C15217)","v":"33657,27777"},33657,27777,"FORMAAL","33657,27777,FORM"]
[{"$f":"CONCATENATE(B15262,\",\",C15262)","v":"33662,21701"},33662,21701,"FORMAAL","1028143"]
[{"$f":"CONCATENATE(B15288,\",\",C15288)","v":"33697,21701"},33697,21701,"FORMAAL","1028161"]
[{"$f":"CONCATENATE(B15309,\",\",C15309)","v":"33707,21304"},33707,21304,"FORMAAL","1028184"]
[{"$f":"CONCATENATE(B15354,\",\",C15354)","v":"33729,21203"},33729,21203,"FORMAAL","1028207"]
[{"$f":"CONCATENATE(B15385,\",\",C15385)","v":"33744,21101"},33744,21101,"FORMAAL","1028225"]
[{"$f":"CONCATENATE(B15400,\",\",C15400)","v":"33744,27777"},33744,27777,"FORMAAL","33744,27777,FORM"]
[{"$f":"CONCATENATE(B15445,\",\",C15445)","v":"33767,21701"},33767,21701,"FORMAAL","1028264"]
[{"$f":"CONCATENATE(B15459,\",\",C15459)","v":"33769,21305"},33769,21305,"FORMAAL","1028266"]
[{"$f":"CONCATENATE(B15492,\",\",C15492)","v":"33804,91101"},33804,91101,"FORMAAL","33804,91101,FORM"]
[{"$f":"CONCATENATE(B15523,\",\",C15523)","v":"33827,96501"},33827,96501,"FORMAAL","33827,96501,FORM"]
[{"$f":"CONCATENATE(B15568,\",\",C15568)","v":"33900,81402"},33900,81402,"FORMAAL","1000470"]
[{"$f":"CONCATENATE(B15583,\",\",C15583)","v":"33906,21601"},33906,21601,"FORMAAL","33906,21601,FORM"]
[{"$f":"CONCATENATE(B15614,\",\",C15614)","v":"33913,21201"},33913,21201,"FORMAAL","33913,21201,FORM"]
[{"$f":"CONCATENATE(B15661,\",\",C15661)","v":"33920,21101"},33920,21101,"FORMAAL","1028385"]
[{"$f":"CONCATENATE(B15691,\",\",C15691)","v":"33924,21304"},33924,21304,"FORMAAL","1028400"]
[{"$f":"CONCATENATE(B15706,\",\",C15706)","v":"33925,21203"},33925,21203,"FORMAAL","1028410"]
[{"$f":"CONCATENATE(B15751,\",\",C15751)","v":"33936,21401"},33936,21401,"FORMAAL","33936,21401,FORM"]
[{"$f":"CONCATENATE(B15782,\",\",C15782)","v":"33953,21401"},33953,21401,"FORMAAL","33953,21401,FORM"]
[{"$f":"CONCATENATE(B15797,\",\",C15797)","v":"33964,21304"},33964,21304,"FORMAAL","1028459"]
[{"$f":"CONCATENATE(B15832,\",\",C15832)","v":"33968,21077"},33968,21077,"FORMAAL","33968,21077,FORM"]
[{"$f":"CONCATENATE(B15874,\",\",C15874)","v":"33989,21101"},33989,21101,"FORMAAL","1028505"]
[{"$f":"CONCATENATE(B15889,\",\",C15889)","v":"33989,29103"},33989,29103,"FORMAAL","33989,29103,FORM"]
[{"$f":"CONCATENATE(B15920,\",\",C15920)","v":"33997,91101"},33997,91101,"FORMAAL","33997,91101,FORM"]
[{"$f":"CONCATENATE(B15965,\",\",C15965)","v":"34011,26102"},34011,26102,"FORMAAL","1028563"]
[{"$f":"CONCATENATE(B15980,\",\",C15980)","v":"34024,21401"},34024,21401,"FORMAAL","34024,21401,FORM"]
[{"$f":"CONCATENATE(B16007,\",\",C16007)","v":"34033,21202"},34033,21202,"FORMAAL","1028587"]
[{"$f":"CONCATENATE(B16057,\",\",C16057)","v":"34036,21202"},34036,21202,"FORMAAL","1028622"]
[{"$f":"CONCATENATE(B16072,\",\",C16072)","v":"34036,91101"},34036,91101,"FORMAAL","34036,91101,FORM"]
[{"$f":"CONCATENATE(B16103,\",\",C16103)","v":"34040,21305"},34040,21305,"FORMAAL","1028640"]
[{"$f":"CONCATENATE(B16148,\",\",C16148)","v":"34072,21203"},34072,21203,"FORMAAL","1028680"]
[{"$f":"CONCATENATE(B16149,\",\",C16149)","v":"34072,21301"},34072,21301,"FORMAAL","34072,21301,FORM"]
[{"$f":"CONCATENATE(B16209,\",\",C16209)","v":"34085,91101"},34085,91101,"FORMAAL","34085,91101,FORM"]
[{"$f":"CONCATENATE(B16210,\",\",C16210)","v":"34085,96501"},34085,96501,"FORMAAL","34085,96501,FORM"]
[{"$f":"CONCATENATE(B16241,\",\",C16241)","v":"34103,21101"},34103,21101,"FORMAAL","1028715"]
[{"$f":"CONCATENATE(B16286,\",\",C16286)","v":"34124,21302"},34124,21302,"FORMAAL","1028751"]
[{"$f":"CONCATENATE(B16317,\",\",C16317)","v":"34133,91101"},34133,91101,"FORMAAL","34133,91101,FORM"]
[{"$f":"CONCATENATE(B16332,\",\",C16332)","v":"34137,80088"},34137,80088,"FORMAAL","34137,80088,FORM"]
[{"$f":"CONCATENATE(B16380,\",\",C16380)","v":"34139,21203"},34139,21203,"FORMAAL","1028782"]
[{"$f":"CONCATENATE(B16409,\",\",C16409)","v":"34151,21601"},34151,21601,"FORMAAL","34151,21601,FORM"]
[{"$f":"CONCATENATE(B16424,\",\",C16424)","v":"34152,21305"},34152,21305,"FORMAAL","1028806"]
[{"$f":"CONCATENATE(B16469,\",\",C16469)","v":"34168,21401"},34168,21401,"FORMAAL","34168,21401,FORM"]
[{"$f":"CONCATENATE(B16500,\",\",C16500)","v":"34174,95777"},34174,95777,"FORMAAL","897702"]
[{"$f":"CONCATENATE(B16515,\",\",C16515)","v":"34179,21801"},34179,21801,"FORMAAL","1028856"]
[{"$f":"CONCATENATE(B16555,\",\",C16555)","v":"34182,23201"},34182,23201,"FORMAAL","34182,23201,FORM"]
[{"$f":"CONCATENATE(B16592,\",\",C16592)","v":"34185,21101"},34185,21101,"FORMAAL","1028905"]
[{"$f":"CONCATENATE(B16607,\",\",C16607)","v":"34185,27777"},34185,27777,"FORMAAL","34185,27777,FORM"]
[{"$f":"CONCATENATE(B16638,\",\",C16638)","v":"34202,21304"},34202,21304,"FORMAAL","1028926"]
[{"$f":"CONCATENATE(B16683,\",\",C16683)","v":"34217,21601"},34217,21601,"FORMAAL","34217,21601,FORM"]
[{"$f":"CONCATENATE(B16714,\",\",C16714)","v":"34222,21201"},34222,21201,"FORMAAL","34222,21201,FORM"]
[{"$f":"CONCATENATE(B16726,\",\",C16726)","v":"34222,23201"},34222,23201,"FORMAAL","34222,23201,FORM"]
[{"$f":"CONCATENATE(B16775,\",\",C16775)","v":"34241,21077"},34241,21077,"FORMAAL","34241,21077,FORM"]
[{"$f":"CONCATENATE(B16806,\",\",C16806)","v":"34246,26102"},34246,26102,"FORMAAL","1029031"]
[{"$f":"CONCATENATE(B16821,\",\",C16821)","v":"34257,21305"},34257,21305,"FORMAAL","1029041"]
[{"$f":"CONCATENATE(B16866,\",\",C16866)","v":"34259,27777"},34259,27777,"FORMAAL","34259,27777,FORM"]
[{"$f":"CONCATENATE(B16897,\",\",C16897)","v":"34261,21203"},34261,21203,"FORMAAL","1029081"]
[{"$f":"CONCATENATE(B16928,\",\",C16928)","v":"34263,91101"},34263,91101,"FORMAAL","34263,91101,FORM"]
[{"$f":"CONCATENATE(B16944,\",\",C16944)","v":"34272,26102"},34272,26102,"FORMAAL","1016698"]
[{"$f":"CONCATENATE(B16989,\",\",C16989)","v":"34287,21301"},34287,21301,"FORMAAL","34287,21301,FORM"]
[{"$f":"CONCATENATE(B17004,\",\",C17004)","v":"34301,21077"},34301,21077,"FORMAAL","34301,21077,FORM"]
[{"$f":"CONCATENATE(B17035,\",\",C17035)","v":"34340,21701"},34340,21701,"FORMAAL","1029138"]
[{"$f":"CONCATENATE(B17072,\",\",C17072)","v":"34365,21201"},34365,21201,"FORMAAL","34365,21201,FORM"]
[{"$f":"CONCATENATE(B17096,\",\",C17096)","v":"34366,21302"},34366,21302,"FORMAAL","1029160"]
[{"$f":"CONCATENATE(B17127,\",\",C17127)","v":"34367,91101"},34367,91101,"FORMAAL","34367,91101,FORM"]
[{"$f":"CONCATENATE(B17172,\",\",C17172)","v":"34371,29103"},34371,29103,"FORMAAL","34371,29103,FORM"]
[{"$f":"CONCATENATE(B17203,\",\",C17203)","v":"34386,21302"},34386,21302,"FORMAAL","1011996"]
[{"$f":"CONCATENATE(B17218,\",\",C17218)","v":"34404,21301"},34404,21301,"FORMAAL","34404,21301,FORM"]
[{"$f":"CONCATENATE(B17243,\",\",C17243)","v":"34406,21601"},34406,21601,"FORMAAL","34406,21601,FORM"]
[{"$f":"CONCATENATE(B17295,\",\",C17295)","v":"34413,21801"},34413,21801,"FORMAAL","1029253"]
[{"$f":"CONCATENATE(B17310,\",\",C17310)","v":"34429,21201"},34429,21201,"FORMAAL","34429,21201,FORM"]
[{"$f":"CONCATENATE(B17341,\",\",C17341)","v":"34449,26105"},34449,26105,"FORMAAL","900308"]
[{"$f":"CONCATENATE(B17356,\",\",C17356)","v":"34458,85111"},34458,85111,"FORMAAL","34458,85111,FORM"]
[{"$f":"CONCATENATE(B17401,\",\",C17401)","v":"34458,85156"},34458,85156,"FORMAAL","34458,85156,FORM"]
[{"$f":"CONCATENATE(B17418,\",\",C17418)","v":"34458,85173"},34458,85173,"FORMAAL","34458,85173,FORM"]
[{"$f":"CONCATENATE(B17448,\",\",C17448)","v":"34468,21077"},34468,21077,"FORMAAL","34468,21077,FORM"]
[{"$f":"CONCATENATE(B17493,\",\",C17493)","v":"34470,26102"},34470,26102,"FORMAAL","1029301"]
[{"$f":"CONCATENATE(B17524,\",\",C17524)","v":"34477,21101"},34477,21101,"FORMAAL","1029325"]
[{"$f":"CONCATENATE(B17539,\",\",C17539)","v":"34477,29103"},34477,29103,"FORMAAL","34477,29103,FORM"]
[{"$f":"CONCATENATE(B17570,\",\",C17570)","v":"34481,21304"},34481,21304,"FORMAAL","1029354"]
[{"$f":"CONCATENATE(B17620,\",\",C17620)","v":"34494,21077"},34494,21077,"FORMAAL","34494,21077,FORM"]
[{"$f":"CONCATENATE(B17631,\",\",C17631)","v":"34494,21601"},34494,21601,"FORMAAL","34494,21601,FORM"]
[{"$f":"CONCATENATE(B17662,\",\",C17662)","v":"34513,98236"},34513,98236,"FORMAAL","1013924"]
[{"$f":"CONCATENATE(B17707,\",\",C17707)","v":"34513,98444"},34513,98444,"FORMAAL","1013969"]
[{"$f":"CONCATENATE(B17738,\",\",C17738)","v":"34515,93725"},34515,93725,"FORMAAL","897226"]
[{"$f":"CONCATENATE(B17753,\",\",C17753)","v":"34523,98212"},34523,98212,"FORMAAL","1013856"]
[{"$f":"CONCATENATE(B17791,\",\",C17791)","v":"34523,98415"},34523,98415,"FORMAAL","1013894"]
[{"$f":"CONCATENATE(B17830,\",\",C17830)","v":"34558,60000"},34558,60000,"FORMAAL","34558,60000,FORM"]
[{"$f":"CONCATENATE(B17845,\",\",C17845)","v":"34583,21305"},34583,21305,"FORMAAL","1029401"]
[{"$f":"CONCATENATE(B17890,\",\",C17890)","v":"34586,21303"},34586,21303,"FORMAAL","1029429"]
[{"$f":"CONCATENATE(B17921,\",\",C17921)","v":"34589,96501"},34589,96501,"FORMAAL","34589,96501,FORM"]
[{"$f":"CONCATENATE(B17936,\",\",C17936)","v":"34590,29103"},34590,29103,"FORMAAL","34590,29103,FORM"]
[{"$f":"CONCATENATE(B17966,\",\",C17966)","v":"34592,86004"},34592,86004,"FORMAAL","896696"]
[{"$f":"CONCATENATE(B18013,\",\",C18013)","v":"34602,21305"},34602,21305,"FORMAAL","1029504"]
[{"$f":"CONCATENATE(B18028,\",\",C18028)","v":"34603,21601"},34603,21601,"FORMAAL","34603,21601,FORM"]
[{"$f":"CONCATENATE(B18059,\",\",C18059)","v":"34607,69999"},34607,69999,"FORMAAL","34607,69999,FORM"]
[{"$f":"CONCATENATE(B18104,\",\",C18104)","v":"34614,21601"},34614,21601,"FORMAAL","1014720"]
[{"$f":"CONCATENATE(B18119,\",\",C18119)","v":"34614,22104"},34614,22104,"FORMAAL","34614,22104,FORM"]
[{"$f":"CONCATENATE(B18168,\",\",C18168)","v":"34645,21302"},34645,21302,"FORMAAL","1029548"]
[{"$f":"CONCATENATE(B18196,\",\",C18196)","v":"34648,23201"},34648,23201,"FORMAAL","34648,23201,FORM"]
[{"$f":"CONCATENATE(B18227,\",\",C18227)","v":"34651,21301"},34651,21301,"FORMAAL","34651,21301,FORM"]
[{"$f":"CONCATENATE(B18242,\",\",C18242)","v":"34657,21101"},34657,21101,"FORMAAL","1029585"]
[{"$f":"CONCATENATE(B18287,\",\",C18287)","v":"34690,21305"},34690,21305,"FORMAAL","1029599"]
[{"$f":"CONCATENATE(B18318,\",\",C18318)","v":"34692,21304"},34692,21304,"FORMAAL","1029624"]
[{"$f":"CONCATENATE(B18339,\",\",C18339)","v":"34694,21701"},34694,21701,"FORMAAL","1029627"]
[{"$f":"CONCATENATE(B18365,\",\",C18365)","v":"34696,91101"},34696,91101,"FORMAAL","34696,91101,FORM"]
[{"$f":"CONCATENATE(B18410,\",\",C18410)","v":"34705,21801"},34705,21801,"FORMAAL","1029666"]
[{"$f":"CONCATENATE(B18425,\",\",C18425)","v":"34706,21801"},34706,21801,"FORMAAL","1029680"]
[{"$f":"CONCATENATE(B18456,\",\",C18456)","v":"34721,21304"},34721,21304,"FORMAAL","1029714"]
[{"$f":"CONCATENATE(B18501,\",\",C18501)","v":"34724,21701"},34724,21701,"FORMAAL","1029726"]
[{"$f":"CONCATENATE(B18510,\",\",C18510)","v":"34726,95821"},34726,95821,"FORMAAL","1015960"]
[{"$f":"CONCATENATE(B18548,\",\",C18548)","v":"34737,21077"},34737,21077,"FORMAAL","34737,21077,FORM"]
[{"$f":"CONCATENATE(B18563,\",\",C18563)","v":"34737,26102"},34737,26102,"FORMAAL","1029764"]
[{"$f":"CONCATENATE(B18594,\",\",C18594)","v":"34749,26102"},34749,26102,"FORMAAL","1029777"]
[{"$f":"CONCATENATE(B18639,\",\",C18639)","v":"34757,21101"},34757,21101,"FORMAAL","1029805"]
[{"$f":"CONCATENATE(B18654,\",\",C18654)","v":"34757,29103"},34757,29103,"FORMAAL","34757,29103,FORM"]
[{"$f":"CONCATENATE(B18685,\",\",C18685)","v":"34763,21304"},34763,21304,"FORMAAL","1029826"]
[{"$f":"CONCATENATE(B18731,\",\",C18731)","v":"34765,27777"},34765,27777,"FORMAAL","34765,27777,FORM"]
[{"$f":"CONCATENATE(B18746,\",\",C18746)","v":"34768,21701"},34768,21701,"FORMAAL","1029858"]
[{"$f":"CONCATENATE(B18777,\",\",C18777)","v":"34845,21202"},34845,21202,"FORMAAL","1029882"]
[{"$f":"CONCATENATE(B18822,\",\",C18822)","v":"34851,91101"},34851,91101,"FORMAAL","34851,91101,FORM"]
[{"$f":"CONCATENATE(B18853,\",\",C18853)","v":"34854,26102"},34854,26102,"FORMAAL","1029918"]
[{"$f":"CONCATENATE(B18887,\",\",C18887)","v":"34856,21801"},34856,21801,"FORMAAL","1029936"]
[{"$f":"CONCATENATE(B18914,\",\",C18914)","v":"34863,21305"},34863,21305,"FORMAAL","1029959"]
[{"$f":"CONCATENATE(B18945,\",\",C18945)","v":"34879,91101"},34879,91101,"FORMAAL","34879,91101,FORM"]
[{"$f":"CONCATENATE(B18960,\",\",C18960)","v":"34881,21801"},34881,21801,"FORMAAL","1029978"]
[{"$f":"CONCATENATE(B18991,\",\",C18991)","v":"34885,21203"},34885,21203,"FORMAAL","1030007"]
[{"$f":"CONCATENATE(B19036,\",\",C19036)","v":"34888,21601"},34888,21601,"FORMAAL","34888,21601,FORM"]
[{"$f":"CONCATENATE(B19058,\",\",C19058)","v":"34901,21401"},34901,21401,"FORMAAL","34901,21401,FORM"]
[{"$f":"CONCATENATE(B19083,\",\",C19083)","v":"34902,27777"},34902,27777,"FORMAAL","34902,27777,FORM"]
[{"$f":"CONCATENATE(B19128,\",\",C19128)","v":"34924,91101"},34924,91101,"FORMAAL","34924,91101,FORM"]
[{"$f":"CONCATENATE(B19143,\",\",C19143)","v":"34947,21203"},34947,21203,"FORMAAL","1030089"]
[{"$f":"CONCATENATE(B19174,\",\",C19174)","v":"34950,21203"},34950,21203,"FORMAAL","1030106"]
[{"$f":"CONCATENATE(B19219,\",\",C19219)","v":"34977,81508"},34977,81508,"FORMAAL","34977,81508,FORM"]
[{"$f":"CONCATENATE(B19233,\",\",C19233)","v":"34980,21701"},34980,21701,"FORMAAL","1030128"]
[{"$f":"CONCATENATE(B19266,\",\",C19266)","v":"34982,21304"},34982,21304,"FORMAAL","1030151"]
[{"$f":"CONCATENATE(B19311,\",\",C19311)","v":"35009,21305"},35009,21305,"FORMAAL","1030170"]
[{"$f":"CONCATENATE(B19342,\",\",C19342)","v":"35013,21701"},35013,21701,"FORMAAL","1030190"]
[{"$f":"CONCATENATE(B19357,\",\",C19357)","v":"35024,21203"},35024,21203,"FORMAAL","1030210"]
[{"$f":"CONCATENATE(B19388,\",\",C19388)","v":"35044,96501"},35044,96501,"FORMAAL","35044,96501,FORM"]
[{"$f":"CONCATENATE(B19435,\",\",C19435)","v":"35061,21301"},35061,21301,"FORMAAL","35061,21301,FORM"]
[{"$f":"CONCATENATE(B19449,\",\",C19449)","v":"35061,96501"},35061,96501,"FORMAAL","35061,96501,FORM"]
[{"$f":"CONCATENATE(B19480,\",\",C19480)","v":"35065,96501"},35065,96501,"FORMAAL","35065,96501,FORM"]
[{"$f":"CONCATENATE(B19525,\",\",C19525)","v":"35098,93712"},35098,93712,"FORMAAL","1012504"]
[{"$f":"CONCATENATE(B19540,\",\",C19540)","v":"35105,21202"},35105,21202,"FORMAAL","1030284"]
[{"$f":"CONCATENATE(B19571,\",\",C19571)","v":"35106,95811"},35106,95811,"FORMAAL","35106,95811,FORM"]
[{"$f":"CONCATENATE(B19606,\",\",C19606)","v":"35112,21701"},35112,21701,"FORMAAL","1030303"]
[{"$f":"CONCATENATE(B19648,\",\",C19648)","v":"35169,21701"},35169,21701,"FORMAAL","1030321"]
[{"$f":"CONCATENATE(B19663,\",\",C19663)","v":"35170,21305"},35170,21305,"FORMAAL","1030327"]
[{"$f":"CONCATENATE(B19708,\",\",C19708)","v":"35192,21077"},35192,21077,"FORMAAL","35192,21077,FORM"]
[{"$f":"CONCATENATE(B19709,\",\",C19709)","v":"35192,21101"},35192,21101,"FORMAAL","1030355"]
[{"$f":"CONCATENATE(B19754,\",\",C19754)","v":"35196,21302"},35196,21302,"FORMAAL","1030384"]
[{"$f":"CONCATENATE(B19777,\",\",C19777)","v":"35197,26102"},35197,26102,"FORMAAL","1030394"]
[{"$f":"CONCATENATE(B19801,\",\",C19801)","v":"35213,81000"},35213,81000,"FORMAAL","894606"]
[{"$f":"CONCATENATE(B19846,\",\",C19846)","v":"35218,21701"},35218,21701,"FORMAAL","1030424"]
[{"$f":"CONCATENATE(B19877,\",\",C19877)","v":"35222,86101"},35222,86101,"FORMAAL","1020417"]
[{"$f":"CONCATENATE(B19892,\",\",C19892)","v":"35225,21305"},35225,21305,"FORMAAL","1030440"]
[{"$f":"CONCATENATE(B19937,\",\",C19937)","v":"35228,82409"},35228,82409,"FORMAAL","1001806"]
[{"$f":"CONCATENATE(B19952,\",\",C19952)","v":"35241,21701"},35241,21701,"FORMAAL","1030460"]
[{"$f":"CONCATENATE(B19984,\",\",C19984)","v":"35243,21301"},35243,21301,"FORMAAL","35243,21301,FORM"]
[{"$f":"CONCATENATE(B20015,\",\",C20015)","v":"35245,21304"},35245,21304,"FORMAAL","1030498"]
[{"$f":"CONCATENATE(B20060,\",\",C20060)","v":"35251,21077"},35251,21077,"FORMAAL","35251,21077,FORM"]
[{"$f":"CONCATENATE(B20075,\",\",C20075)","v":"35251,29103"},35251,29103,"FORMAAL","35251,29103,FORM"]
[{"$f":"CONCATENATE(B20106,\",\",C20106)","v":"35252,22841"},35252,22841,"FORMAAL","35252,22841,FORM"]
[{"$f":"CONCATENATE(B20154,\",\",C20154)","v":"35278,21601"},35278,21601,"FORMAAL","35278,21601,FORM"]
[{"$f":"CONCATENATE(B20167,\",\",C20167)","v":"35285,21203"},35285,21203,"FORMAAL","1030570"]
[{"$f":"CONCATENATE(B20198,\",\",C20198)","v":"35295,77777"},35295,77777,"FORMAAL","35295,77777,FORM"]
[{"$f":"CONCATENATE(B20243,\",\",C20243)","v":"35302,21201"},35302,21201,"FORMAAL","35302,21201,FORM"]
[{"$f":"CONCATENATE(B20274,\",\",C20274)","v":"35305,21202"},35305,21202,"FORMAAL","1030618"]
[{"$f":"CONCATENATE(B20289,\",\",C20289)","v":"35306,21077"},35306,21077,"FORMAAL","35306,21077,FORM"]
[{"$f":"CONCATENATE(B20325,\",\",C20325)","v":"35307,22431"},35307,22431,"FORMAAL","35307,22431,FORM"]
[{"$f":"CONCATENATE(B20366,\",\",C20366)","v":"35323,21101"},35323,21101,"FORMAAL","1030635"]
[{"$f":"CONCATENATE(B20381,\",\",C20381)","v":"35330,95777"},35330,95777,"FORMAAL","897721"]
[{"$f":"CONCATENATE(B20426,\",\",C20426)","v":"35336,21601"},35336,21601,"FORMAAL","35336,21601,FORM"]
[{"$f":"CONCATENATE(B20457,\",\",C20457)","v":"35342,96501"},35342,96501,"FORMAAL","35342,96501,FORM"]
[{"$f":"CONCATENATE(B20472,\",\",C20472)","v":"35344,23201"},35344,23201,"FORMAAL","35344,23201,FORM"]
[{"$f":"CONCATENATE(B20500,\",\",C20500)","v":"35354,21077"},35354,21077,"FORMAAL","35354,21077,FORM"]
[{"$f":"CONCATENATE(B20549,\",\",C20549)","v":"35366,21801"},35366,21801,"FORMAAL","1030726"]
[{"$f":"CONCATENATE(B20564,\",\",C20564)","v":"35379,21899"},35379,21899,"FORMAAL","892430"]
[{"$f":"CONCATENATE(B20595,\",\",C20595)","v":"35381,21202"},35381,21202,"FORMAAL","1030736"]
[{"$f":"CONCATENATE(B20640,\",\",C20640)","v":"35383,96501"},35383,96501,"FORMAAL","35383,96501,FORM"]
[{"$f":"CONCATENATE(B20671,\",\",C20671)","v":"35389,21203"},35389,21203,"FORMAAL","1030771"]
[{"$f":"CONCATENATE(B20702,\",\",C20702)","v":"35393,21104"},35393,21104,"FORMAAL","898943"]
[{"$f":"CONCATENATE(B20732,\",\",C20732)","v":"35396,26102"},35396,26102,"FORMAAL","1010827"]
[{"$f":"CONCATENATE(B20763,\",\",C20763)","v":"35397,29199"},35397,29199,"FORMAAL","892520"]
[{"$f":"CONCATENATE(B20778,\",\",C20778)","v":"35397,96501"},35397,96501,"FORMAAL","892520"]
[{"$f":"CONCATENATE(B20823,\",\",C20823)","v":"35406,26102"},35406,26102,"FORMAAL","1030829"]
[{"$f":"CONCATENATE(B20846,\",\",C20846)","v":"35408,21202"},35408,21202,"FORMAAL","1030852"]
[{"$f":"CONCATENATE(B20870,\",\",C20870)","v":"35419,21303"},35419,21303,"FORMAAL","1030857"]
[{"$f":"CONCATENATE(B20901,\",\",C20901)","v":"35423,91101"},35423,91101,"FORMAAL","35423,91101,FORM"]
[{"$f":"CONCATENATE(B20916,\",\",C20916)","v":"35425,21202"},35425,21202,"FORMAAL","1030894"]
[{"$f":"CONCATENATE(B20961,\",\",C20961)","v":"35430,57044"},35430,57044,"FORMAAL","892685"]
[{"$f":"CONCATENATE(B20992,\",\",C20992)","v":"35430,57089"},35430,57089,"FORMAAL","892685"]
[{"$f":"CONCATENATE(B21017,\",\",C21017)","v":"35430,57203"},35430,57203,"FORMAAL","892685"]
[{"$f":"CONCATENATE(B21039,\",\",C21039)","v":"35439,21101"},35439,21101,"FORMAAL","1030895"]
[{"$f":"CONCATENATE(B21084,\",\",C21084)","v":"35460,26102"},35460,26102,"FORMAAL","1030919"]
[{"$f":"CONCATENATE(B21099,\",\",C21099)","v":"35466,88887"},35466,88887,"FORMAAL","35466,88887,FORM"]
[{"$f":"CONCATENATE(B21130,\",\",C21130)","v":"35492,21203"},35492,21203,"FORMAAL","1030938"]
[{"$f":"CONCATENATE(B21175,\",\",C21175)","v":"35498,26102"},35498,26102,"FORMAAL","1030973"]
[{"$f":"CONCATENATE(B21188,\",\",C21188)","v":"35499,21701"},35499,21701,"FORMAAL","1030980"]
[{"$f":"CONCATENATE(B21222,\",\",C21222)","v":"35502,21203"},35502,21203,"FORMAAL","1031000"]
[{"$f":"CONCATENATE(B21267,\",\",C21267)","v":"35518,29103"},35518,29103,"FORMAAL","35518,29103,FORM"]
[{"$f":"CONCATENATE(B21298,\",\",C21298)","v":"35521,21303"},35521,21303,"FORMAAL","1031037"]
[{"$f":"CONCATENATE(B21313,\",\",C21313)","v":"35522,21201"},35522,21201,"FORMAAL","35522,21201,FORM"]
[{"$f":"CONCATENATE(B21358,\",\",C21358)","v":"35526,21304"},35526,21304,"FORMAAL","1031066"]
[{"$f":"CONCATENATE(B21394,\",\",C21394)","v":"35532,29103"},35532,29103,"FORMAAL","35532,29103,FORM"]
[{"$f":"CONCATENATE(B21405,\",\",C21405)","v":"35533,21305"},35533,21305,"FORMAAL","1031104"]
[{"$f":"CONCATENATE(B21450,\",\",C21450)","v":"35536,29103"},35536,29103,"FORMAAL","35536,29103,FORM"]
[{"$f":"CONCATENATE(B21481,\",\",C21481)","v":"35538,20862"},35538,20862,"FORMAAL","35538,20863,FORM"]
[{"$f":"CONCATENATE(B21496,\",\",C21496)","v":"35538,20893"},35538,20893,"FORMAAL","35538,20893,FORM"]
[{"$f":"CONCATENATE(B21527,\",\",C21527)","v":"35539,23201"},35539,23201,"FORMAAL","35539,23201,FORM"]
[{"$f":"CONCATENATE(B21565,\",\",C21565)","v":"35560,26102"},35560,26102,"FORMAAL","1031153"]
[{"$f":"CONCATENATE(B21588,\",\",C21588)","v":"35563,91101"},35563,91101,"FORMAAL","35563,91101,FORM"]
[{"$f":"CONCATENATE(B21619,\",\",C21619)","v":"35565,21701"},35565,21701,"FORMAAL","1031183"]
[{"$f":"CONCATENATE(B21664,\",\",C21664)","v":"35572,21202"},35572,21202,"FORMAAL","1031223"]
[{"$f":"CONCATENATE(B21695,\",\",C21695)","v":"35596,21202"},35596,21202,"FORMAAL","1031241"]
[{"$f":"CONCATENATE(B21710,\",\",C21710)","v":"35596,91101"},35596,91101,"FORMAAL","35596,91101,FORM"]
[{"$f":"CONCATENATE(B21736,\",\",C21736)","v":"35604,66101"},35604,66101,"FORMAAL","893600"]
[{"$f":"CONCATENATE(B21787,\",\",C21787)","v":"35629,21077"},35629,21077,"FORMAAL","35629,21077,FORM"]
[{"$f":"CONCATENATE(B21802,\",\",C21802)","v":"35629,26102"},35629,26102,"FORMAAL","1031279"]
[{"$f":"CONCATENATE(B21847,\",\",C21847)","v":"35632,10000"},35632,10000,"FORMAAL","893740"]
[{"$f":"CONCATENATE(B21878,\",\",C21878)","v":"35632,29999"},35632,29999,"FORMAAL","893740"]
[{"$f":"CONCATENATE(B21893,\",\",C21893)","v":"35632,98999"},35632,98999,"FORMAAL","893740"]
[{"$f":"CONCATENATE(B21911,\",\",C21911)","v":"35633,27777"},35633,27777,"FORMAAL","35633,27777,FORM"]
[{"$f":"CONCATENATE(B21970,\",\",C21970)","v":"35638,21301"},35638,21301,"FORMAAL","35638,21301,FORM"]
[{"$f":"CONCATENATE(B21985,\",\",C21985)","v":"35640,21202"},35640,21202,"FORMAAL","1031380"]
[{"$f":"CONCATENATE(B22016,\",\",C22016)","v":"35643,21202"},35643,21202,"FORMAAL","1031403"]
[{"$f":"CONCATENATE(B22061,\",\",C22061)","v":"35646,27777"},35646,27777,"FORMAAL","35646,27777,FORM"]
[{"$f":"CONCATENATE(B22062,\",\",C22062)","v":"35646,29103"},35646,29103,"FORMAAL","35646,29103,FORM"]
[{"$f":"CONCATENATE(B22113,\",\",C22113)","v":"35650,21304"},35650,21304,"FORMAAL","1031463"]
[{"$f":"CONCATENATE(B22123,\",\",C22123)","v":"35650,91101"},35650,91101,"FORMAAL","35650,91101,FORM"]
[{"$f":"CONCATENATE(B22154,\",\",C22154)","v":"35655,91101"},35655,91101,"FORMAAL","893860"]
[{"$f":"CONCATENATE(B22199,\",\",C22199)","v":"35665,26102"},35665,26102,"FORMAAL","1031476"]
[{"$f":"CONCATENATE(B22214,\",\",C22214)","v":"35667,21101"},35667,21101,"FORMAAL","1031485"]
[{"$f":"CONCATENATE(B22245,\",\",C22245)","v":"35670,21303"},35670,21303,"FORMAAL","1031496"]
[{"$f":"CONCATENATE(B22284,\",\",C22284)","v":"35675,26106"},35675,26106,"FORMAAL","893965"]
[{"$f":"CONCATENATE(B22322,\",\",C22322)","v":"35683,91101"},35683,91101,"FORMAAL","35683,91101,FORM"]
[{"$f":"CONCATENATE(B22337,\",\",C22337)","v":"35684,21801"},35684,21801,"FORMAAL","1031519"]
[{"$f":"CONCATENATE(B22382,\",\",C22382)","v":"35686,96999"},35686,96999,"FORMAAL","894020"]
[{"$f":"CONCATENATE(B22413,\",\",C22413)","v":"35689,21304"},35689,21304,"FORMAAL","1031542"]
[{"$f":"CONCATENATE(B22428,\",\",C22428)","v":"35691,21301"},35691,21301,"FORMAAL","35691,21301,FORM"]
[{"$f":"CONCATENATE(B22455,\",\",C22455)","v":"35692,26102"},35692,26102,"FORMAAL","1031557"]
[{"$f":"CONCATENATE(B22505,\",\",C22505)","v":"35699,27777"},35699,27777,"FORMAAL","35699,27777,FORM"]
[{"$f":"CONCATENATE(B22520,\",\",C22520)","v":"35700,21601"},35700,21601,"FORMAAL","35700,21601,FORM"]
[{"$f":"CONCATENATE(B22551,\",\",C22551)","v":"35703,92999"},35703,92999,"FORMAAL","894271"]
[{"$f":"CONCATENATE(B22596,\",\",C22596)","v":"35703,98369"},35703,98369,"FORMAAL","894316"]
[{"$f":"CONCATENATE(B22611,\",\",C22611)","v":"35703,98478"},35703,98478,"FORMAAL","894331"]
[{"$f":"CONCATENATE(B22661,\",\",C22661)","v":"35705,1"},35705,1,"FORMAAL","894381"]
[{"$f":"CONCATENATE(B22688,\",\",C22688)","v":"35706,1"},35706,1,"FORMAAL","894125"]
[{"$f":"CONCATENATE(B22719,\",\",C22719)","v":"35707,23200"},35707,23200,"FORMAAL","894130"]
[{"$f":"CONCATENATE(B22734,\",\",C22734)","v":"35707,95999"},35707,95999,"FORMAAL","894130"]
[{"$f":"CONCATENATE(B22779,\",\",C22779)","v":"35709,59135"},35709,59135,"FORMAAL","895011"]
[{"$f":"CONCATENATE(B22810,\",\",C22810)","v":"35712,83105"},35712,83105,"FORMAAL","894568"]
[{"$f":"CONCATENATE(B22832,\",\",C22832)","v":"35712,83127"},35712,83127,"FORMAAL","894590"]
[{"$f":"CONCATENATE(B22871,\",\",C22871)","v":"35713,82999"},35713,82999,"FORMAAL","895076"]
[{"$f":"CONCATENATE(B22902,\",\",C22902)","v":"35715,91000"},35715,91000,"FORMAAL","894659"]
[{"$f":"CONCATENATE(B22917,\",\",C22917)","v":"35716,82299"},35716,82299,"FORMAAL","1010078"]
[{"$f":"CONCATENATE(B22948,\",\",C22948)","v":"35720,82201"},35720,82201,"FORMAAL","894685"]
[{"$f":"CONCATENATE(B22993,\",\",C22993)","v":"35723,82108"},35723,82108,"FORMAAL","898854"]
[{"$f":"CONCATENATE(B23003,\",\",C23003)","v":"35723,82118"},35723,82118,"FORMAAL","898864"]
[{"$f":"CONCATENATE(B23040,\",\",C23040)","v":"35733,20121"},35733,20121,"FORMAAL","894544"]
[{"$f":"CONCATENATE(B23085,\",\",C23085)","v":"35744,98999"},35744,98999,"FORMAAL","894744"]
[{"$f":"CONCATENATE(B23100,\",\",C23100)","v":"35745,21604"},35745,21604,"FORMAAL","894749"]
[{"$f":"CONCATENATE(B23131,\",\",C23131)","v":"35746,21601"},35746,21601,"FORMAAL","894754"]
[{"$f":"CONCATENATE(B23176,\",\",C23176)","v":"35750,83119"},35750,83119,"FORMAAL","894795"]
[{"$f":"CONCATENATE(B23178,\",\",C23178)","v":"35750,83121"},35750,83121,"FORMAAL","894797"]
[{"$f":"CONCATENATE(B23223,\",\",C23223)","v":"35774,21304"},35774,21304,"FORMAAL","1031620"]
[{"$f":"CONCATENATE(B23268,\",\",C23268)","v":"35784,23299"},35784,23299,"FORMAAL","894990"]
[{"$f":"CONCATENATE(B23269,\",\",C23269)","v":"35784,26000"},35784,26000,"FORMAAL","894990"]
[{"$f":"CONCATENATE(B23314,\",\",C23314)","v":"35785,95811"},35785,95811,"FORMAAL","894995"]
[{"$f":"CONCATENATE(B23345,\",\",C23345)","v":"35791,81402"},35791,81402,"FORMAAL","1000475"]
[{"$f":"CONCATENATE(B23380,\",\",C23380)","v":"35810,99999"},35810,99999,"FORMAAL","895223"]
[{"$f":"CONCATENATE(B23406,\",\",C23406)","v":"35811,89999"},35811,89999,"FORMAAL","895228"]
[{"$f":"CONCATENATE(B23437,\",\",C23437)","v":"35812,78999"},35812,78999,"FORMAAL","895233"]
[{"$f":"CONCATENATE(B23452,\",\",C23452)","v":"35816,83105"},35816,83105,"FORMAAL","895337"]
[{"$f":"CONCATENATE(B23497,\",\",C23497)","v":"35833,96501"},35833,96501,"FORMAAL","35833,96501,FORM"]
[{"$f":"CONCATENATE(B23528,\",\",C23528)","v":"35839,21701"},35839,21701,"FORMAAL","1031651"]
[{"$f":"CONCATENATE(B23551,\",\",C23551)","v":"35847,21304"},35847,21304,"FORMAAL","1031674"]
[{"$f":"CONCATENATE(B23575,\",\",C23575)","v":"35849,96501"},35849,96501,"FORMAAL","35849,96501,FORM"]
[{"$f":"CONCATENATE(B23620,\",\",C23620)","v":"35874,95777"},35874,95777,"FORMAAL","895617"]
[{"$f":"CONCATENATE(B23635,\",\",C23635)","v":"35876,51707"},35876,51707,"FORMAAL","895642"]
[{"$f":"CONCATENATE(B23666,\",\",C23666)","v":"35884,23201"},35884,23201,"FORMAAL","35884,23201,FORM"]
[{"$f":"CONCATENATE(B23711,\",\",C23711)","v":"35897,26111"},35897,26111,"FORMAAL","35897,26111,FORM"]
[{"$f":"CONCATENATE(B23726,\",\",C23726)","v":"35899,26102"},35899,26102,"FORMAAL","900140"]
[{"$f":"CONCATENATE(B23758,\",\",C23758)","v":"35916,21203"},35916,21203,"FORMAAL","1031741"]
[{"$f":"CONCATENATE(B23803,\",\",C23803)","v":"35933,26217"},35933,26217,"FORMAAL","896003"]
[{"$f":"CONCATENATE(B23834,\",\",C23834)","v":"35942,21304"},35942,21304,"FORMAAL","1031766"]
[{"$f":"CONCATENATE(B23849,\",\",C23849)","v":"35943,26101"},35943,26101,"FORMAAL","896082"]
[{"$f":"CONCATENATE(B23894,\",\",C23894)","v":"35948,21201"},35948,21201,"FORMAAL","35948,21201,FORM"]
[{"$f":"CONCATENATE(B23928,\",\",C23928)","v":"35949,26102"},35949,26102,"FORMAAL","1031807"]
[{"$f":"CONCATENATE(B23941,\",\",C23941)","v":"35953,21304"},35953,21304,"FORMAAL","1021031"]
[{"$f":"CONCATENATE(B23972,\",\",C23972)","v":"35956,21202"},35956,21202,"FORMAAL","1031828"]
[{"$f":"CONCATENATE(B24017,\",\",C24017)","v":"35959,27777"},35959,27777,"FORMAAL","35959,27777,FORM"]
[{"$f":"CONCATENATE(B24032,\",\",C24032)","v":"35964,21104"},35964,21104,"FORMAAL","896213"]
[{"$f":"CONCATENATE(B24063,\",\",C24063)","v":"35964,24102"},35964,24102,"FORMAAL","896244"]
[{"$f":"CONCATENATE(B24099,\",\",C24099)","v":"35965,21201"},35965,21201,"FORMAAL","35965,21201,FORM"]
[{"$f":"CONCATENATE(B24124,\",\",C24124)","v":"35967,77777"},35967,77777,"FORMAAL","896282"]
[{"$f":"CONCATENATE(B24155,\",\",C24155)","v":"35969,21601"},35969,21601,"FORMAAL","35969,21601,FORM"]
[{"$f":"CONCATENATE(B24200,\",\",C24200)","v":"35974,21304"},35974,21304,"FORMAAL","1031914"]
[{"$f":"CONCATENATE(B24231,\",\",C24231)","v":"35979,21303"},35979,21303,"FORMAAL","1031942"]
[{"$f":"CONCATENATE(B24246,\",\",C24246)","v":"35981,21201"},35981,21201,"FORMAAL","35981,21201,FORM"]
[{"$f":"CONCATENATE(B24270,\",\",C24270)","v":"35983,21801"},35983,21801,"FORMAAL","1031956"]
[{"$f":"CONCATENATE(B24323,\",\",C24323)","v":"35989,21303"},35989,21303,"FORMAAL","1031984"]
[{"$f":"CONCATENATE(B24338,\",\",C24338)","v":"35990,21201"},35990,21201,"FORMAAL","35990,21201,FORM"]
[{"$f":"CONCATENATE(B24369,\",\",C24369)","v":"35999,21203"},35999,21203,"FORMAAL","1032014"]
[{"$f":"CONCATENATE(B24414,\",\",C24414)","v":"36002,46102"},36002,46102,"FORMAAL","36002,46102,FORM"]
[{"$f":"CONCATENATE(B24429,\",\",C24429)","v":"36006,21401"},36006,21401,"FORMAAL","36006,21401,FORM"]
[{"$f":"CONCATENATE(B24445,\",\",C24445)","v":"36010,21305"},36010,21305,"FORMAAL","1032051"]
[{"$f":"CONCATENATE(B24476,\",\",C24476)","v":"36014,90000"},36014,90000,"FORMAAL","896526"]
[{"$f":"CONCATENATE(B24521,\",\",C24521)","v":"36034,21077"},36034,21077,"FORMAAL","36034,21077,FORM"]
[{"$f":"CONCATENATE(B24552,\",\",C24552)","v":"36038,21201"},36038,21201,"FORMAAL","36038,21201,FORM"]
[{"$f":"CONCATENATE(B24567,\",\",C24567)","v":"36038,91101"},36038,91101,"FORMAAL","36038,91101,FORM"]
[{"$f":"CONCATENATE(B24620,\",\",C24620)","v":"36044,77777"},36044,77777,"FORMAAL","1016849"]
[{"$f":"CONCATENATE(B24644,\",\",C24644)","v":"36046,60000"},36046,60000,"FORMAAL","900562"]
[{"$f":"CONCATENATE(B24659,\",\",C24659)","v":"36046,66101"},36046,66101,"FORMAAL","900577"]
[{"$f":"CONCATENATE(B24690,\",\",C24690)","v":"36048,96501"},36048,96501,"FORMAAL","36048,96501,FORM"]
[{"$f":"CONCATENATE(B24735,\",\",C24735)","v":"36051,26102"},36051,26102,"FORMAAL","1032180"]
[{"$f":"CONCATENATE(B24766,\",\",C24766)","v":"36058,21077"},36058,21077,"FORMAAL","896806"]
[{"$f":"CONCATENATE(B24791,\",\",C24791)","v":"36058,29103"},36058,29103,"FORMAAL","896806"]
[{"$f":"CONCATENATE(B24827,\",\",C24827)","v":"36071,29103"},36071,29103,"FORMAAL","36071,29103,FORM"]
[{"$f":"CONCATENATE(B24858,\",\",C24858)","v":"36074,21304"},36074,21304,"FORMAAL","1032232"]
[{"$f":"CONCATENATE(B24873,\",\",C24873)","v":"36075,21201"},36075,21201,"FORMAAL","36075,21201,FORM"]
[{"$f":"CONCATENATE(B24918,\",\",C24918)","v":"36077,21304"},36077,21304,"FORMAAL","1032261"]
[{"$f":"CONCATENATE(B24949,\",\",C24949)","v":"36080,21101"},36080,21101,"FORMAAL","1032275"]
[{"$f":"CONCATENATE(B24962,\",\",C24962)","v":"36080,26102"},36080,26102,"FORMAAL","1032282"]
[{"$f":"CONCATENATE(B24996,\",\",C24996)","v":"36083,21305"},36083,21305,"FORMAAL","1032303"]
[{"$f":"CONCATENATE(B25041,\",\",C25041)","v":"36090,21601"},36090,21601,"FORMAAL","36090,21601,FORM"]
[{"$f":"CONCATENATE(B25056,\",\",C25056)","v":"36091,26203"},36091,26203,"FORMAAL","1019105"]
[{"$f":"CONCATENATE(B25087,\",\",C25087)","v":"36094,60000"},36094,60000,"FORMAAL","896991"]
[{"$f":"CONCATENATE(B25132,\",\",C25132)","v":"36096,22300"},36096,22300,"FORMAAL","898041"]
[{"$f":"CONCATENATE(B25164,\",\",C25164)","v":"36096,69911"},36096,69911,"FORMAAL","898073"]
[{"$f":"CONCATENATE(B25179,\",\",C25179)","v":"36096,93777"},36096,93777,"FORMAAL","898088"]
[{"$f":"CONCATENATE(B25224,\",\",C25224)","v":"36125,95777"},36125,95777,"FORMAAL","897166"]
[{"$f":"CONCATENATE(B25255,\",\",C25255)","v":"36128,23201"},36128,23201,"FORMAAL","36128,23201,FORM"]
[{"$f":"CONCATENATE(B25270,\",\",C25270)","v":"36138,21304"},36138,21304,"FORMAAL","1032364"]
[{"$f":"CONCATENATE(B25315,\",\",C25315)","v":"36139,41701"},36139,41701,"FORMAAL","897398"]
[{"$f":"CONCATENATE(B25339,\",\",C25339)","v":"36139,61602"},36139,61602,"FORMAAL","897423"]
[{"$f":"CONCATENATE(B25362,\",\",C25362)","v":"36139,95777"},36139,95777,"FORMAAL","897447"]
[{"$f":"CONCATENATE(B25393,\",\",C25393)","v":"36140,77777"},36140,77777,"FORMAAL","897467"]
[{"$f":"CONCATENATE(B25438,\",\",C25438)","v":"36149,21101"},36149,21101,"FORMAAL","1032385"]
[{"$f":"CONCATENATE(B25453,\",\",C25453)","v":"36149,91101"},36149,91101,"FORMAAL","36149,91101,FORM"]
[{"$f":"CONCATENATE(B25484,\",\",C25484)","v":"36150,22067"},36150,22067,"FORMAAL","36150,CPD5Y-20221003 Charlotte Glinge,FORM"]
[{"$f":"CONCATENATE(B25510,\",\",C25510)","v":"36150,23205"},36150,23205,"FORMAAL","36150,23205,FORM"]
[{"$f":"CONCATENATE(B25545,\",\",C25545)","v":"36150,26025"},36150,26025,"FORMAAL","36150,26025,FORM"]
[{"$f":"CONCATENATE(B25576,\",\",C25576)","v":"36153,81301"},36153,81301,"FORMAAL","897538"]
[{"$f":"CONCATENATE(B25621,\",\",C25621)","v":"36153,93000"},36153,93000,"FORMAAL","897538"]
[{"$f":"CONCATENATE(B25622,\",\",C25622)","v":"36153,93001"},36153,93001,"FORMAAL","897538"]
[{"$f":"CONCATENATE(B25667,\",\",C25667)","v":"36159,21101"},36159,21101,"FORMAAL","1032405"]
[{"$f":"CONCATENATE(B25712,\",\",C25712)","v":"36161,21211"},36161,21211,"FORMAAL","36161,21211,FORM"]
[{"$f":"CONCATENATE(B25714,\",\",C25714)","v":"36161,21213"},36161,21213,"FORMAAL","36161,21213,FORM"]
[{"$f":"CONCATENATE(B25759,\",\",C25759)","v":"36161,21418"},36161,21418,"FORMAAL","36161,21418,FORM"]
[{"$f":"CONCATENATE(B25774,\",\",C25774)","v":"36161,21611"},36161,21611,"FORMAAL","36161,21611,FORM"]
[{"$f":"CONCATENATE(B25805,\",\",C25805)","v":"36161,26117"},36161,26117,"FORMAAL","1019649"]
[{"$f":"CONCATENATE(B25850,\",\",C25850)","v":"36164,21304"},36164,21304,"FORMAAL","1032441"]
[{"$f":"CONCATENATE(B25887,\",\",C25887)","v":"36172,27777"},36172,27777,"FORMAAL","36172,27777,FORM"]
[{"$f":"CONCATENATE(B25897,\",\",C25897)","v":"36173,21302"},36173,21302,"FORMAAL","1032468"]
[{"$f":"CONCATENATE(B25942,\",\",C25942)","v":"36175,21601"},36175,21601,"FORMAAL","36175,21601,FORM"]
[{"$f":"CONCATENATE(B25973,\",\",C25973)","v":"36177,21201"},36177,21201,"FORMAAL","36177,21201,FORM"]
[{"$f":"CONCATENATE(B25988,\",\",C25988)","v":"36177,91101"},36177,91101,"FORMAAL","36177,91101,FORM"]
[{"$f":"CONCATENATE(B26019,\",\",C26019)","v":"36183,21305"},36183,21305,"FORMAAL","1032527"]
[{"$f":"CONCATENATE(B26058,\",\",C26058)","v":"36189,21202"},36189,21202,"FORMAAL","1032561"]
[{"$f":"CONCATENATE(B26080,\",\",C26080)","v":"36194,23201"},36194,23201,"FORMAAL","36194,23201,FORM"]
[{"$f":"CONCATENATE(B26111,\",\",C26111)","v":"36197,21101"},36197,21101,"FORMAAL","1032585"]
[{"$f":"CONCATENATE(B26156,\",\",C26156)","v":"36199,22200"},36199,22200,"FORMAAL","898212"]
[{"$f":"CONCATENATE(B26171,\",\",C26171)","v":"36199,22399"},36199,22399,"FORMAAL","898227"]
[{"$f":"CONCATENATE(B26202,\",\",C26202)","v":"36199,22761"},36199,22761,"FORMAAL","898258"]
[{"$f":"CONCATENATE(B26229,\",\",C26229)","v":"36199,61212"},36199,61212,"FORMAAL","898285"]
[{"$f":"CONCATENATE(B26279,\",\",C26279)","v":"36219,21077"},36219,21077,"FORMAAL","36219,21077,FORM"]
[{"$f":"CONCATENATE(B26294,\",\",C26294)","v":"36219,27777"},36219,27777,"FORMAAL","36219,27777,FORM"]
[{"$f":"CONCATENATE(B26339,\",\",C26339)","v":"36226,21101"},36226,21101,"FORMAAL","1032665"]
[{"$f":"CONCATENATE(B26370,\",\",C26370)","v":"36230,21601"},36230,21601,"FORMAAL","36230,21601,FORM"]
[{"$f":"CONCATENATE(B26385,\",\",C26385)","v":"36231,21302"},36231,21302,"FORMAAL","1032687"]
[{"$f":"CONCATENATE(B26435,\",\",C26435)","v":"36236,30499"},36236,30499,"FORMAAL","898572"]
[{"$f":"CONCATENATE(B26462,\",\",C26462)","v":"36239,21203"},36239,21203,"FORMAAL","1032708"]
[{"$f":"CONCATENATE(B26477,\",\",C26477)","v":"36239,96501"},36239,96501,"FORMAAL","36239,96501,FORM"]
[{"$f":"CONCATENATE(B26508,\",\",C26508)","v":"36242,21301"},36242,21301,"FORMAAL","36242,21301,FORM"]
[{"$f":"CONCATENATE(B26553,\",\",C26553)","v":"36246,60000"},36246,60000,"FORMAAL","898595"]
[{"$f":"CONCATENATE(B26568,\",\",C26568)","v":"36247,81601"},36247,81601,"FORMAAL","898600"]
[{"$f":"CONCATENATE(B26606,\",\",C26606)","v":"36259,26101"},36259,26101,"FORMAAL","898686"]
[{"$f":"CONCATENATE(B26645,\",\",C26645)","v":"36262,21077"},36262,21077,"FORMAAL","36262,21077,FORM"]
[{"$f":"CONCATENATE(B26676,\",\",C26676)","v":"36263,21801"},36263,21801,"FORMAAL","1032792"]
[{"$f":"CONCATENATE(B26691,\",\",C26691)","v":"36265,21304"},36265,21304,"FORMAAL","1032801"]
[{"$f":"CONCATENATE(B26736,\",\",C26736)","v":"36275,21202"},36275,21202,"FORMAAL","1032831"]
[{"$f":"CONCATENATE(B26767,\",\",C26767)","v":"36277,21303"},36277,21303,"FORMAAL","1032853"]
[{"$f":"CONCATENATE(B26777,\",\",C26777)","v":"36278,21303"},36278,21303,"FORMAAL","1032858"]
[{"$f":"CONCATENATE(B26828,\",\",C26828)","v":"36284,29103"},36284,29103,"FORMAAL","36284,29103,FORM"]
[{"$f":"CONCATENATE(B26829,\",\",C26829)","v":"36284,91101"},36284,91101,"FORMAAL","36284,91101,FORM"]
[{"$f":"CONCATENATE(B26874,\",\",C26874)","v":"36299,21077"},36299,21077,"FORMAAL","36299,21077,FORM"]
[{"$f":"CONCATENATE(B26905,\",\",C26905)","v":"36304,21801"},36304,21801,"FORMAAL","1032929"]
[{"$f":"CONCATENATE(B26920,\",\",C26920)","v":"36313,69103"},36313,69103,"FORMAAL","899094"]
[{"$f":"CONCATENATE(B26979,\",\",C26979)","v":"36314,66801"},36314,66801,"FORMAAL","899099"]
[{"$f":"CONCATENATE(B26997,\",\",C26997)","v":"36314,96000"},36314,96000,"FORMAAL","899099"]
[{"$f":"CONCATENATE(B27012,\",\",C27012)","v":"36319,21900"},36319,21900,"FORMAAL","899147"]
[{"$f":"CONCATENATE(B27043,\",\",C27043)","v":"36319,64301"},36319,64301,"FORMAAL","899147"]
[{"$f":"CONCATENATE(B27088,\",\",C27088)","v":"36320,26800"},36320,26800,"FORMAAL","899152"]
[{"$f":"CONCATENATE(B27103,\",\",C27103)","v":"36320,61900"},36320,61900,"FORMAAL","899152"]
[{"$f":"CONCATENATE(B27154,\",\",C27154)","v":"36337,93777"},36337,93777,"FORMAAL","899289"]
[{"$f":"CONCATENATE(B27180,\",\",C27180)","v":"36348,21304"},36348,21304,"FORMAAL","1032952"]
[{"$f":"CONCATENATE(B27195,\",\",C27195)","v":"36350,21077"},36350,21077,"FORMAAL","36350,21077,FORM"]
[{"$f":"CONCATENATE(B27226,\",\",C27226)","v":"36352,21202"},36352,21202,"FORMAAL","1032993"]
[{"$f":"CONCATENATE(B27271,\",\",C27271)","v":"36360,26106"},36360,26106,"FORMAAL","36360,26106,FORM"]
[{"$f":"CONCATENATE(B27302,\",\",C27302)","v":"36362,21401"},36362,21401,"FORMAAL","36362,21401,FORM"]
[{"$f":"CONCATENATE(B27325,\",\",C27325)","v":"36364,77777"},36364,77777,"FORMAAL","899447"]
[{"$f":"CONCATENATE(B27363,\",\",C27363)","v":"36369,21000"},36369,21000,"FORMAAL","899505"]
[{"$f":"CONCATENATE(B27394,\",\",C27394)","v":"36370,21401"},36370,21401,"FORMAAL","36370,21401,FORM"]
[{"$f":"CONCATENATE(B27409,\",\",C27409)","v":"36373,53002"},36373,53002,"FORMAAL","1011110"]
[{"$f":"CONCATENATE(B27454,\",\",C27454)","v":"36379,21305"},36379,21305,"FORMAAL","1033067"]
[{"$f":"CONCATENATE(B27485,\",\",C27485)","v":"36380,24399"},36380,24399,"FORMAAL","899577"]
[{"$f":"CONCATENATE(B27496,\",\",C27496)","v":"36380,90100"},36380,90100,"FORMAAL","899577"]
[{"$f":"CONCATENATE(B27532,\",\",C27532)","v":"36383,23201"},36383,23201,"FORMAAL","899628"]
[{"$f":"CONCATENATE(B27577,\",\",C27577)","v":"36393,26101"},36393,26101,"FORMAAL","899684"]
[{"$f":"CONCATENATE(B27592,\",\",C27592)","v":"36393,95000"},36393,95000,"FORMAAL","899684"]
[{"$f":"CONCATENATE(B27623,\",\",C27623)","v":"36396,21203"},36396,21203,"FORMAAL","1033094"]
[{"$f":"CONCATENATE(B27668,\",\",C27668)","v":"36402,21801"},36402,21801,"FORMAAL","1033109"]
[{"$f":"CONCATENATE(B27702,\",\",C27702)","v":"36407,96501"},36407,96501,"FORMAAL","36407,96501,FORM"]
[{"$f":"CONCATENATE(B27715,\",\",C27715)","v":"36411,81148"},36411,81148,"FORMAAL","36411,81148,FORM"]
[{"$f":"CONCATENATE(B27760,\",\",C27760)","v":"36443,10010"},36443,10010,"FORMAAL","899995"]
[{"$f":"CONCATENATE(B27791,\",\",C27791)","v":"36443,22451"},36443,22451,"FORMAAL","899995"]
[{"$f":"CONCATENATE(B27806,\",\",C27806)","v":"36443,93777"},36443,93777,"FORMAAL","899995"]
[{"$f":"CONCATENATE(B27851,\",\",C27851)","v":"36455,21801"},36455,21801,"FORMAAL","1033181"]
[{"$f":"CONCATENATE(B27873,\",\",C27873)","v":"36457,21401"},36457,21401,"FORMAAL","36457,21401,FORM"]
[{"$f":"CONCATENATE(B27898,\",\",C27898)","v":"36458,26102"},36458,26102,"FORMAAL","1033211"]
[{"$f":"CONCATENATE(B27929,\",\",C27929)","v":"36460,96501"},36460,96501,"FORMAAL","36460,96501,FORM"]
[{"$f":"CONCATENATE(B27974,\",\",C27974)","v":"36475,26102"},36475,26102,"FORMAAL","1011020"]
[{"$f":"CONCATENATE(B27989,\",\",C27989)","v":"36476,23201"},36476,23201,"FORMAAL","900208"]
[{"$f":"CONCATENATE(B28020,\",\",C28020)","v":"36478,21302"},36478,21302,"FORMAAL","1033250"]
[{"$f":"CONCATENATE(B28044,\",\",C28044)","v":"36482,55515"},36482,55515,"FORMAAL","900245"]
[{"$f":"CONCATENATE(B28067,\",\",C28067)","v":"36496,21303"},36496,21303,"FORMAAL","1033257"]
[{"$f":"CONCATENATE(B28112,\",\",C28112)","v":"36500,21201"},36500,21201,"FORMAAL","36500,21201,FORM"]
[{"$f":"CONCATENATE(B28127,\",\",C28127)","v":"36500,29103"},36500,29103,"FORMAAL","36500,29103,FORM"]
[{"$f":"CONCATENATE(B28158,\",\",C28158)","v":"36503,21304"},36503,21304,"FORMAAL","1033312"]
[{"$f":"CONCATENATE(B28203,\",\",C28203)","v":"36515,21601"},36515,21601,"FORMAAL","36515,21601,FORM"]
[{"$f":"CONCATENATE(B28246,\",\",C28246)","v":"36517,22341"},36517,22341,"FORMAAL","900541"]
[{"$f":"CONCATENATE(B28250,\",\",C28250)","v":"36517,22400"},36517,22400,"FORMAAL","900541"]
[{"$f":"CONCATENATE(B28295,\",\",C28295)","v":"36524,89999"},36524,89999,"FORMAAL","900614"]
[{"$f":"CONCATENATE(B28326,\",\",C28326)","v":"36540,77777"},36540,77777,"FORMAAL","900694"]
[{"$f":"CONCATENATE(B28341,\",\",C28341)","v":"36551,21101"},36551,21101,"FORMAAL","1033355"]
[{"$f":"CONCATENATE(B28390,\",\",C28390)","v":"36556,21801"},36556,21801,"FORMAAL","1033387"]
[{"$f":"CONCATENATE(B28418,\",\",C28418)","v":"36563,61899"},36563,61899,"FORMAAL","900821"]
[{"$f":"CONCATENATE(B28433,\",\",C28433)","v":"36563,95777"},36563,95777,"FORMAAL","900821"]
[{"$f":"CONCATENATE(B28478,\",\",C28478)","v":"36564,95999"},36564,95999,"FORMAAL","900826"]
[{"$f":"CONCATENATE(B28509,\",\",C28509)","v":"36565,69103"},36565,69103,"FORMAAL","900831"]
[{"$f":"CONCATENATE(B28524,\",\",C28524)","v":"36569,26103"},36569,26103,"FORMAAL","36569,26103,FORM"]
[{"$f":"CONCATENATE(B28565,\",\",C28565)","v":"36586,21305"},36586,21305,"FORMAAL","1033414"]
[{"$f":"CONCATENATE(B28601,\",\",C28601)","v":"36595,21305"},36595,21305,"FORMAAL","1033427"]
[{"$f":"CONCATENATE(B28616,\",\",C28616)","v":"36596,21302"},36596,21302,"FORMAAL","1033442"]
[{"$f":"CONCATENATE(B28647,\",\",C28647)","v":"36601,29103"},36601,29103,"FORMAAL","36601,29103,FORM"]
[{"$f":"CONCATENATE(B28692,\",\",C28692)","v":"36605,96501"},36605,96501,"FORMAAL","901142"]
[{"$f":"CONCATENATE(B28723,\",\",C28723)","v":"36613,23101"},36613,23101,"FORMAAL","1000026"]
[{"$f":"CONCATENATE(B28736,\",\",C28736)","v":"36614,22211"},36614,22211,"FORMAAL","36614,22211,FORM"]
[{"$f":"CONCATENATE(B28784,\",\",C28784)","v":"36615,29090"},36615,29090,"FORMAAL","1000064"]
[{"$f":"CONCATENATE(B28815,\",\",C28815)","v":"36618,21305"},36618,21305,"FORMAAL","1033478"]
[{"$f":"CONCATENATE(B28830,\",\",C28830)","v":"36619,21203"},36619,21203,"FORMAAL","1033490"]
[{"$f":"CONCATENATE(B28875,\",\",C28875)","v":"36625,96501"},36625,96501,"FORMAAL","36625,96501,FORM"]
[{"$f":"CONCATENATE(B28906,\",\",C28906)","v":"36638,26106"},36638,26106,"FORMAAL","1001593"]
[{"$f":"CONCATENATE(B28938,\",\",C28938)","v":"36649,21601"},36649,21601,"FORMAAL","36649,21601,FORM"]
[{"$f":"CONCATENATE(B28953,\",\",C28953)","v":"36651,81302"},36651,81302,"FORMAAL","1000320"]
[{"$f":"CONCATENATE(B28998,\",\",C28998)","v":"36651,98488"},36651,98488,"FORMAAL","1020158"]
[{"$f":"CONCATENATE(B29013,\",\",C29013)","v":"36663,21305"},36663,21305,"FORMAAL","1033540"]
[{"$f":"CONCATENATE(B29044,\",\",C29044)","v":"36669,21801"},36669,21801,"FORMAAL","1033554"]
[{"$f":"CONCATENATE(B29089,\",\",C29089)","v":"36674,21304"},36674,21304,"FORMAAL","1033582"]
[{"$f":"CONCATENATE(B29113,\",\",C29113)","v":"36676,21701"},36676,21701,"FORMAAL","1033588"]
[{"$f":"CONCATENATE(B29136,\",\",C29136)","v":"36680,10030"},36680,10030,"FORMAAL","1000576"]
[{"$f":"CONCATENATE(B29181,\",\",C29181)","v":"36680,10120"},36680,10120,"FORMAAL","36680,10120,FORM"]
[{"$f":"CONCATENATE(B29182,\",\",C29182)","v":"36680,10121"},36680,10121,"FORMAAL","36680,10121,FORM"]
[{"$f":"CONCATENATE(B29227,\",\",C29227)","v":"36686,81111"},36686,81111,"FORMAAL","1000632"]
[{"$f":"CONCATENATE(B29242,\",\",C29242)","v":"36686,82801"},36686,82801,"FORMAAL","1000632"]
[{"$f":"CONCATENATE(B29284,\",\",C29284)","v":"36686,93999"},36686,93999,"FORMAAL","1000632"]
[{"$f":"CONCATENATE(B29319,\",\",C29319)","v":"36695,61601"},36695,61601,"FORMAAL","1000677"]
[{"$f":"CONCATENATE(B29350,\",\",C29350)","v":"36702,21701"},36702,21701,"FORMAAL","1033601"]
[{"$f":"CONCATENATE(B29365,\",\",C29365)","v":"36705,21201"},36705,21201,"FORMAAL","36705,21201,FORM"]
[{"$f":"CONCATENATE(B29410,\",\",C29410)","v":"36707,29103"},36707,29103,"FORMAAL","36707,29103,FORM"]
[{"$f":"CONCATENATE(B29441,\",\",C29441)","v":"36710,95777"},36710,95777,"FORMAAL","1000784"]
[{"$f":"CONCATENATE(B29455,\",\",C29455)","v":"36711,21304"},36711,21304,"FORMAAL","1033646"]
[{"$f":"CONCATENATE(B29502,\",\",C29502)","v":"36717,22241"},36717,22241,"FORMAAL","36717,22241,FORM"]
[{"$f":"CONCATENATE(B29533,\",\",C29533)","v":"36718,22361"},36718,22361,"FORMAAL","36718,22361,FORM"]
[{"$f":"CONCATENATE(B29548,\",\",C29548)","v":"36721,21202"},36721,21202,"FORMAAL","1033676"]
[{"$f":"CONCATENATE(B29579,\",\",C29579)","v":"36727,21077"},36727,21077,"FORMAAL","1000881"]
[{"$f":"CONCATENATE(B29624,\",\",C29624)","v":"36728,1"},36728,1,"FORMAAL","1000886"]
[{"$f":"CONCATENATE(B29657,\",\",C29657)","v":"36728,95999"},36728,95999,"FORMAAL","1000886"]
[{"$f":"CONCATENATE(B29671,\",\",C29671)","v":"36731,81501"},36731,81501,"FORMAAL","1000912"]
[{"$f":"CONCATENATE(B29716,\",\",C29716)","v":"36734,21202"},36734,21202,"FORMAAL","1033718"]
[{"$f":"CONCATENATE(B29747,\",\",C29747)","v":"36736,29999"},36736,29999,"FORMAAL","1000972"]
[{"$f":"CONCATENATE(B29762,\",\",C29762)","v":"36736,96501"},36736,96501,"FORMAAL","1000972"]
[{"$f":"CONCATENATE(B29807,\",\",C29807)","v":"36742,22299"},36742,22299,"FORMAAL","1001003"]
[{"$f":"CONCATENATE(B29832,\",\",C29832)","v":"36742,77777"},36742,77777,"FORMAAL","1001003"]
[{"$f":"CONCATENATE(B29854,\",\",C29854)","v":"36743,85009"},36743,85009,"FORMAAL","1011620"]
[{"$f":"CONCATENATE(B29899,\",\",C29899)","v":"36744,84118"},36744,84118,"FORMAAL","1020101"]
[{"$f":"CONCATENATE(B29930,\",\",C29930)","v":"36747,78999"},36747,78999,"FORMAAL","1001046"]
[{"$f":"CONCATENATE(B29945,\",\",C29945)","v":"36755,21701"},36755,21701,"FORMAAL","1037648"]
[{"$f":"CONCATENATE(B29976,\",\",C29976)","v":"36756,82110"},36756,82110,"FORMAAL","1001109"]
[{"$f":"CONCATENATE(B30003,\",\",C30003)","v":"36759,21077"},36759,21077,"FORMAAL","36759,21077,FORM"]
[{"$f":"CONCATENATE(B30037,\",\",C30037)","v":"36762,23201"},36762,23201,"FORMAAL","36762,23201,FORM"]
[{"$f":"CONCATENATE(B30068,\",\",C30068)","v":"36765,21301"},36765,21301,"FORMAAL","36765,21301,FORM"]
[{"$f":"CONCATENATE(B30113,\",\",C30113)","v":"36770,21101"},36770,21101,"FORMAAL","1033805"]
[{"$f":"CONCATENATE(B30128,\",\",C30128)","v":"36772,21304"},36772,21304,"FORMAAL","1033817"]
[{"$f":"CONCATENATE(B30159,\",\",C30159)","v":"36776,21302"},36776,21302,"FORMAAL","1033844"]
[{"$f":"CONCATENATE(B30205,\",\",C30205)","v":"36777,95777"},36777,95777,"FORMAAL","1001272"]
[{"$f":"CONCATENATE(B30236,\",\",C30236)","v":"36782,27799"},36782,27799,"FORMAAL","1001298"]
[{"$f":"CONCATENATE(B30251,\",\",C30251)","v":"36782,93611"},36782,93611,"FORMAAL","1001298"]
[{"$f":"CONCATENATE(B30296,\",\",C30296)","v":"36783,96999"},36783,96999,"FORMAAL","1001303"]
[{"$f":"CONCATENATE(B30327,\",\",C30327)","v":"36805,21303"},36805,21303,"FORMAAL","1033861"]
[{"$f":"CONCATENATE(B30342,\",\",C30342)","v":"36806,26102"},36806,26102,"FORMAAL","1033867"]
[{"$f":"CONCATENATE(B30380,\",\",C30380)","v":"36808,96501"},36808,96501,"FORMAAL","36808,96501,FORM"]
[{"$f":"CONCATENATE(B30389,\",\",C30389)","v":"36809,21801"},36809,21801,"FORMAAL","1033901"]
[{"$f":"CONCATENATE(B30434,\",\",C30434)","v":"36829,57004"},36829,57004,"FORMAAL","36829,57004,FORM"]
[{"$f":"CONCATENATE(B30465,\",\",C30465)","v":"36829,57052"},36829,57052,"FORMAAL","36829,57052,FORM"]
[{"$f":"CONCATENATE(B30480,\",\",C30480)","v":"36829,57075"},36829,57075,"FORMAAL","36829,57075,FORM"]
[{"$f":"CONCATENATE(B30525,\",\",C30525)","v":"36829,93611"},36829,93611,"FORMAAL","36829,93611,FORM"]
[{"$f":"CONCATENATE(B30551,\",\",C30551)","v":"36834,21301"},36834,21301,"FORMAAL","36834,21301,FORM"]
[{"$f":"CONCATENATE(B30572,\",\",C30572)","v":"36836,21202"},36836,21202,"FORMAAL","1033937"]
[{"$f":"CONCATENATE(B30603,\",\",C30603)","v":"36839,21077"},36839,21077,"FORMAAL","1001676"]
[{"$f":"CONCATENATE(B30648,\",\",C30648)","v":"36841,21900"},36841,21900,"FORMAAL","1001686"]
[{"$f":"CONCATENATE(B30663,\",\",C30663)","v":"36841,61000"},36841,61000,"FORMAAL","1001686"]
[{"$f":"CONCATENATE(B30694,\",\",C30694)","v":"36841,92010"},36841,92010,"FORMAAL","1001686"]
[{"$f":"CONCATENATE(B30722,\",\",C30722)","v":"36845,27777"},36845,27777,"FORMAAL","1001706"]
[{"$f":"CONCATENATE(B30771,\",\",C30771)","v":"36846,93999"},36846,93999,"FORMAAL","1001739"]
[{"$f":"CONCATENATE(B30786,\",\",C30786)","v":"36852,26102"},36852,26102,"FORMAAL","1033957"]
[{"$f":"CONCATENATE(B30831,\",\",C30831)","v":"36858,26999"},36858,26999,"FORMAAL","1001818"]
[{"$f":"CONCATENATE(B30862,\",\",C30862)","v":"36858,67777"},36858,67777,"FORMAAL","1001818"]
[{"$f":"CONCATENATE(B30877,\",\",C30877)","v":"36858,93777"},36858,93777,"FORMAAL","1001818"]
[{"$f":"CONCATENATE(B30924,\",\",C30924)","v":"36872,21801"},36872,21801,"FORMAAL","1033991"]
[{"$f":"CONCATENATE(B30954,\",\",C30954)","v":"36878,22231"},36878,22231,"FORMAAL","1014063"]
[{"$f":"CONCATENATE(B30969,\",\",C30969)","v":"36879,22100"},36879,22100,"FORMAAL","1001959"]
[{"$f":"CONCATENATE(B31000,\",\",C31000)","v":"36879,22499"},36879,22499,"FORMAAL","1001990"]
[{"$f":"CONCATENATE(B31045,\",\",C31045)","v":"36879,23151"},36879,23151,"FORMAAL","1002036"]
[{"$f":"CONCATENATE(B31060,\",\",C31060)","v":"36879,69931"},36879,69931,"FORMAAL","1002051"]
[{"$f":"CONCATENATE(B31099,\",\",C31099)","v":"36882,21202"},36882,21202,"FORMAAL","1034019"]
[{"$f":"CONCATENATE(B31137,\",\",C31137)","v":"36887,21077"},36887,21077,"FORMAAL","36887,21077,FORM"]
[{"$f":"CONCATENATE(B31152,\",\",C31152)","v":"36887,27777"},36887,27777,"FORMAAL","36887,27777,FORM"]
[{"$f":"CONCATENATE(B31183,\",\",C31183)","v":"36894,27777"},36894,27777,"FORMAAL","1002143"]
[{"$f":"CONCATENATE(B31228,\",\",C31228)","v":"36897,21301"},36897,21301,"FORMAAL","36897,21301,FORM"]
[{"$f":"CONCATENATE(B31259,\",\",C31259)","v":"36898,29103"},36898,29103,"FORMAAL","36898,29103,FORM"]
[{"$f":"CONCATENATE(B31270,\",\",C31270)","v":"36899,21304"},36899,21304,"FORMAAL","1034077"]
[{"$f":"CONCATENATE(B31320,\",\",C31320)","v":"36910,96501"},36910,96501,"FORMAAL","36910,96501,FORM"]
[{"$f":"CONCATENATE(B31351,\",\",C31351)","v":"36912,21401"},36912,21401,"FORMAAL","36912,21401,FORM"]
[{"$f":"CONCATENATE(B31366,\",\",C31366)","v":"36915,21302"},36915,21302,"FORMAAL","1034126"]
[{"$f":"CONCATENATE(B31397,\",\",C31397)","v":"36916,96501"},36916,96501,"FORMAAL","36916,96501,FORM"]
[{"$f":"CONCATENATE(B31442,\",\",C31442)","v":"36918,23201"},36918,23201,"FORMAAL","1015300"]
[{"$f":"CONCATENATE(B31472,\",\",C31472)","v":"36918,28101"},36918,28101,"FORMAAL","1002339"]
[{"$f":"CONCATENATE(B31489,\",\",C31489)","v":"36918,61600"},36918,61600,"FORMAAL","1002356"]
[{"$f":"CONCATENATE(B31534,\",\",C31534)","v":"36918,96999"},36918,96999,"FORMAAL","1002398"]
[{"$f":"CONCATENATE(B31549,\",\",C31549)","v":"36925,26104"},36925,26104,"FORMAAL","36925,26104,FORM"]
[{"$f":"CONCATENATE(B31580,\",\",C31580)","v":"36934,21302"},36934,21302,"FORMAAL","1034181"]
[{"$f":"CONCATENATE(B31595,\",\",C31595)","v":"36935,21304"},36935,21304,"FORMAAL","1034190"]
[{"$f":"CONCATENATE(B31647,\",\",C31647)","v":"36940,46103"},36940,46103,"FORMAAL","1002561"]
[{"$f":"CONCATENATE(B31672,\",\",C31672)","v":"36948,21302"},36948,21302,"FORMAAL","1003094"]
[{"$f":"CONCATENATE(B31687,\",\",C31687)","v":"36948,60000"},36948,60000,"FORMAAL","36948,60000,FORM"]
[{"$f":"CONCATENATE(B31718,\",\",C31718)","v":"36953,82801"},36953,82801,"FORMAAL","1002629"]
[{"$f":"CONCATENATE(B31763,\",\",C31763)","v":"36953,96101"},36953,96101,"FORMAAL","1002629"]
[{"$f":"CONCATENATE(B31794,\",\",C31794)","v":"36958,23201"},36958,23201,"FORMAAL","36958,23201,FORM"]
[{"$f":"CONCATENATE(B31818,\",\",C31818)","v":"36960,21304"},36960,21304,"FORMAAL","1034231"]
[{"$f":"CONCATENATE(B31855,\",\",C31855)","v":"36961,29999"},36961,29999,"FORMAAL","1002669"]
[{"$f":"CONCATENATE(B31886,\",\",C31886)","v":"36962,23201"},36962,23201,"FORMAAL","36962,23201,FORM"]
[{"$f":"CONCATENATE(B31901,\",\",C31901)","v":"36965,21305"},36965,21305,"FORMAAL","1034262"]
[{"$f":"CONCATENATE(B31946,\",\",C31946)","v":"36970,21304"},36970,21304,"FORMAAL","1034292"]
[{"$f":"CONCATENATE(B31977,\",\",C31977)","v":"36972,21302"},36972,21302,"FORMAAL","1034306"]
[{"$f":"CONCATENATE(B31989,\",\",C31989)","v":"36972,91101"},36972,91101,"FORMAAL","36972,91101,FORM"]
[{"$f":"CONCATENATE(B32024,\",\",C32024)","v":"36973,61899"},36973,61899,"FORMAAL","1002729"]
[{"$f":"CONCATENATE(B32069,\",\",C32069)","v":"36988,21301"},36988,21301,"FORMAAL","36988,21301,FORM"]
[{"$f":"CONCATENATE(B32084,\",\",C32084)","v":"36991,21077"},36991,21077,"FORMAAL","36991,21077,FORM"]
[{"$f":"CONCATENATE(B32115,\",\",C32115)","v":"36992,21601"},36992,21601,"FORMAAL","36992,21601,FORM"]
[{"$f":"CONCATENATE(B32164,\",\",C32164)","v":"36995,21077"},36995,21077,"FORMAAL","36995,21077,FORM"]
[{"$f":"CONCATENATE(B32176,\",\",C32176)","v":"36995,21701"},36995,21701,"FORMAAL","1034372"]
[{"$f":"CONCATENATE(B32207,\",\",C32207)","v":"36999,69999"},36999,69999,"FORMAAL","1002901"]
[{"$f":"CONCATENATE(B32252,\",\",C32252)","v":"37005,95777"},37005,95777,"FORMAAL","1002952"]
[{"$f":"CONCATENATE(B32283,\",\",C32283)","v":"37008,86401"},37008,86401,"FORMAAL","1002972"]
[{"$f":"CONCATENATE(B32298,\",\",C32298)","v":"37008,92201"},37008,92201,"FORMAAL","1002972"]
[{"$f":"CONCATENATE(B32335,\",\",C32335)","v":"37009,22211"},37009,22211,"FORMAAL","1002988"]
[{"$f":"CONCATENATE(B32375,\",\",C32375)","v":"37009,22921"},37009,22921,"FORMAAL","1003028"]
[{"$f":"CONCATENATE(B32390,\",\",C32390)","v":"37009,78999"},37009,78999,"FORMAAL","1003043"]
[{"$f":"CONCATENATE(B32421,\",\",C32421)","v":"37010,91101"},37010,91101,"FORMAAL","37010,91101,FORM"]
[{"$f":"CONCATENATE(B32466,\",\",C32466)","v":"37021,82000"},37021,82000,"FORMAAL","1003147"]
[{"$f":"CONCATENATE(B32481,\",\",C32481)","v":"37022,70000"},37022,70000,"FORMAAL","1003164"]
[{"$f":"CONCATENATE(B32510,\",\",C32510)","v":"37023,96501"},37023,96501,"FORMAAL","37023,96501,FORM"]
[{"$f":"CONCATENATE(B32558,\",\",C32558)","v":"37026,21303"},37026,21303,"FORMAAL","1034440"]
[{"$f":"CONCATENATE(B32573,\",\",C32573)","v":"37028,20000"},37028,20000,"FORMAAL","1003195"]
[{"$f":"CONCATENATE(B32604,\",\",C32604)","v":"37028,70000"},37028,70000,"FORMAAL","1003195"]
[{"$f":"CONCATENATE(B32649,\",\",C32649)","v":"37039,91101"},37039,91101,"FORMAAL","37039,91101,FORM"]
[{"$f":"CONCATENATE(B32680,\",\",C32680)","v":"37048,51706"},37048,51706,"FORMAAL","1003351"]
[{"$f":"CONCATENATE(B32681,\",\",C32681)","v":"37048,51707"},37048,51707,"FORMAAL","1003351"]
[{"$f":"CONCATENATE(B32741,\",\",C32741)","v":"37068,27777"},37068,27777,"FORMAAL","37068,27777,FORM"]
[{"$f":"CONCATENATE(B32742,\",\",C32742)","v":"37068,29103"},37068,29103,"FORMAAL","37068,29103,FORM"]
[{"$f":"CONCATENATE(B32787,\",\",C32787)","v":"37072,50001"},37072,50001,"FORMAAL","1003531"]
[{"$f":"CONCATENATE(B32802,\",\",C32802)","v":"37072,60006"},37072,60006,"FORMAAL","37072,60006,FORM"]
[{"$f":"CONCATENATE(B32833,\",\",C32833)","v":"37073,90000"},37073,90000,"FORMAAL","1003493"]
[{"$f":"CONCATENATE(B32883,\",\",C32883)","v":"37080,40005"},37080,40005,"FORMAAL","37080,40005,FORM"]
[{"$f":"CONCATENATE(B32910,\",\",C32910)","v":"37081,10002"},37081,10002,"FORMAAL","1003937"]
[{"$f":"CONCATENATE(B32925,\",\",C32925)","v":"37081,20007"},37081,20007,"FORMAAL","1003950"]
[{"$f":"CONCATENATE(B32970,\",\",C32970)","v":"37082,10002"},37082,10002,"FORMAAL","1004207"]
[{"$f":"CONCATENATE(B33001,\",\",C33001)","v":"37082,40003"},37082,40003,"FORMAAL","1004235"]
[{"$f":"CONCATENATE(B33016,\",\",C33016)","v":"37082,50008"},37082,50008,"FORMAAL","1004248"]
[{"$f":"CONCATENATE(B33058,\",\",C33058)","v":"37083,40000"},37083,40000,"FORMAAL","1004097"]
[{"$f":"CONCATENATE(B33093,\",\",C33093)","v":"37084,10005"},37084,10005,"FORMAAL","37084,10005,FORM"]
[{"$f":"CONCATENATE(B33108,\",\",C33108)","v":"37084,30000"},37084,30000,"FORMAAL","1003998"]
[{"$f":"CONCATENATE(B33139,\",\",C33139)","v":"37084,60001"},37084,60001,"FORMAAL","37084,60001,FORM"]
[{"$f":"CONCATENATE(B33184,\",\",C33184)","v":"37085,40006"},37085,40006,"FORMAAL","1004327"]
[{"$f":"CONCATENATE(B33199,\",\",C33199)","v":"37085,60001"},37085,60001,"FORMAAL","37085,60001,FORM"]
[{"$f":"CONCATENATE(B33229,\",\",C33229)","v":"37086,30001"},37086,30001,"FORMAAL","1003774"]
[{"$f":"CONCATENATE(B33276,\",\",C33276)","v":"37087,10008"},37087,10008,"FORMAAL","1004167"]
[{"$f":"CONCATENATE(B33307,\",\",C33307)","v":"37087,49999"},37087,49999,"FORMAAL","1004195"]
[{"$f":"CONCATENATE(B33322,\",\",C33322)","v":"37087,60004"},37087,60004,"FORMAAL","37087,60004,FORM"]
[{"$f":"CONCATENATE(B33367,\",\",C33367)","v":"37088,49999"},37088,49999,"FORMAAL","1004060"]
[{"$f":"CONCATENATE(B33398,\",\",C33398)","v":"37089,20000"},37089,20000,"FORMAAL","1003854"]
[{"$f":"CONCATENATE(B33431,\",\",C33431)","v":"37089,50003"},37089,50003,"FORMAAL","1003884"]
[{"$f":"CONCATENATE(B33445,\",\",C33445)","v":"37089,60007"},37089,60007,"FORMAAL","37089,60007,FORM"]
[{"$f":"CONCATENATE(B33490,\",\",C33490)","v":"37090,50002"},37090,50002,"FORMAAL","1004378"]
[{"$f":"CONCATENATE(B33505,\",\",C33505)","v":"37090,60007"},37090,60007,"FORMAAL","37090,60007,FORM"]
[{"$f":"CONCATENATE(B33536,\",\",C33536)","v":"37091,30008"},37091,30008,"FORMAAL","1003915"]
[{"$f":"CONCATENATE(B33581,\",\",C33581)","v":"37092,20003"},37092,20003,"FORMAAL","1004262"]
[{"$f":"CONCATENATE(B33602,\",\",C33602)","v":"37092,40004"},37092,40004,"FORMAAL","1004281"]
[{"$f":"CONCATENATE(B33628,\",\",C33628)","v":"37093,10000"},37093,10000,"FORMAAL","1003710"]
[{"$f":"CONCATENATE(B33673,\",\",C33673)","v":"37093,50005"},37093,50005,"FORMAAL","37093,50005,FORM"]
[{"$f":"CONCATENATE(B33704,\",\",C33704)","v":"37094,20006"},37094,20006,"FORMAAL","1003814"]
[{"$f":"CONCATENATE(B33719,\",\",C33719)","v":"37094,40001"},37094,40001,"FORMAAL","1003828"]
[{"$f":"CONCATENATE(B33764,\",\",C33764)","v":"37095,20006"},37095,20006,"FORMAAL","1004129"]
[{"$f":"CONCATENATE(B33777,\",\",C33777)","v":"37095,39999"},37095,39999,"FORMAAL","1004141"]
[{"$f":"CONCATENATE(B33811,\",\",C33811)","v":"37096,10003"},37096,10003,"FORMAAL","1004458"]
[{"$f":"CONCATENATE(B33856,\",\",C33856)","v":"37096,50008"},37096,50008,"FORMAAL","1004498"]
[{"$f":"CONCATENATE(B33887,\",\",C33887)","v":"37097,29999"},37097,29999,"FORMAAL","1004517"]
[{"$f":"CONCATENATE(B33902,\",\",C33902)","v":"37097,40004"},37097,40004,"FORMAAL","1004531"]
[{"$f":"CONCATENATE(B33933,\",\",C33933)","v":"37098,10005"},37098,10005,"FORMAAL","37098,10005,FORM"]
[{"$f":"CONCATENATE(B33948,\",\",C33948)","v":"37098,30000"},37098,30000,"FORMAAL","1004563"]
[{"$f":"CONCATENATE(B33994,\",\",C33994)","v":"37099,10006"},37099,10006,"FORMAAL","1004595"]
[{"$f":"CONCATENATE(B34025,\",\",C34025)","v":"37099,40007"},37099,40007,"FORMAAL","1004623"]
[{"$f":"CONCATENATE(B34040,\",\",C34040)","v":"37099,60002"},37099,60002,"FORMAAL","37099,60002,FORM"]
[{"$f":"CONCATENATE(B34071,\",\",C34071)","v":"37100,30003"},37100,30003,"FORMAAL","1004656"]
[{"$f":"CONCATENATE(B34116,\",\",C34116)","v":"37101,10008"},37101,10008,"FORMAAL","1004687"]
[{"$f":"CONCATENATE(B34150,\",\",C34150)","v":"37101,50002"},37101,50002,"FORMAAL","1004718"]
[{"$f":"CONCATENATE(B34163,\",\",C34163)","v":"37101,60005"},37101,60005,"FORMAAL","37101,60005,FORM"]
[{"$f":"CONCATENATE(B34208,\",\",C34208)","v":"37102,50000"},37102,50000,"FORMAAL","1004761"]
[{"$f":"CONCATENATE(B34223,\",\",C34223)","v":"37102,60005"},37102,60005,"FORMAAL","37102,60005,FORM"]
[{"$f":"CONCATENATE(B34254,\",\",C34254)","v":"37103,30006"},37103,30006,"FORMAAL","1004793"]
[{"$f":"CONCATENATE(B34299,\",\",C34299)","v":"37104,20001"},37104,20001,"FORMAAL","1004825"]
[{"$f":"CONCATENATE(B34325,\",\",C34325)","v":"37104,40007"},37104,40007,"FORMAAL","1004848"]
[{"$f":"CONCATENATE(B34346,\",\",C34346)","v":"37104,60008"},37104,60008,"FORMAAL","37104,60008,FORM"]
[{"$f":"CONCATENATE(B34391,\",\",C34391)","v":"37105,50003"},37105,50003,"FORMAAL","1004899"]
[{"$f":"CONCATENATE(B34422,\",\",C34422)","v":"37106,20004"},37106,20004,"FORMAAL","1004918"]
[{"$f":"CONCATENATE(B34437,\",\",C34437)","v":"37106,39999"},37106,39999,"FORMAAL","1004931"]
[{"$f":"CONCATENATE(B34482,\",\",C34482)","v":"37107,20004"},37107,20004,"FORMAAL","1004963"]
[{"$f":"CONCATENATE(B34496,\",\",C34496)","v":"37107,30008"},37107,30008,"FORMAAL","1004975"]
[{"$f":"CONCATENATE(B34529,\",\",C34529)","v":"37108,10001"},37108,10001,"FORMAAL","1004996"]
[{"$f":"CONCATENATE(B34560,\",\",C34560)","v":"37108,40002"},37108,40002,"FORMAAL","1005024"]
[{"$f":"CONCATENATE(B34605,\",\",C34605)","v":"37109,20007"},37109,20007,"FORMAAL","1005055"]
[{"$f":"CONCATENATE(B34620,\",\",C34620)","v":"37109,40002"},37109,40002,"FORMAAL","1005069"]
[{"$f":"CONCATENATE(B34651,\",\",C34651)","v":"37110,10003"},37110,10003,"FORMAAL","1005128"]
[{"$f":"CONCATENATE(B34698,\",\",C34698)","v":"37110,60000"},37110,60000,"FORMAAL","37110,60000,FORM"]
[{"$f":"CONCATENATE(B34728,\",\",C34728)","v":"37111,30000"},37111,30000,"FORMAAL","1005188"]
[{"$f":"CONCATENATE(B34743,\",\",C34743)","v":"37111,40005"},37111,40005,"FORMAAL","37111,40005,FORM"]
[{"$f":"CONCATENATE(B34788,\",\",C34788)","v":"37112,30000"},37112,30000,"FORMAAL","1005233"]
[{"$f":"CONCATENATE(B34819,\",\",C34819)","v":"37112,60001"},37112,60001,"FORMAAL","37112,60001,FORM"]
[{"$f":"CONCATENATE(B34834,\",\",C34834)","v":"37113,10006"},37113,10006,"FORMAAL","1005265"]
[{"$f":"CONCATENATE(B34869,\",\",C34869)","v":"37113,50001"},37113,50001,"FORMAAL","1005297"]
[{"$f":"CONCATENATE(B34911,\",\",C34911)","v":"37114,30003"},37114,30003,"FORMAAL","1005326"]
[{"$f":"CONCATENATE(B34926,\",\",C34926)","v":"37114,40008"},37114,40008,"FORMAAL","1005339"]
[{"$f":"CONCATENATE(B34957,\",\",C34957)","v":"37115,19999"},37115,19999,"FORMAAL","1005358"]
[{"$f":"CONCATENATE(B35002,\",\",C35002)","v":"37115,60004"},37115,60004,"FORMAAL","37115,60004,FORM"]
[{"$f":"CONCATENATE(B35017,\",\",C35017)","v":"37116,19999"},37116,19999,"FORMAAL","1005403"]
[{"$f":"CONCATENATE(B35044,\",\",C35044)","v":"37116,40006"},37116,40006,"FORMAAL","1005427"]
[{"$f":"CONCATENATE(B35094,\",\",C35094)","v":"37117,30006"},37117,30006,"FORMAAL","1005463"]
[{"$f":"CONCATENATE(B35095,\",\",C35095)","v":"37117,30007"},37117,30007,"FORMAAL","1005464"]
[{"$f":"CONCATENATE(B35140,\",\",C35140)","v":"37120,10002"},37120,10002,"FORMAAL","1005718"]
[{"$f":"CONCATENATE(B35155,\",\",C35155)","v":"37120,20007"},37120,20007,"FORMAAL","1005731"]
[{"$f":"CONCATENATE(B35186,\",\",C35186)","v":"37120,50008"},37120,50008,"FORMAAL","1005759"]
[{"$f":"CONCATENATE(B35215,\",\",C35215)","v":"37121,20007"},37121,20007,"FORMAAL","1005686"]
[{"$f":"CONCATENATE(B35247,\",\",C35247)","v":"37121,59999"},37121,59999,"FORMAAL","1005715"]
[{"$f":"CONCATENATE(B35278,\",\",C35278)","v":"37122,30000"},37122,30000,"FORMAAL","1005869"]
[{"$f":"CONCATENATE(B35323,\",\",C35323)","v":"37123,10005"},37123,10005,"FORMAAL","37123,10005,FORM"]
[{"$f":"CONCATENATE(B35354,\",\",C35354)","v":"37123,40006"},37123,40006,"FORMAAL","1005928"]
[{"$f":"CONCATENATE(B35369,\",\",C35369)","v":"37123,60001"},37123,60001,"FORMAAL","37123,60001,FORM"]
[{"$f":"CONCATENATE(B35417,\",\",C35417)","v":"37124,49999"},37124,49999,"FORMAAL","1005976"]
[{"$f":"CONCATENATE(B35446,\",\",C35446)","v":"37125,10008"},37125,10008,"FORMAAL","1005588"]
[{"$f":"CONCATENATE(B35461,\",\",C35461)","v":"37125,30003"},37125,30003,"FORMAAL","1005602"]
[{"$f":"CONCATENATE(B35506,\",\",C35506)","v":"37126,10008"},37126,10008,"FORMAAL","1005768"]
[{"$f":"CONCATENATE(B35537,\",\",C35537)","v":"37126,49999"},37126,49999,"FORMAAL","1005796"]
[{"$f":"CONCATENATE(B35552,\",\",C35552)","v":"37126,60004"},37126,60004,"FORMAAL","37126,60004,FORM"]
[{"$f":"CONCATENATE(B35592,\",\",C35592)","v":"37127,40004"},37127,40004,"FORMAAL","1006062"]
[{"$f":"CONCATENATE(B35629,\",\",C35629)","v":"37128,20001"},37128,20001,"FORMAAL","1006176"]
[{"$f":"CONCATENATE(B35644,\",\",C35644)","v":"37128,30006"},37128,30006,"FORMAAL","1006189"]
[{"$f":"CONCATENATE(B35675,\",\",C35675)","v":"37128,60007"},37128,60007,"FORMAAL","37128,60007,FORM"]
[{"$f":"CONCATENATE(B35720,\",\",C35720)","v":"37129,50002"},37129,50002,"FORMAAL","1006024"]
[{"$f":"CONCATENATE(B35751,\",\",C35751)","v":"37130,20003"},37130,20003,"FORMAAL","1006088"]
[{"$f":"CONCATENATE(B35763,\",\",C35763)","v":"37130,30005"},37130,30005,"FORMAAL","37130,30005,FORM"]
[{"$f":"CONCATENATE(B35812,\",\",C35812)","v":"37131,20004"},37131,20004,"FORMAAL","1005819"]
[{"$f":"CONCATENATE(B35843,\",\",C35843)","v":"37131,50005"},37131,50005,"FORMAAL","37131,50005,FORM"]
[{"$f":"CONCATENATE(B35858,\",\",C35858)","v":"37132,10000"},37132,10000,"FORMAAL","1006121"]
[{"$f":"CONCATENATE(B35903,\",\",C35903)","v":"37132,50005"},37132,50005,"FORMAAL","37132,50005,FORM"]
[{"$f":"CONCATENATE(B35938,\",\",C35938)","v":"37133,30000"},37133,30000,"FORMAAL","1005644"]
[{"$f":"CONCATENATE(B35950,\",\",C35950)","v":"37133,40002"},37133,40002,"FORMAAL","1005655"]
[{"$f":"CONCATENATE(B35981,\",\",C35981)","v":"37134,51001"},37134,51001,"FORMAAL","1016395"]
[{"$f":"CONCATENATE(B36026,\",\",C36026)","v":"37136,50003"},37136,50003,"FORMAAL","1006764"]
[{"$f":"CONCATENATE(B36041,\",\",C36041)","v":"37136,60008"},37136,60008,"FORMAAL","37136,60008,FORM"]
[{"$f":"CONCATENATE(B36072,\",\",C36072)","v":"37137,39999"},37137,39999,"FORMAAL","1006886"]
[{"$f":"CONCATENATE(B36109,\",\",C36109)","v":"37138,10006"},37138,10006,"FORMAAL","1006775"]
[{"$f":"CONCATENATE(B36149,\",\",C36149)","v":"37138,50006"},37138,50006,"FORMAAL","1006811"]
[{"$f":"CONCATENATE(B36164,\",\",C36164)","v":"37139,10001"},37139,10001,"FORMAAL","1006411"]
[{"$f":"CONCATENATE(B36209,\",\",C36209)","v":"37139,50006"},37139,50006,"FORMAAL","1006451"]
[{"$f":"CONCATENATE(B36240,\",\",C36240)","v":"37140,20007"},37140,20007,"FORMAAL","1006965"]
[{"$f":"CONCATENATE(B36255,\",\",C36255)","v":"37140,40002"},37140,40002,"FORMAAL","1006979"]
[{"$f":"CONCATENATE(B36280,\",\",C36280)","v":"37140,60007"},37140,60007,"FORMAAL","37140,60007,FORM"]
[{"$f":"CONCATENATE(B36302,\",\",C36302)","v":"37141,29999"},37141,29999,"FORMAAL","1006607"]
[{"$f":"CONCATENATE(B36347,\",\",C36347)","v":"37142,10004"},37142,10004,"FORMAAL","1006369"]
[{"$f":"CONCATENATE(B36378,\",\",C36378)","v":"37142,40005"},37142,40005,"FORMAAL","37142,40005,FORM"]
[{"$f":"CONCATENATE(B36393,\",\",C36393)","v":"37142,60000"},37142,60000,"FORMAAL","37142,60000,FORM"]
[{"$f":"CONCATENATE(B36438,\",\",C36438)","v":"37143,40005"},37143,40005,"FORMAAL","37143,40005,FORM"]
[{"$f":"CONCATENATE(B36455,\",\",C36455)","v":"37143,60002"},37143,60002,"FORMAAL","37143,60002,FORM"]
[{"$f":"CONCATENATE(B36485,\",\",C36485)","v":"37144,30002"},37144,30002,"FORMAAL","1006655"]
[{"$f":"CONCATENATE(B36530,\",\",C36530)","v":"37145,10007"},37145,10007,"FORMAAL","1006686"]
[{"$f":"CONCATENATE(B36561,\",\",C36561)","v":"37145,40008"},37145,40008,"FORMAAL","1006714"]
[{"$f":"CONCATENATE(B36576,\",\",C36576)","v":"37145,60003"},37145,60003,"FORMAAL","37145,60003,FORM"]
[{"$f":"CONCATENATE(B36607,\",\",C36607)","v":"37146,30004"},37146,30004,"FORMAAL","1007107"]
[{"$f":"CONCATENATE(B36657,\",\",C36657)","v":"37147,20004"},37147,20004,"FORMAAL","1006918"]
[{"$f":"CONCATENATE(B36668,\",\",C36668)","v":"37147,30005"},37147,30005,"FORMAAL","37147,30005,FORM"]
[{"$f":"CONCATENATE(B36699,\",\",C36699)","v":"37147,60006"},37147,60006,"FORMAAL","37147,60006,FORM"]
[{"$f":"CONCATENATE(B36744,\",\",C36744)","v":"37148,50001"},37148,50001,"FORMAAL","1006582"]
[{"$f":"CONCATENATE(B36775,\",\",C36775)","v":"37149,20002"},37149,20002,"FORMAAL","1006826"]
[{"$f":"CONCATENATE(B36790,\",\",C36790)","v":"37149,30007"},37149,30007,"FORMAAL","1006839"]
[{"$f":"CONCATENATE(B36828,\",\",C36828)","v":"37150,10005"},37150,10005,"FORMAAL","37150,10005,FORM"]
[{"$f":"CONCATENATE(B36867,\",\",C36867)","v":"37150,50004"},37150,50004,"FORMAAL","1006360"]
[{"$f":"CONCATENATE(B36882,\",\",C36882)","v":"37150,69999"},37150,69999,"FORMAAL","37150,69999,FORM"]
[{"$f":"CONCATENATE(B36927,\",\",C36927)","v":"37151,50004"},37151,50004,"FORMAAL","1006540"]
[{"$f":"CONCATENATE(B36958,\",\",C36958)","v":"37152,20005"},37152,20005,"FORMAAL","37152,20005,FORM"]
[{"$f":"CONCATENATE(B36973,\",\",C36973)","v":"37152,40000"},37152,40000,"FORMAAL","1007022"]
[{"$f":"CONCATENATE(B37003,\",\",C37003)","v":"37153,10000"},37153,10000,"FORMAAL","1007040"]
[{"$f":"CONCATENATE(B37050,\",\",C37050)","v":"37153,50007"},37153,50007,"FORMAAL","1007082"]
[{"$f":"CONCATENATE(B37065,\",\",C37065)","v":"37155,21201"},37155,21201,"FORMAAL","37155,21201,FORM"]
[{"$f":"CONCATENATE(B37096,\",\",C37096)","v":"37157,27777"},37157,27777,"FORMAAL","37157,27777,FORM"]
[{"$f":"CONCATENATE(B37141,\",\",C37141)","v":"37161,21302"},37161,21302,"FORMAAL","1034554"]
[{"$f":"CONCATENATE(B37156,\",\",C37156)","v":"37162,21304"},37162,21304,"FORMAAL","1034562"]
[{"$f":"CONCATENATE(B37205,\",\",C37205)","v":"37181,40002"},37181,40002,"FORMAAL","1007335"]
[{"$f":"CONCATENATE(B37233,\",\",C37233)","v":"37183,10000"},37183,10000,"FORMAAL","1007356"]
[{"$f":"CONCATENATE(B37264,\",\",C37264)","v":"37183,40001"},37183,40001,"FORMAAL","1007384"]
[{"$f":"CONCATENATE(B37279,\",\",C37279)","v":"37183,50006"},37183,50006,"FORMAAL","1007397"]
[{"$f":"CONCATENATE(B37324,\",\",C37324)","v":"37184,40001"},37184,40001,"FORMAAL","1007439"]
[{"$f":"CONCATENATE(B37355,\",\",C37355)","v":"37222,10002"},37222,10002,"FORMAAL","1007658"]
[{"$f":"CONCATENATE(B37376,\",\",C37376)","v":"37222,30003"},37222,30003,"FORMAAL","1007677"]
[{"$f":"CONCATENATE(B37402,\",\",C37402)","v":"37222,59999"},37222,59999,"FORMAAL","1007700"]
[{"$f":"CONCATENATE(B37447,\",\",C37447)","v":"37224,40004"},37224,40004,"FORMAAL","1007737"]
[{"$f":"CONCATENATE(B37462,\",\",C37462)","v":"37224,59999"},37224,59999,"FORMAAL","1007750"]
[{"$f":"CONCATENATE(B37493,\",\",C37493)","v":"37225,30000"},37225,30000,"FORMAAL","1007774"]
[{"$f":"CONCATENATE(B37508,\",\",C37508)","v":"37225,40005"},37225,40005,"FORMAAL","37225,40005,FORM"]
[{"$f":"CONCATENATE(B37547,\",\",C37547)","v":"37226,27777"},37226,27777,"FORMAAL","37226,27777,FORM"]
[{"$f":"CONCATENATE(B37585,\",\",C37585)","v":"37229,20005"},37229,20005,"FORMAAL","37229,20005,FORM"]
[{"$f":"CONCATENATE(B37600,\",\",C37600)","v":"37229,40000"},37229,40000,"FORMAAL","1007848"]
[{"$f":"CONCATENATE(B37631,\",\",C37631)","v":"37230,10001"},37230,10001,"FORMAAL","1007879"]
[{"$f":"CONCATENATE(B37676,\",\",C37676)","v":"37230,50006"},37230,50006,"FORMAAL","1007919"]
[{"$f":"CONCATENATE(B37691,\",\",C37691)","v":"37231,10001"},37231,10001,"FORMAAL","1007929"]
[{"$f":"CONCATENATE(B37722,\",\",C37722)","v":"37231,40002"},37231,40002,"FORMAAL","1007957"]
[{"$f":"CONCATENATE(B37768,\",\",C37768)","v":"37233,20008"},37233,20008,"FORMAAL","1007999"]
[{"$f":"CONCATENATE(B37799,\",\",C37799)","v":"37233,59999"},37233,59999,"FORMAAL","1008027"]
[{"$f":"CONCATENATE(B37814,\",\",C37814)","v":"37234,93511"},37234,93511,"FORMAAL","37234,93511,FORM"]
[{"$f":"CONCATENATE(B37859,\",\",C37859)","v":"37235,50000"},37235,50000,"FORMAAL","1008074"]
[{"$f":"CONCATENATE(B37890,\",\",C37890)","v":"37236,20001"},37236,20001,"FORMAAL","1008098"]
[{"$f":"CONCATENATE(B37924,\",\",C37924)","v":"37236,50005"},37236,50005,"FORMAAL","37236,50005,FORM"]
[{"$f":"CONCATENATE(B37951,\",\",C37951)","v":"37237,20002"},37237,20002,"FORMAAL","1008154"]
[{"$f":"CONCATENATE(B37982,\",\",C37982)","v":"37237,50003"},37237,50003,"FORMAAL","1008182"]
[{"$f":"CONCATENATE(B37997,\",\",C37997)","v":"37237,60008"},37237,60008,"FORMAAL","37237,60008,FORM"]
[{"$f":"CONCATENATE(B38028,\",\",C38028)","v":"37238,29103"},37238,29103,"FORMAAL","1008142"]
[{"$f":"CONCATENATE(B38073,\",\",C38073)","v":"37239,30005"},37239,30005,"FORMAAL","37239,30005,FORM"]
[{"$f":"CONCATENATE(B38095,\",\",C38095)","v":"37239,50007"},37239,50007,"FORMAAL","1008235"]
[{"$f":"CONCATENATE(B38120,\",\",C38120)","v":"37241,20002"},37241,20002,"FORMAAL","1008259"]
[{"$f":"CONCATENATE(B38165,\",\",C38165)","v":"37241,60007"},37241,60007,"FORMAAL","37241,60007,FORM"]
[{"$f":"CONCATENATE(B38180,\",\",C38180)","v":"37246,21701"},37246,21701,"FORMAAL","1034589"]
[{"$f":"CONCATENATE(B38211,\",\",C38211)","v":"37247,68101"},37247,68101,"FORMAAL","1008435"]
[{"$f":"CONCATENATE(B38256,\",\",C38256)","v":"37256,30001"},37256,30001,"FORMAAL","1008689"]
[{"$f":"CONCATENATE(B38270,\",\",C38270)","v":"37256,40005"},37256,40005,"FORMAAL","37256,40005,FORM"]
[{"$f":"CONCATENATE(B38303,\",\",C38303)","v":"37257,10008"},37257,10008,"FORMAAL","1008503"]
[{"$f":"CONCATENATE(B38348,\",\",C38348)","v":"37257,60003"},37257,60003,"FORMAAL","37257,60003,FORM"]
[{"$f":"CONCATENATE(B38379,\",\",C38379)","v":"37258,30004"},37258,30004,"FORMAAL","1008827"]
[{"$f":"CONCATENATE(B38394,\",\",C38394)","v":"37258,49999"},37258,49999,"FORMAAL","1008840"]
[{"$f":"CONCATENATE(B38425,\",\",C38425)","v":"37259,20000"},37259,20000,"FORMAAL","1008724"]
[{"$f":"CONCATENATE(B38472,\",\",C38472)","v":"37259,60007"},37259,60007,"FORMAAL","37259,60007,FORM"]
[{"$f":"CONCATENATE(B38486,\",\",C38486)","v":"37260,20001"},37260,20001,"FORMAAL","1009130"]
[{"$f":"CONCATENATE(B38517,\",\",C38517)","v":"37260,50002"},37260,50002,"FORMAAL","1009158"]
[{"$f":"CONCATENATE(B38562,\",\",C38562)","v":"37261,30007"},37261,30007,"FORMAAL","1009099"]
[{"$f":"CONCATENATE(B38577,\",\",C38577)","v":"37261,50002"},37261,50002,"FORMAAL","1009113"]
[{"$f":"CONCATENATE(B38608,\",\",C38608)","v":"37262,20003"},37262,20003,"FORMAAL","1008637"]
[{"$f":"CONCATENATE(B38643,\",\",C38643)","v":"37262,50008"},37262,50008,"FORMAAL","1008668"]
[{"$f":"CONCATENATE(B38655,\",\",C38655)","v":"37263,10000"},37263,10000,"FORMAAL","1008895"]
[{"$f":"CONCATENATE(B38700,\",\",C38700)","v":"37263,50005"},37263,50005,"FORMAAL","37263,50005,FORM"]
[{"$f":"CONCATENATE(B38715,\",\",C38715)","v":"37264,10000"},37264,10000,"FORMAAL","1008985"]
[{"$f":"CONCATENATE(B38746,\",\",C38746)","v":"37264,40001"},37264,40001,"FORMAAL","1009013"]
[{"$f":"CONCATENATE(B38791,\",\",C38791)","v":"37265,20006"},37265,20006,"FORMAAL","1008864"]
[{"$f":"CONCATENATE(B38814,\",\",C38814)","v":"37265,49999"},37265,49999,"FORMAAL","1008885"]
[{"$f":"CONCATENATE(B38838,\",\",C38838)","v":"37266,10003"},37266,10003,"FORMAAL","1009168"]
[{"$f":"CONCATENATE(B38883,\",\",C38883)","v":"37266,50008"},37266,50008,"FORMAAL","1009208"]
[{"$f":"CONCATENATE(B38914,\",\",C38914)","v":"37267,29999"},37267,29999,"FORMAAL","1008597"]
[{"$f":"CONCATENATE(B38929,\",\",C38929)","v":"37267,40004"},37267,40004,"FORMAAL","1008611"]
[{"$f":"CONCATENATE(B38974,\",\",C38974)","v":"37268,29999"},37268,29999,"FORMAAL","1008777"]
[{"$f":"CONCATENATE(B38989,\",\",C38989)","v":"37268,40004"},37268,40004,"FORMAAL","1008791"]
[{"$f":"CONCATENATE(B39021,\",\",C39021)","v":"37270,10001"},37270,10001,"FORMAAL","1008941"]
[{"$f":"CONCATENATE(B39052,\",\",C39052)","v":"37270,40002"},37270,40002,"FORMAAL","1008969"]
[{"$f":"CONCATENATE(B39097,\",\",C39097)","v":"37271,20007"},37271,20007,"FORMAAL","1009225"]
[{"$f":"CONCATENATE(B39112,\",\",C39112)","v":"37271,40002"},37271,40002,"FORMAAL","1009239"]
[{"$f":"CONCATENATE(B39143,\",\",C39143)","v":"37272,21202"},37272,21202,"FORMAAL","1034611"]
[{"$f":"CONCATENATE(B39191,\",\",C39191)","v":"37282,21305"},37282,21305,"FORMAAL","1034628"]
[{"$f":"CONCATENATE(B39204,\",\",C39204)","v":"37283,21202"},37283,21202,"FORMAAL","1034637"]
[{"$f":"CONCATENATE(B39235,\",\",C39235)","v":"37284,23201"},37284,23201,"FORMAAL","37284,23201,FORM"]
[{"$f":"CONCATENATE(B39280,\",\",C39280)","v":"37296,81000"},37296,81000,"FORMAAL","1009413"]
[{"$f":"CONCATENATE(B39311,\",\",C39311)","v":"37296,91699"},37296,91699,"FORMAAL","1009413"]
[{"$f":"CONCATENATE(B39326,\",\",C39326)","v":"37296,92712"},37296,92712,"FORMAAL","1009413"]
[{"$f":"CONCATENATE(B39362,\",\",C39362)","v":"37302,21200"},37302,21200,"FORMAAL","1009694"]
[{"$f":"CONCATENATE(B39403,\",\",C39403)","v":"37307,26102"},37307,26102,"FORMAAL","1034680"]
[{"$f":"CONCATENATE(B39418,\",\",C39418)","v":"37311,21601"},37311,21601,"FORMAAL","37311,21601,FORM"]
[{"$f":"CONCATENATE(B39449,\",\",C39449)","v":"37315,21101"},37315,21101,"FORMAAL","1034705"]
[{"$f":"CONCATENATE(B39494,\",\",C39494)","v":"37318,21302"},37318,21302,"FORMAAL","1034729"]
[{"$f":"CONCATENATE(B39509,\",\",C39509)","v":"37319,21201"},37319,21201,"FORMAAL","37319,21201,FORM"]
[{"$f":"CONCATENATE(B39537,\",\",C39537)","v":"37324,57013"},37324,57013,"FORMAAL","37324,57013,FORM"]
[{"$f":"CONCATENATE(B39586,\",\",C39586)","v":"37324,57090"},37324,57090,"FORMAAL","37324,57090,FORMAAL"]
[{"$f":"CONCATENATE(B39601,\",\",C39601)","v":"37324,57108"},37324,57108,"FORMAAL","37324,57108,FORMAAL"]
[{"$f":"CONCATENATE(B39632,\",\",C39632)","v":"37329,23201"},37329,23201,"FORMAAL","1009845"]
[{"$f":"CONCATENATE(B39677,\",\",C39677)","v":"37335,21801"},37335,21801,"FORMAAL","1034752"]
[{"$f":"CONCATENATE(B39681,\",\",C39681)","v":"37335,29103"},37335,29103,"FORMAAL","37335,29103,FORM"]
[{"$f":"CONCATENATE(B39724,\",\",C39724)","v":"37341,26102"},37341,26102,"FORMAAL","1010973"]
[{"$f":"CONCATENATE(B39769,\",\",C39769)","v":"37357,21201"},37357,21201,"FORMAAL","1010006"]
[{"$f":"CONCATENATE(B39800,\",\",C39800)","v":"37366,26105"},37366,26105,"FORMAAL","1010059"]
[{"$f":"CONCATENATE(B39815,\",\",C39815)","v":"37375,21003"},37375,21003,"FORMAAL","1010156"]
[{"$f":"CONCATENATE(B39860,\",\",C39860)","v":"37383,82701"},37383,82701,"FORMAAL","1010531"]
[{"$f":"CONCATENATE(B39883,\",\",C39883)","v":"37388,21302"},37388,21302,"FORMAAL","1034788"]
[{"$f":"CONCATENATE(B39907,\",\",C39907)","v":"37389,21401"},37389,21401,"FORMAAL","37389,21401,FORM"]
[{"$f":"CONCATENATE(B39938,\",\",C39938)","v":"37390,96501"},37390,96501,"FORMAAL","37390,96501,FORM"]
[{"$f":"CONCATENATE(B39953,\",\",C39953)","v":"37391,26101"},37391,26101,"FORMAAL","37391,26101,FORM"]
[{"$f":"CONCATENATE(B39998,\",\",C39998)","v":"37394,21101"},37394,21101,"FORMAAL","1034845"]
[{"$f":"CONCATENATE(B40029,\",\",C40029)","v":"37396,21499"},37396,21499,"FORMAAL","1010603"]
[{"$f":"CONCATENATE(B40054,\",\",C40054)","v":"37396,91101"},37396,91101,"FORMAAL","1010603"]
[{"$f":"CONCATENATE(B40076,\",\",C40076)","v":"37398,21201"},37398,21201,"FORMAAL","37398,21201,FORM"]
[{"$f":"CONCATENATE(B40121,\",\",C40121)","v":"37400,91101"},37400,91101,"FORMAAL","37400,91101,FORM"]
[{"$f":"CONCATENATE(B40136,\",\",C40136)","v":"37402,23201"},37402,23201,"FORMAAL","37402,23201,FORM"]
[{"$f":"CONCATENATE(B40167,\",\",C40167)","v":"37406,21305"},37406,21305,"FORMAAL","1034924"]
[{"$f":"CONCATENATE(B40212,\",\",C40212)","v":"37412,29999"},37412,29999,"FORMAAL","1010693"]
[{"$f":"CONCATENATE(B40225,\",\",C40225)","v":"37412,90000"},37412,90000,"FORMAAL","1010693"]
[{"$f":"CONCATENATE(B40259,\",\",C40259)","v":"37422,21201"},37422,21201,"FORMAAL","37422,21201,FORM"]
[{"$f":"CONCATENATE(B40304,\",\",C40304)","v":"37424,21303"},37424,21303,"FORMAAL","1034970"]
[{"$f":"CONCATENATE(B40335,\",\",C40335)","v":"37425,91101"},37425,91101,"FORMAAL","37425,91101,FORM"]
[{"$f":"CONCATENATE(B40350,\",\",C40350)","v":"37429,21202"},37429,21202,"FORMAAL","1034997"]
[{"$f":"CONCATENATE(B40395,\",\",C40395)","v":"37441,54151"},37441,54151,"FORMAAL","1010960"]
[{"$f":"CONCATENATE(B40431,\",\",C40431)","v":"37448,21305"},37448,21305,"FORMAAL","1035027"]
[{"$f":"CONCATENATE(B40442,\",\",C40442)","v":"37450,1"},37450,1,"FORMAAL","1011039"]
[{"$f":"CONCATENATE(B40473,\",\",C40473)","v":"37452,21302"},37452,21302,"FORMAAL","1035053"]
[{"$f":"CONCATENATE(B40518,\",\",C40518)","v":"37454,21701"},37454,21701,"FORMAAL","1035070"]
[{"$f":"CONCATENATE(B40533,\",\",C40533)","v":"37461,21499"},37461,21499,"FORMAAL","1011100"]
[{"$f":"CONCATENATE(B40564,\",\",C40564)","v":"37464,1"},37464,1,"FORMAAL","1011135"]
[{"$f":"CONCATENATE(B40602,\",\",C40602)","v":"37472,21101"},37472,21101,"FORMAAL","1035085"]
[{"$f":"CONCATENATE(B40625,\",\",C40625)","v":"37473,21203"},37473,21203,"FORMAAL","1035102"]
[{"$f":"CONCATENATE(B40656,\",\",C40656)","v":"37474,26102"},37474,26102,"FORMAAL","1035107"]
[{"$f":"CONCATENATE(B40701,\",\",C40701)","v":"37478,77777"},37478,77777,"FORMAAL","1011451"]
[{"$f":"CONCATENATE(B40732,\",\",C40732)","v":"37481,22301"},37481,22301,"FORMAAL","1011461"]
[{"$f":"CONCATENATE(B40747,\",\",C40747)","v":"37481,26900"},37481,26900,"FORMAAL","1011461"]
[{"$f":"CONCATENATE(B40773,\",\",C40773)","v":"37481,95811"},37481,95811,"FORMAAL","1011461"]
[{"$f":"CONCATENATE(B40824,\",\",C40824)","v":"37495,91777"},37495,91777,"FORMAAL","1011535"]
[{"$f":"CONCATENATE(B40839,\",\",C40839)","v":"37495,92999"},37495,92999,"FORMAAL","1011535"]
[{"$f":"CONCATENATE(B40884,\",\",C40884)","v":"37503,21301"},37503,21301,"FORMAAL","37503,21301,FORM"]
[{"$f":"CONCATENATE(B40915,\",\",C40915)","v":"37507,25999"},37507,25999,"FORMAAL","1011681"]
[{"$f":"CONCATENATE(B40930,\",\",C40930)","v":"37507,29102"},37507,29102,"FORMAAL","1011696"]
[{"$f":"CONCATENATE(B40948,\",\",C40948)","v":"37508,21305"},37508,21305,"FORMAAL","1035140"]
[{"$f":"CONCATENATE(B41007,\",\",C41007)","v":"37511,29103"},37511,29103,"FORMAAL","37511,29103,FORM"]
[{"$f":"CONCATENATE(B41022,\",\",C41022)","v":"37512,21701"},37512,21701,"FORMAAL","1035183"]
[{"$f":"CONCATENATE(B41053,\",\",C41053)","v":"37517,21201"},37517,21201,"FORMAAL","37517,21201,FORM"]
[{"$f":"CONCATENATE(B41068,\",\",C41068)","v":"37517,29103"},37517,29103,"FORMAAL","37517,29103,FORM"]
[{"$f":"CONCATENATE(B41099,\",\",C41099)","v":"37519,91101"},37519,91101,"FORMAAL","37519,91101,FORM"]
[{"$f":"CONCATENATE(B41150,\",\",C41150)","v":"37522,67501"},37522,67501,"FORMAAL","1011780"]
[{"$f":"CONCATENATE(B41160,\",\",C41160)","v":"37522,89999"},37522,89999,"FORMAAL","1011780"]
[{"$f":"CONCATENATE(B41191,\",\",C41191)","v":"37537,21701"},37537,21701,"FORMAAL","1035227"]
[{"$f":"CONCATENATE(B41236,\",\",C41236)","v":"37557,26000"},37557,26000,"FORMAAL","1011988"]
[{"$f":"CONCATENATE(B41251,\",\",C41251)","v":"37557,91699"},37557,91699,"FORMAAL","1011988"]
[{"$f":"CONCATENATE(B41282,\",\",C41282)","v":"37567,21302"},37567,21302,"FORMAAL","1035264"]
[{"$f":"CONCATENATE(B41321,\",\",C41321)","v":"37571,21701"},37571,21701,"FORMAAL","1035278"]
[{"$f":"CONCATENATE(B41359,\",\",C41359)","v":"37580,21302"},37580,21302,"FORMAAL","1035300"]
[{"$f":"CONCATENATE(B41374,\",\",C41374)","v":"37582,26101"},37582,26101,"FORMAAL","1012167"]
[{"$f":"CONCATENATE(B41419,\",\",C41419)","v":"37589,63399"},37589,63399,"FORMAAL","1012207"]
[{"$f":"CONCATENATE(B41450,\",\",C41450)","v":"37589,99999"},37589,99999,"FORMAAL","1012207"]
[{"$f":"CONCATENATE(B41465,\",\",C41465)","v":"37593,96999"},37593,96999,"FORMAAL","1012228"]
[{"$f":"CONCATENATE(B41492,\",\",C41492)","v":"37600,82803"},37600,82803,"FORMAAL","1012319"]
[{"$f":"CONCATENATE(B41542,\",\",C41542)","v":"37603,21203"},37603,21203,"FORMAAL","1035324"]
[{"$f":"CONCATENATE(B41557,\",\",C41557)","v":"37603,96501"},37603,96501,"FORMAAL","37603,96501,FORM"]
[{"$f":"CONCATENATE(B41588,\",\",C41588)","v":"37605,21801"},37605,21801,"FORMAAL","1035339"]
[{"$f":"CONCATENATE(B41633,\",\",C41633)","v":"37622,21602"},37622,21602,"FORMAAL","37622,21602,FORM"]
[{"$f":"CONCATENATE(B41648,\",\",C41648)","v":"37622,66102"},37622,66102,"FORMAAL","1012905"]
[{"$f":"CONCATENATE(B41698,\",\",C41698)","v":"37637,11013"},37637,11013,"FORMAAL","1013021"]
[{"$f":"CONCATENATE(B41725,\",\",C41725)","v":"37645,21304"},37645,21304,"FORMAAL","1035362"]
[{"$f":"CONCATENATE(B41756,\",\",C41756)","v":"37647,27777"},37647,27777,"FORMAAL","37647,27777,FORM"]
[{"$f":"CONCATENATE(B41771,\",\",C41771)","v":"37648,21701"},37648,21701,"FORMAAL","1035394"]
[{"$f":"CONCATENATE(B41816,\",\",C41816)","v":"37652,26101"},37652,26101,"FORMAAL","1013108"]
[{"$f":"CONCATENATE(B41847,\",\",C41847)","v":"37652,96501"},37652,96501,"FORMAAL","1013108"]
[{"$f":"CONCATENATE(B41869,\",\",C41869)","v":"37655,26102"},37655,26102,"FORMAAL","1035412"]
[{"$f":"CONCATENATE(B41908,\",\",C41908)","v":"37658,21203"},37658,21203,"FORMAAL","1035436"]
[{"$f":"CONCATENATE(B41939,\",\",C41939)","v":"37660,21301"},37660,21301,"FORMAAL","37660,21301,FORM"]
[{"$f":"CONCATENATE(B41954,\",\",C41954)","v":"37661,77777"},37661,77777,"FORMAAL","1016600"]
[{"$f":"CONCATENATE(B41985,\",\",C41985)","v":"37675,21899"},37675,21899,"FORMAAL","1013247"]
[{"$f":"CONCATENATE(B42030,\",\",C42030)","v":"37675,95821"},37675,95821,"FORMAAL","1013247"]
[{"$f":"CONCATENATE(B42040,\",\",C42040)","v":"37681,21202"},37681,21202,"FORMAAL","1035482"]
[{"$f":"CONCATENATE(B42077,\",\",C42077)","v":"37683,21601"},37683,21601,"FORMAAL","37683,21601,FORM"]
[{"$f":"CONCATENATE(B42122,\",\",C42122)","v":"37685,26000"},37685,26000,"FORMAAL","1013297"]
[{"$f":"CONCATENATE(B42153,\",\",C42153)","v":"37685,90000"},37685,90000,"FORMAAL","1013297"]
[{"$f":"CONCATENATE(B42168,\",\",C42168)","v":"37687,23102"},37687,23102,"FORMAAL","1014007"]
[{"$f":"CONCATENATE(B42213,\",\",C42213)","v":"37690,23301"},37690,23301,"FORMAAL","1013335"]
[{"$f":"CONCATENATE(B42215,\",\",C42215)","v":"37690,26000"},37690,26000,"FORMAAL","1013335"]
[{"$f":"CONCATENATE(B42260,\",\",C42260)","v":"37691,23399"},37691,23399,"FORMAAL","1013340"]
[{"$f":"CONCATENATE(B42275,\",\",C42275)","v":"37691,77777"},37691,77777,"FORMAAL","1013340"]
[{"$f":"CONCATENATE(B42306,\",\",C42306)","v":"37693,21302"},37693,21302,"FORMAAL","1035539"]
[{"$f":"CONCATENATE(B42351,\",\",C42351)","v":"37694,91699"},37694,91699,"FORMAAL","1013355"]
[{"$f":"CONCATENATE(B42382,\",\",C42382)","v":"37697,21801"},37697,21801,"FORMAAL","1035562"]
[{"$f":"CONCATENATE(B42417,\",\",C42417)","v":"37699,21304"},37699,21304,"FORMAAL","1035584"]
[{"$f":"CONCATENATE(B42443,\",\",C42443)","v":"37700,23201"},37700,23201,"FORMAAL","37700,23201,FORM"]
[{"$f":"CONCATENATE(B42474,\",\",C42474)","v":"37702,21202"},37702,21202,"FORMAAL","1035614"]
[{"$f":"CONCATENATE(B42489,\",\",C42489)","v":"37702,91101"},37702,91101,"FORMAAL","37702,91101,FORM"]
[{"$f":"CONCATENATE(B42534,\",\",C42534)","v":"37708,21202"},37708,21202,"FORMAAL","1035636"]
[{"$f":"CONCATENATE(B42565,\",\",C42565)","v":"37711,26102"},37711,26102,"FORMAAL","1035647"]
[{"$f":"CONCATENATE(B42588,\",\",C42588)","v":"37718,21301"},37718,21301,"FORMAAL","1013502"]
[{"$f":"CONCATENATE(B42612,\",\",C42612)","v":"37718,91699"},37718,91699,"FORMAAL","1013502"]
[{"$f":"CONCATENATE(B42657,\",\",C42657)","v":"37722,24121"},37722,24121,"FORMAAL","1015613"]
[{"$f":"CONCATENATE(B42672,\",\",C42672)","v":"37722,26102"},37722,26102,"FORMAAL","1035656"]
[{"$f":"CONCATENATE(B42703,\",\",C42703)","v":"37723,21303"},37723,21303,"FORMAAL","1035667"]
[{"$f":"CONCATENATE(B42748,\",\",C42748)","v":"37725,21801"},37725,21801,"FORMAAL","1035694"]
[{"$f":"CONCATENATE(B42763,\",\",C42763)","v":"37726,21303"},37726,21303,"FORMAAL","1035702"]
[{"$f":"CONCATENATE(B42795,\",\",C42795)","v":"37731,95809"},37731,95809,"FORMAAL","37731,95809,FORM"]
[{"$f":"CONCATENATE(B42840,\",\",C42840)","v":"37732,66000"},37732,66000,"FORMAAL","1013593"]
[{"$f":"CONCATENATE(B42871,\",\",C42871)","v":"37741,21203"},37741,21203,"FORMAAL","1035720"]
[{"$f":"CONCATENATE(B42886,\",\",C42886)","v":"37752,1"},37752,1,"FORMAAL","1013716"]
[{"$f":"CONCATENATE(B42931,\",\",C42931)","v":"37758,81301"},37758,81301,"FORMAAL","1013759"]
[{"$f":"CONCATENATE(B42965,\",\",C42965)","v":"37758,92100"},37758,92100,"FORMAAL","1013759"]
[{"$f":"CONCATENATE(B42978,\",\",C42978)","v":"37758,93199"},37758,93199,"FORMAAL","1013759"]
[{"$f":"CONCATENATE(B43009,\",\",C43009)","v":"37763,26102"},37763,26102,"FORMAAL","1035729"]
[{"$f":"CONCATENATE(B43054,\",\",C43054)","v":"37764,95999"},37764,95999,"FORMAAL","1013981"]
[{"$f":"CONCATENATE(B43069,\",\",C43069)","v":"37765,21305"},37765,21305,"FORMAAL","1035739"]
[{"$f":"CONCATENATE(B43100,\",\",C43100)","v":"37767,21101"},37767,21101,"FORMAAL","1035755"]
[{"$f":"CONCATENATE(B43136,\",\",C43136)","v":"37768,82601"},37768,82601,"FORMAAL","1014003"]
[{"$f":"CONCATENATE(B43177,\",\",C43177)","v":"37768,93777"},37768,93777,"FORMAAL","1014003"]
[{"$f":"CONCATENATE(B43192,\",\",C43192)","v":"37772,21077"},37772,21077,"FORMAAL","1014036"]
[{"$f":"CONCATENATE(B43237,\",\",C43237)","v":"37784,21305"},37784,21305,"FORMAAL","1035770"]
[{"$f":"CONCATENATE(B43268,\",\",C43268)","v":"37796,1"},37796,1,"FORMAAL","1014196"]
[{"$f":"CONCATENATE(B43283,\",\",C43283)","v":"37796,26000"},37796,26000,"FORMAAL","1014196"]
[{"$f":"CONCATENATE(B43307,\",\",C43307)","v":"37797,10000"},37797,10000,"FORMAAL","1014202"]
[{"$f":"CONCATENATE(B43360,\",\",C43360)","v":"37797,60003"},37797,60003,"FORMAAL","37797,60003,FORM"]
[{"$f":"CONCATENATE(B43375,\",\",C43375)","v":"37801,51705"},37801,51705,"FORMAAL","1014280"]
[{"$f":"CONCATENATE(B43406,\",\",C43406)","v":"37820,82100"},37820,82100,"FORMAAL","1014398"]
[{"$f":"CONCATENATE(B43421,\",\",C43421)","v":"37822,21201"},37822,21201,"FORMAAL","37822,21201,FORM"]
[{"$f":"CONCATENATE(B43451,\",\",C43451)","v":"37823,26102"},37823,26102,"FORMAAL","1035814"]
[{"$f":"CONCATENATE(B43498,\",\",C43498)","v":"37826,21701"},37826,21701,"FORMAAL","1035844"]
[{"$f":"CONCATENATE(B43513,\",\",C43513)","v":"37827,21304"},37827,21304,"FORMAAL","1035854"]
[{"$f":"CONCATENATE(B43558,\",\",C43558)","v":"37830,26102"},37830,26102,"FORMAAL","1035873"]
[{"$f":"CONCATENATE(B43589,\",\",C43589)","v":"37836,27101"},37836,27101,"FORMAAL","1014510"]
[{"$f":"CONCATENATE(B43604,\",\",C43604)","v":"37836,61499"},37836,61499,"FORMAAL","1014510"]
[{"$f":"CONCATENATE(B43657,\",\",C43657)","v":"37837,27777"},37837,27777,"FORMAAL","37837,27777,FORM"]
[{"$f":"CONCATENATE(B43681,\",\",C43681)","v":"37876,99999"},37876,99999,"FORMAAL","1014774"]
[{"$f":"CONCATENATE(B43696,\",\",C43696)","v":"37891,26209"},37891,26209,"FORMAAL","1014945"]
[{"$f":"CONCATENATE(B43727,\",\",C43727)","v":"37903,21101"},37903,21101,"FORMAAL","1035895"]
[{"$f":"CONCATENATE(B43772,\",\",C43772)","v":"37910,23201"},37910,23201,"FORMAAL","37910,23201,FORM"]
[{"$f":"CONCATENATE(B43803,\",\",C43803)","v":"37912,27777"},37912,27777,"FORMAAL","37912,27777,FORM"]
[{"$f":"CONCATENATE(B43828,\",\",C43828)","v":"37914,29899"},37914,29899,"FORMAAL","1015200"]
[{"$f":"CONCATENATE(B43864,\",\",C43864)","v":"37924,91101"},37924,91101,"FORMAAL","37924,91101,FORM"]
[{"$f":"CONCATENATE(B43895,\",\",C43895)","v":"37927,96501"},37927,96501,"FORMAAL","37927,96501,FORM"]
[{"$f":"CONCATENATE(B43910,\",\",C43910)","v":"37928,27777"},37928,27777,"FORMAAL","37928,27777,FORM"]
[{"$f":"CONCATENATE(B43955,\",\",C43955)","v":"37938,21304"},37938,21304,"FORMAAL","1036008"]
[{"$f":"CONCATENATE(B43986,\",\",C43986)","v":"37940,96508"},37940,96508,"FORMAAL","1015409"]
[{"$f":"CONCATENATE(B43999,\",\",C43999)","v":"37951,21201"},37951,21201,"FORMAAL","37951,21201,FORM"]
[{"$f":"CONCATENATE(B44033,\",\",C44033)","v":"37952,98999"},37952,98999,"FORMAAL","1015538"]
[{"$f":"CONCATENATE(B44078,\",\",C44078)","v":"37960,21202"},37960,21202,"FORMAAL","1036051"]
[{"$f":"CONCATENATE(B44093,\",\",C44093)","v":"37960,91101"},37960,91101,"FORMAAL","37960,91101,FORM"]
[{"$f":"CONCATENATE(B44124,\",\",C44124)","v":"37966,78999"},37966,78999,"FORMAAL","1015726"]
[{"$f":"CONCATENATE(B44169,\",\",C44169)","v":"37974,23201"},37974,23201,"FORMAAL","37974,23201,FORM"]
[{"$f":"CONCATENATE(B44201,\",\",C44201)","v":"37981,21304"},37981,21304,"FORMAAL","1036098"]
[{"$f":"CONCATENATE(B44216,\",\",C44216)","v":"37991,10000"},37991,10000,"FORMAAL","1015867"]
[{"$f":"CONCATENATE(B44261,\",\",C44261)","v":"37995,49999"},37995,49999,"FORMAAL","1015887"]
[{"$f":"CONCATENATE(B44292,\",\",C44292)","v":"38000,21304"},38000,21304,"FORMAAL","1036124"]
[{"$f":"CONCATENATE(B44307,\",\",C44307)","v":"38001,21301"},38001,21301,"FORMAAL","38001,21301,FORM"]
[{"$f":"CONCATENATE(B44352,\",\",C44352)","v":"38002,29899"},38002,29899,"FORMAAL","1015923"]
[{"$f":"CONCATENATE(B44376,\",\",C44376)","v":"38007,21305"},38007,21305,"FORMAAL","1036153"]
[{"$f":"CONCATENATE(B44399,\",\",C44399)","v":"38008,96501"},38008,96501,"FORMAAL","38008,96501,FORM"]
[{"$f":"CONCATENATE(B44430,\",\",C44430)","v":"38018,21701"},38018,21701,"FORMAAL","1036178"]
[{"$f":"CONCATENATE(B44475,\",\",C44475)","v":"38020,29103"},38020,29103,"FORMAAL","38020,29103,FORM"]
[{"$f":"CONCATENATE(B44490,\",\",C44490)","v":"38021,21701"},38021,21701,"FORMAAL","1036209"]
[{"$f":"CONCATENATE(B44521,\",\",C44521)","v":"38026,21202"},38026,21202,"FORMAAL","1036231"]
[{"$f":"CONCATENATE(B44547,\",\",C44547)","v":"38027,21901"},38027,21901,"FORMAAL","1016094"]
[{"$f":"CONCATENATE(B44582,\",\",C44582)","v":"38047,21302"},38047,21302,"FORMAAL","1036241"]
[{"$f":"CONCATENATE(B44613,\",\",C44613)","v":"38050,21302"},38050,21302,"FORMAAL","1036259"]
[{"$f":"CONCATENATE(B44628,\",\",C44628)","v":"38052,21101"},38052,21101,"FORMAAL","1036265"]
[{"$f":"CONCATENATE(B44659,\",\",C44659)","v":"38053,21701"},38053,21701,"FORMAAL","1036281"]
[{"$f":"CONCATENATE(B44704,\",\",C44704)","v":"38058,95777"},38058,95777,"FORMAAL","1016331"]
[{"$f":"CONCATENATE(B44718,\",\",C44718)","v":"38060,78999"},38060,78999,"FORMAAL","1016346"]
[{"$f":"CONCATENATE(B44751,\",\",C44751)","v":"38065,27777"},38065,27777,"FORMAAL","1016378"]
[{"$f":"CONCATENATE(B44796,\",\",C44796)","v":"38070,27777"},38070,27777,"FORMAAL","1016414"]
[{"$f":"CONCATENATE(B44827,\",\",C44827)","v":"38082,21077"},38082,21077,"FORMAAL","38082,21077,FORM"]
[{"$f":"CONCATENATE(B44842,\",\",C44842)","v":"38082,26102"},38082,26102,"FORMAAL","1036300"]
[{"$f":"CONCATENATE(B44887,\",\",C44887)","v":"38085,21305"},38085,21305,"FORMAAL","1036333"]
[{"$f":"CONCATENATE(B44924,\",\",C44924)","v":"38087,27202"},38087,27202,"FORMAAL","1016535"]
[{"$f":"CONCATENATE(B44934,\",\",C44934)","v":"38087,91401"},38087,91401,"FORMAAL","1016545"]
[{"$f":"CONCATENATE(B44979,\",\",C44979)","v":"38102,21301"},38102,21301,"FORMAAL","38102,21301,FORM"]
[{"$f":"CONCATENATE(B45010,\",\",C45010)","v":"38114,61601"},38114,61601,"FORMAAL","1016797"]
[{"$f":"CONCATENATE(B45025,\",\",C45025)","v":"38118,77777"},38118,77777,"FORMAAL","1016818"]
[{"$f":"CONCATENATE(B45056,\",\",C45056)","v":"38124,21201"},38124,21201,"FORMAAL","38124,21201,FORM"]
[{"$f":"CONCATENATE(B45095,\",\",C45095)","v":"38127,29103"},38127,29103,"FORMAAL","1017063"]
[{"$f":"CONCATENATE(B45117,\",\",C45117)","v":"38129,60000"},38129,60000,"FORMAAL","1017074"]
[{"$f":"CONCATENATE(B45148,\",\",C45148)","v":"38136,77777"},38136,77777,"FORMAAL","1019799"]
[{"$f":"CONCATENATE(B45193,\",\",C45193)","v":"38149,21801"},38149,21801,"FORMAAL","1036401"]
[{"$f":"CONCATENATE(B45208,\",\",C45208)","v":"38150,21801"},38150,21801,"FORMAAL","1036414"]
[{"$f":"CONCATENATE(B45239,\",\",C45239)","v":"38157,21305"},38157,21305,"FORMAAL","1036428"]
[{"$f":"CONCATENATE(B45266,\",\",C45266)","v":"38162,26102"},38162,26102,"FORMAAL","1036444"]
[{"$f":"CONCATENATE(B45316,\",\",C45316)","v":"38165,21302"},38165,21302,"FORMAAL","1036470"]
[{"$f":"CONCATENATE(B45331,\",\",C45331)","v":"38169,26101"},38169,26101,"FORMAAL","1017353"]
[{"$f":"CONCATENATE(B45376,\",\",C45376)","v":"38176,21301"},38176,21301,"FORMAAL","1017392"]
[{"$f":"CONCATENATE(B45407,\",\",C45407)","v":"38176,66101"},38176,66101,"FORMAAL","1017392"]
[{"$f":"CONCATENATE(B45422,\",\",C45422)","v":"38176,93999"},38176,93999,"FORMAAL","1017392"]
[{"$f":"CONCATENATE(B45472,\",\",C45472)","v":"38179,21201"},38179,21201,"FORMAAL","38179,21201,FORM"]
[{"$f":"CONCATENATE(B45499,\",\",C45499)","v":"38181,21302"},38181,21302,"FORMAAL","1036524"]
[{"$f":"CONCATENATE(B45514,\",\",C45514)","v":"38182,21202"},38182,21202,"FORMAAL","1036527"]
[{"$f":"CONCATENATE(B45545,\",\",C45545)","v":"38184,21201"},38184,21201,"FORMAAL","38184,21201,FORM"]
[{"$f":"CONCATENATE(B45590,\",\",C45590)","v":"38186,21601"},38186,21601,"FORMAAL","38186,21601,FORM"]
[{"$f":"CONCATENATE(B45605,\",\",C45605)","v":"38187,21301"},38187,21301,"FORMAAL","38187,21301,FORM"]
[{"$f":"CONCATENATE(B45643,\",\",C45643)","v":"38191,21203"},38191,21203,"FORMAAL","1036597"]
[{"$f":"CONCATENATE(B45682,\",\",C45682)","v":"38199,21101"},38199,21101,"FORMAAL","1036615"]
[{"$f":"CONCATENATE(B45713,\",\",C45713)","v":"38201,21801"},38201,21801,"FORMAAL","1036630"]
[{"$f":"CONCATENATE(B45728,\",\",C45728)","v":"38203,21801"},38203,21801,"FORMAAL","1036642"]
[{"$f":"CONCATENATE(B45773,\",\",C45773)","v":"38207,23201"},38207,23201,"FORMAAL","38207,23201,FORM"]
[{"$f":"CONCATENATE(B45774,\",\",C45774)","v":"38207,26102"},38207,26102,"FORMAAL","1036672"]
[{"$f":"CONCATENATE(B45814,\",\",C45814)","v":"38209,91101"},38209,91101,"FORMAAL","38209,91101,FORM"]
[{"$f":"CONCATENATE(B45835,\",\",C45835)","v":"38210,96501"},38210,96501,"FORMAAL","38210,96501,FORM"]
[{"$f":"CONCATENATE(B45866,\",\",C45866)","v":"38217,21304"},38217,21304,"FORMAAL","1036723"]
[{"$f":"CONCATENATE(B45911,\",\",C45911)","v":"38219,21801"},38219,21801,"FORMAAL","1036743"]
[{"$f":"CONCATENATE(B45942,\",\",C45942)","v":"38221,21301"},38221,21301,"FORMAAL","38221,21301,FORM"]
[{"$f":"CONCATENATE(B45957,\",\",C45957)","v":"38223,21201"},38223,21201,"FORMAAL","38223,21201,FORM"]
[{"$f":"CONCATENATE(B45985,\",\",C45985)","v":"38224,21701"},38224,21701,"FORMAAL","1036780"]
[{"$f":"CONCATENATE(B46034,\",\",C46034)","v":"38228,29199"},38228,29199,"FORMAAL","1017684"]
[{"$f":"CONCATENATE(B46049,\",\",C46049)","v":"38228,96501"},38228,96501,"FORMAAL","1017684"]
[{"$f":"CONCATENATE(B46080,\",\",C46080)","v":"38233,61600"},38233,61600,"FORMAAL","1018104"]
[{"$f":"CONCATENATE(B46125,\",\",C46125)","v":"38237,23201"},38237,23201,"FORMAAL","38237,23201,FORM"]
[{"$f":"CONCATENATE(B46140,\",\",C46140)","v":"38239,95777"},38239,95777,"FORMAAL","1017763"]
[{"$f":"CONCATENATE(B46191,\",\",C46191)","v":"38247,21303"},38247,21303,"FORMAAL","1036846"]
[{"$f":"CONCATENATE(B46217,\",\",C46217)","v":"38248,21601"},38248,21601,"FORMAAL","38248,21601,FORM"]
[{"$f":"CONCATENATE(B46232,\",\",C46232)","v":"38249,82801"},38249,82801,"FORMAAL","1017829"]
[{"$f":"CONCATENATE(B46263,\",\",C46263)","v":"38254,95811"},38254,95811,"FORMAAL","1017870"]
[{"$f":"CONCATENATE(B46308,\",\",C46308)","v":"38272,77777"},38272,77777,"FORMAAL","1017987"]
[{"$f":"CONCATENATE(B46339,\",\",C46339)","v":"38275,26102"},38275,26102,"FORMAAL","1036894"]
[{"$f":"CONCATENATE(B46362,\",\",C46362)","v":"38278,91101"},38278,91101,"FORMAAL","38278,91101,FORM"]
[{"$f":"CONCATENATE(B46400,\",\",C46400)","v":"38283,26101"},38283,26101,"FORMAAL","1018060"]
[{"$f":"CONCATENATE(B46431,\",\",C46431)","v":"38289,21201"},38289,21201,"FORMAAL","1018131"]
[{"$f":"CONCATENATE(B46446,\",\",C46446)","v":"38289,98999"},38289,98999,"FORMAAL","1018145"]
[{"$f":"CONCATENATE(B46477,\",\",C46477)","v":"38311,21301"},38311,21301,"FORMAAL","38311,21301,FORM"]
[{"$f":"CONCATENATE(B46522,\",\",C46522)","v":"38312,95777"},38312,95777,"FORMAAL","1018274"]
[{"$f":"CONCATENATE(B46533,\",\",C46533)","v":"38313,21077"},38313,21077,"FORMAAL","1018279"]
[{"$f":"CONCATENATE(B46569,\",\",C46569)","v":"38318,60000"},38318,60000,"FORMAAL","1018327"]
[{"$f":"CONCATENATE(B46614,\",\",C46614)","v":"38322,27777"},38322,27777,"FORMAAL","1018374"]
[{"$f":"CONCATENATE(B46629,\",\",C46629)","v":"38322,95777"},38322,95777,"FORMAAL","1018374"]
[{"$f":"CONCATENATE(B46660,\",\",C46660)","v":"38324,82207"},38324,82207,"FORMAAL","1018417"]
[{"$f":"CONCATENATE(B46705,\",\",C46705)","v":"38326,21601"},38326,21601,"FORMAAL","38326,21601,FORM"]
[{"$f":"CONCATENATE(B46739,\",\",C46739)","v":"38328,21203"},38328,21203,"FORMAAL","1036966"]
[{"$f":"CONCATENATE(B46752,\",\",C46752)","v":"38328,29103"},38328,29103,"FORMAAL","38328,29103,FORM"]
[{"$f":"CONCATENATE(B46797,\",\",C46797)","v":"38340,21701"},38340,21701,"FORMAAL","1036988"]
[{"$f":"CONCATENATE(B46828,\",\",C46828)","v":"38345,20000"},38345,20000,"FORMAAL","1018540"]
[{"$f":"CONCATENATE(B46843,\",\",C46843)","v":"38345,27777"},38345,27777,"FORMAAL","1018540"]
[{"$f":"CONCATENATE(B46888,\",\",C46888)","v":"38353,66101"},38353,66101,"FORMAAL","1018602"]
[{"$f":"CONCATENATE(B46910,\",\",C46910)","v":"38357,21301"},38357,21301,"FORMAAL","1018643"]
[{"$f":"CONCATENATE(B46935,\",\",C46935)","v":"38357,95000"},38357,95000,"FORMAAL","1018643"]
[{"$f":"CONCATENATE(B46966,\",\",C46966)","v":"38362,61401"},38362,61401,"FORMAAL","1018692"]
[{"$f":"CONCATENATE(B46981,\",\",C46981)","v":"38365,60000"},38365,60000,"FORMAAL","1018722"]
[{"$f":"CONCATENATE(B47026,\",\",C47026)","v":"38381,96501"},38381,96501,"FORMAAL","38381,96501,FORM"]
[{"$f":"CONCATENATE(B47057,\",\",C47057)","v":"38386,99999"},38386,99999,"FORMAAL","1018913"]
[{"$f":"CONCATENATE(B47081,\",\",C47081)","v":"38389,21203"},38389,21203,"FORMAAL","1037039"]
[{"$f":"CONCATENATE(B47104,\",\",C47104)","v":"38392,95777"},38392,95777,"FORMAAL","1018973"]
[{"$f":"CONCATENATE(B47149,\",\",C47149)","v":"38398,90000"},38398,90000,"FORMAAL","1018978"]
[{"$f":"CONCATENATE(B47164,\",\",C47164)","v":"38401,21201"},38401,21201,"FORMAAL","38401,21201,FORM"]
[{"$f":"CONCATENATE(B47195,\",\",C47195)","v":"38404,21801"},38404,21801,"FORMAAL","1037066"]
[{"$f":"CONCATENATE(B47225,\",\",C47225)","v":"38423,21202"},38423,21202,"FORMAAL","1037076"]
[{"$f":"CONCATENATE(B47256,\",\",C47256)","v":"38428,1"},38428,1,"FORMAAL","1019216"]
[{"$f":"CONCATENATE(B47287,\",\",C47287)","v":"38428,91699"},38428,91699,"FORMAAL","1019216"]
[{"$f":"CONCATENATE(B47332,\",\",C47332)","v":"38432,27777"},38432,27777,"FORMAAL","38432,27777,FORM"]
[{"$f":"CONCATENATE(B47363,\",\",C47363)","v":"38434,21303"},38434,21303,"FORMAAL","1037116"]
[{"$f":"CONCATENATE(B47378,\",\",C47378)","v":"38435,21203"},38435,21203,"FORMAAL","1037129"]
[{"$f":"CONCATENATE(B47427,\",\",C47427)","v":"38437,26102"},38437,26102,"FORMAAL","1037151"]
[{"$f":"CONCATENATE(B47455,\",\",C47455)","v":"38445,21202"},38445,21202,"FORMAAL","1037180"]
[{"$f":"CONCATENATE(B47470,\",\",C47470)","v":"38445,91101"},38445,91101,"FORMAAL","38445,91101,FORM"]
[{"$f":"CONCATENATE(B47501,\",\",C47501)","v":"38457,21203"},38457,21203,"FORMAAL","1037201"]
[{"$f":"CONCATENATE(B47546,\",\",C47546)","v":"38461,21304"},38461,21304,"FORMAAL","1037226"]
[{"$f":"CONCATENATE(B47561,\",\",C47561)","v":"38464,21201"},38464,21201,"FORMAAL","38464,21201,FORM"]
[{"$f":"CONCATENATE(B47602,\",\",C47602)","v":"38468,21201"},38468,21201,"FORMAAL","38468,21201,FORM"]
[{"$f":"CONCATENATE(B47638,\",\",C47638)","v":"38474,66000"},38474,66000,"FORMAAL","1019532"]
[{"$f":"CONCATENATE(B47653,\",\",C47653)","v":"38477,21304"},38477,21304,"FORMAAL","1037268"]
[{"$f":"CONCATENATE(B47684,\",\",C47684)","v":"38479,21077"},38479,21077,"FORMAAL","38479,21077,FORM"]
[{"$f":"CONCATENATE(B47729,\",\",C47729)","v":"38483,21201"},38483,21201,"FORMAAL","38483,21201,FORM"]
[{"$f":"CONCATENATE(B47760,\",\",C47760)","v":"38484,26102"},38484,26102,"FORMAAL","1037318"]
[{"$f":"CONCATENATE(B47773,\",\",C47773)","v":"38485,21304"},38485,21304,"FORMAAL","1037330"]
[{"$f":"CONCATENATE(B47821,\",\",C47821)","v":"38487,27777"},38487,27777,"FORMAAL","38487,27777,FORM"]
[{"$f":"CONCATENATE(B47852,\",\",C47852)","v":"38488,98361"},38488,98361,"FORMAAL","1019862"]
[{"$f":"CONCATENATE(B47867,\",\",C47867)","v":"38492,21701"},38492,21701,"FORMAAL","1037361"]
[{"$f":"CONCATENATE(B47912,\",\",C47912)","v":"38498,21801"},38498,21801,"FORMAAL","1037378"]
[{"$f":"CONCATENATE(B47943,\",\",C47943)","v":"38505,21203"},38505,21203,"FORMAAL","1037399"]
[{"$f":"CONCATENATE(B47975,\",\",C47975)","v":"38506,91101"},38506,91101,"FORMAAL","38506,91101,FORM"]
[{"$f":"CONCATENATE(B47990,\",\",C47990)","v":"38507,21801"},38507,21801,"FORMAAL","1037417"]
[{"$f":"CONCATENATE(B48035,\",\",C48035)","v":"38518,21303"},38518,21303,"FORMAAL","1037441"]
[{"$f":"CONCATENATE(B48050,\",\",C48050)","v":"38524,21301"},38524,21301,"FORMAAL","38524,21301,FORM"]
[{"$f":"CONCATENATE(B48081,\",\",C48081)","v":"38535,21203"},38535,21203,"FORMAAL","1037458"]
[{"$f":"CONCATENATE(B48126,\",\",C48126)","v":"38536,29103"},38536,29103,"FORMAAL","1020135"]
[{"$f":"CONCATENATE(B48150,\",\",C48150)","v":"38537,21077"},38537,21077,"FORMAAL","1020144"]
[{"$f":"CONCATENATE(B48173,\",\",C48173)","v":"38537,27777"},38537,27777,"FORMAAL","1020144"]
[{"$f":"CONCATENATE(B48188,\",\",C48188)","v":"38537,95777"},38537,95777,"FORMAAL","1020144"]
[{"$f":"CONCATENATE(B48219,\",\",C48219)","v":"38546,21301"},38546,21301,"FORMAAL","1020221"]
[{"$f":"CONCATENATE(B48264,\",\",C48264)","v":"38554,91101"},38554,91101,"FORMAAL","38554,91101,FORM"]
[{"$f":"CONCATENATE(B48279,\",\",C48279)","v":"38558,27777"},38558,27777,"FORMAAL","38558,27777,FORM"]
[{"$f":"CONCATENATE(B48321,\",\",C48321)","v":"38572,91101"},38572,91101,"FORMAAL","38572,91101,FORM"]
[{"$f":"CONCATENATE(B48356,\",\",C48356)","v":"38584,23201"},38584,23201,"FORMAAL","1020513"]
[{"$f":"CONCATENATE(B48387,\",\",C48387)","v":"38595,26103"},38595,26103,"FORMAAL","1037524"]
[{"$f":"CONCATENATE(B48402,\",\",C48402)","v":"38609,21304"},38609,21304,"FORMAAL","38609,21304,FORM"]
[{"$f":"CONCATENATE(B48447,\",\",C48447)","v":"38628,61000"},38628,61000,"FORMAAL","1037743"]
[{"$f":"CONCATENATE(B48478,\",\",C48478)","v":"38630,66000"},38630,66000,"FORMAAL","1037783"]
[{"$f":"CONCATENATE(B48492,\",\",C48492)","v":"38640,77777"},38640,77777,"FORMAAL","38640,77777,FORM"]
[{"$f":"CONCATENATE(B48539,\",\",C48539)","v":"38659,56898"},38659,56898,"FORMAAL","38659,56898,FORM"]
[{"$f":"CONCATENATE(B48570,\",\",C48570)","v":"38662,23201"},38662,23201,"FORMAAL","38662,23201,FORM"]
[{"$f":"CONCATENATE(B48585,\",\",C48585)","v":"38669,21304"},38669,21304,"FORMAAL","38669,21304,FORM"]
[{"$f":"CONCATENATE(B48616,\",\",C48616)","v":"38671,21501"},38671,21501,"FORMAAL","38671,21501,FORM"]
[{"$f":"CONCATENATE(B48661,\",\",C48661)","v":"38676,61201"},38676,61201,"FORMAAL","1038096"]
[{"$f":"CONCATENATE(B48694,\",\",C48694)","v":"38682,23201"},38682,23201,"FORMAAL","38682,23201,FORM"]
[{"$f":"CONCATENATE(B48708,\",\",C48708)","v":"38688,1"},38688,1,"FORMAAL","1038171"]
[{"$f":"CONCATENATE(B48753,\",\",C48753)","v":"38688,80375"},38688,80375,"FORMAAL","1038216"]
[{"$f":"CONCATENATE(B48784,\",\",C48784)","v":"38688,80535"},38688,80535,"FORMAAL","1038243"]
[{"$f":"CONCATENATE(B48799,\",\",C48799)","v":"38688,80630"},38688,80630,"FORMAAL","1038255"]
[{"$f":"CONCATENATE(B48844,\",\",C48844)","v":"38707,21302"},38707,21302,"FORMAAL","38707,21302,FORM"]
[{"$f":"CONCATENATE(B48869,\",\",C48869)","v":"38709,41300"},38709,41300,"FORMAAL","38709,41300,FORM"]
[{"$f":"CONCATENATE(B48891,\",\",C48891)","v":"38709,41630"},38709,41630,"FORMAAL","38709,41630,FORMAAL"]
[{"$f":"CONCATENATE(B48936,\",\",C48936)","v":"38713,23201"},38713,23201,"FORMAAL","38713,23201,FORM"]
[{"$f":"CONCATENATE(B48967,\",\",C48967)","v":"38715,26102"},38715,26102,"FORMAAL","38715,26102,FORM"]
[{"$f":"CONCATENATE(B48982,\",\",C48982)","v":"38716,26101"},38716,26101,"FORMAAL","38716,26101,FORM"]
[{"$f":"CONCATENATE(B49013,\",\",C49013)","v":"38720,21801"},38720,21801,"FORMAAL","38720,21801,FORM"]
[{"$f":"CONCATENATE(B49040,\",\",C49040)","v":"38723,21701"},38723,21701,"FORMAAL","38723,21701,FORM"]
[{"$f":"CONCATENATE(B49074,\",\",C49074)","v":"38727,21101"},38727,21101,"FORMAAL","38727,21101,FORM"]
[{"$f":"CONCATENATE(B49105,\",\",C49105)","v":"38752,95821"},38752,95821,"FORMAAL","38752,95821,FORM"]
[{"$f":"CONCATENATE(B49150,\",\",C49150)","v":"38766,1"},38766,1,"FORMAAL","1038705"]
[{"$f":"CONCATENATE(B49181,\",\",C49181)","v":"38768,95801"},38768,95801,"FORMAAL","38768,95801,FORM"]
[{"$f":"CONCATENATE(B49196,\",\",C49196)","v":"38769,26102"},38769,26102,"FORMAAL","38769,26102,FORM"]
[{"$f":"CONCATENATE(B49242,\",\",C49242)","v":"38772,26102"},38772,26102,"FORMAAL","38772,26102,FORM"]
[{"$f":"CONCATENATE(B49273,\",\",C49273)","v":"38774,26102"},38774,26102,"FORMAAL","38774,26102,FORM"]
[{"$f":"CONCATENATE(B49288,\",\",C49288)","v":"38775,23201"},38775,23201,"FORMAAL","38775,23201,FORM"]
[{"$f":"CONCATENATE(B49333,\",\",C49333)","v":"38788,21303"},38788,21303,"FORMAAL","38788,21303,FORM"]
[{"$f":"CONCATENATE(B49334,\",\",C49334)","v":"38788,21304"},38788,21304,"FORMAAL","38788,21304,FORM"]
[{"$f":"CONCATENATE(B49379,\",\",C49379)","v":"38798,26102"},38798,26102,"FORMAAL","38798,26102,FORM"]
[{"$f":"CONCATENATE(B49417,\",\",C49417)","v":"38803,21601"},38803,21601,"FORMAAL","38803,21601,FORM"]
[{"$f":"CONCATENATE(B49426,\",\",C49426)","v":"38804,21301"},38804,21301,"FORMAAL","38804,21301,FORM"]
[{"$f":"CONCATENATE(B49471,\",\",C49471)","v":"38834,21301"},38834,21301,"FORMAAL","38834,21301,FORM"]
[{"$f":"CONCATENATE(B49502,\",\",C49502)","v":"38836,21303"},38836,21303,"FORMAAL","38836,21303,FORM"]
[{"$f":"CONCATENATE(B49517,\",\",C49517)","v":"38837,21303"},38837,21303,"FORMAAL","38837,21303,FORM"]
[{"$f":"CONCATENATE(B49562,\",\",C49562)","v":"38848,28101"},38848,28101,"FORMAAL","38848,28101,FORM"]
[{"$f":"CONCATENATE(B49588,\",\",C49588)","v":"38858,21303"},38858,21303,"FORMAAL","38858,21303,FORM"]
[{"$f":"CONCATENATE(B49609,\",\",C49609)","v":"38860,21701"},38860,21701,"FORMAAL","38860,21701,FORM"]
[{"$f":"CONCATENATE(B49640,\",\",C49640)","v":"38870,21402"},38870,21402,"FORMAAL","38870,21402,FORM"]
[{"$f":"CONCATENATE(B49685,\",\",C49685)","v":"38877,21303"},38877,21303,"FORMAAL","38877,21303,FORM"]
[{"$f":"CONCATENATE(B49700,\",\",C49700)","v":"38878,21303"},38878,21303,"FORMAAL","38878,21303,FORM"]
[{"$f":"CONCATENATE(B49731,\",\",C49731)","v":"38881,21303"},38881,21303,"FORMAAL","38881,21303,FORM"]
[{"$f":"CONCATENATE(B49759,\",\",C49759)","v":"38889,23201"},38889,23201,"FORMAAL","38889,23201,FORM"]
[{"$f":"CONCATENATE(B49808,\",\",C49808)","v":"38907,43001"},38907,43001,"FORMAAL","38907,43001,FORM"]
[{"$f":"CONCATENATE(B49823,\",\",C49823)","v":"38909,26101"},38909,26101,"FORMAAL","38909,26101,FORM"]
[{"$f":"CONCATENATE(B49868,\",\",C49868)","v":"38917,21301"},38917,21301,"FORMAAL","38917,21301,FORM"]
[{"$f":"CONCATENATE(B49899,\",\",C49899)","v":"38919,21401"},38919,21401,"FORMAAL","38919,21401,FORM"]
[{"$f":"CONCATENATE(B49914,\",\",C49914)","v":"38920,21601"},38920,21601,"FORMAAL","38920,21601,FORM"]
[{"$f":"CONCATENATE(B49961,\",\",C49961)","v":"38926,21801"},38926,21801,"FORMAAL","38926,21801,FORM"]
[{"$f":"CONCATENATE(B49991,\",\",C49991)","v":"38929,21701"},38929,21701,"FORMAAL","38929,21701,FORM"]
[{"$f":"CONCATENATE(B50006,\",\",C50006)","v":"38938,21304"},38938,21304,"FORMAAL","38938,21305,FORMAAL"]
[{"$f":"CONCATENATE(B50037,\",\",C50037)","v":"38938,66102"},38938,66102,"FORMAAL","38938,66102,FORM"]
[{"$f":"CONCATENATE(B50082,\",\",C50082)","v":"38948,21701"},38948,21701,"FORMAAL","38948,21701,FORM"]
[{"$f":"CONCATENATE(B50097,\",\",C50097)","v":"38951,21601"},38951,21601,"FORMAAL","38951,21601,FORM"]
[{"$f":"CONCATENATE(B50136,\",\",C50136)","v":"38955,21201"},38955,21201,"FORMAAL","38955,21201,FORM"]
[{"$f":"CONCATENATE(B50174,\",\",C50174)","v":"38959,36101"},38959,36101,"FORMAAL","38959,36101,FORM"]
[{"$f":"CONCATENATE(B50189,\",\",C50189)","v":"38962,95811"},38962,95811,"FORMAAL","38962,95811,FORM"]
[{"$f":"CONCATENATE(B50220,\",\",C50220)","v":"38970,26102"},38970,26102,"FORMAAL","38970,26102,FORM"]
[{"$f":"CONCATENATE(B50265,\",\",C50265)","v":"38980,99999"},38980,99999,"FORMAAL","38980,99999,FORM"]
[{"$f":"CONCATENATE(B50296,\",\",C50296)","v":"38983,40000"},38983,40000,"FORMAAL","38983,40000,FORM"]
[{"$f":"CONCATENATE(B50307,\",\",C50307)","v":"38983,50001"},38983,50001,"FORMAAL","38983,50001,FORM"]
[{"$f":"CONCATENATE(B50357,\",\",C50357)","v":"39006,21402"},39006,21402,"FORMAAL","39006,21402,FORM"]
[{"$f":"CONCATENATE(B50388,\",\",C50388)","v":"39017,21302"},39017,21302,"FORMAAL","39017,21302,FORM"]
[{"$f":"CONCATENATE(B50403,\",\",C50403)","v":"39019,61000"},39019,61000,"FORMAAL","39019,61000,FORM"]
[{"$f":"CONCATENATE(B50434,\",\",C50434)","v":"39020,61201"},39020,61201,"FORMAAL","39020,61201,FORM"]
[{"$f":"CONCATENATE(B50479,\",\",C50479)","v":"39022,22221"},39022,22221,"FORMAAL","39022,22221,FORM"]
[{"$f":"CONCATENATE(B50509,\",\",C50509)","v":"39022,22600"},39022,22600,"FORMAAL","39022,22600,FORMAAL"]
[{"$f":"CONCATENATE(B50526,\",\",C50526)","v":"39022,22811"},39022,22811,"FORMAAL","39022,22811,FORMAAL"]
[{"$f":"CONCATENATE(B50541,\",\",C50541)","v":"39022,23100"},39022,23100,"FORMAAL","39022,23100,FORMAAL"]
[{"$f":"CONCATENATE(B50586,\",\",C50586)","v":"39032,67999"},39032,67999,"FORMAAL","39032,67999,FORM"]
[{"$f":"CONCATENATE(B50617,\",\",C50617)","v":"39038,21801"},39038,21801,"FORMAAL","39038,21801,FORM"]
[{"$f":"CONCATENATE(B50632,\",\",C50632)","v":"39040,21601"},39040,21601,"FORMAAL","39040,21601,FORM"]
[{"$f":"CONCATENATE(B50684,\",\",C50684)","v":"39051,21101"},39051,21101,"FORMAAL","39051,21101,FORM"]
[{"$f":"CONCATENATE(B50709,\",\",C50709)","v":"39053,21601"},39053,21601,"FORMAAL","39053,21601,FORM"]
[{"$f":"CONCATENATE(B50724,\",\",C50724)","v":"39056,21501"},39056,21501,"FORMAAL","39056,21501,FORM"]
[{"$f":"CONCATENATE(B50755,\",\",C50755)","v":"39061,21601"},39061,21601,"FORMAAL","1040270"]
[{"$f":"CONCATENATE(B50800,\",\",C50800)","v":"39066,21304"},39066,21304,"FORMAAL","39066,21304,FORM"]
[{"$f":"CONCATENATE(B50831,\",\",C50831)","v":"39069,61401"},39069,61401,"FORMAAL","39069,61401,FORM"]
[{"$f":"CONCATENATE(B50855,\",\",C50855)","v":"39075,21101"},39075,21101,"FORMAAL","39075,21101,FORM"]
[{"$f":"CONCATENATE(B50892,\",\",C50892)","v":"39081,95924"},39081,95924,"FORMAAL","39081,95924,FORM"]
[{"$f":"CONCATENATE(B50923,\",\",C50923)","v":"39081,98920"},39081,98920,"FORMAAL","39081,98920,FORM"]
[{"$f":"CONCATENATE(B50938,\",\",C50938)","v":"39081,98941"},39081,98941,"FORMAAL","39081,98941,FORMAAL"]
[{"$f":"CONCATENATE(B50983,\",\",C50983)","v":"39082,21500"},39082,21500,"FORMAAL","39082,21500,FORMAAL"]
[{"$f":"CONCATENATE(B50999,\",\",C50999)","v":"39082,21999"},39082,21999,"FORMAAL","39082,21999,FORMAAL"]
[{"$f":"CONCATENATE(B51030,\",\",C51030)","v":"39085,1"},39085,1,"FORMAAL","39085,1,FORM"]
[{"$f":"CONCATENATE(B51061,\",\",C51061)","v":"39088,61601"},39088,61601,"FORMAAL","39088,61601,FORM"]
[{"$f":"CONCATENATE(B51106,\",\",C51106)","v":"39105,26103"},39105,26103,"FORMAAL","39105,26103,FORM"]
[{"$f":"CONCATENATE(B51121,\",\",C51121)","v":"39108,21101"},39108,21101,"FORMAAL","39108,21101,FORM"]
[{"$f":"CONCATENATE(B51152,\",\",C51152)","v":"39112,21801"},39112,21801,"FORMAAL","39112,21801,FORM"]
[{"$f":"CONCATENATE(B51201,\",\",C51201)","v":"39122,21701"},39122,21701,"FORMAAL","39122,21701,FORM"]
[{"$f":"CONCATENATE(B51213,\",\",C51213)","v":"39131,21101"},39131,21101,"FORMAAL","39131,21101,FORM"]
[{"$f":"CONCATENATE(B51244,\",\",C51244)","v":"39143,21101"},39143,21101,"FORMAAL","39143,21101,FORM"]
[{"$f":"CONCATENATE(B51289,\",\",C51289)","v":"39158,21801"},39158,21801,"FORMAAL","39158,21801,FORM"]
[{"$f":"CONCATENATE(B51320,\",\",C51320)","v":"39161,21402"},39161,21402,"FORMAAL","39161,21402,FORM"]
[{"$f":"CONCATENATE(B51335,\",\",C51335)","v":"39162,95777"},39162,95777,"FORMAAL","39162,95777,FORM"]
[{"$f":"CONCATENATE(B51372,\",\",C51372)","v":"39171,21304"},39171,21304,"FORMAAL","39171,21304,FORM"]
[{"$f":"CONCATENATE(B51412,\",\",C51412)","v":"39173,95901"},39173,95901,"FORMAAL","39173,95901,FORM"]
[{"$f":"CONCATENATE(B51427,\",\",C51427)","v":"39193,82999"},39193,82999,"FORMAAL","39193,82999,FORM"]
[{"$f":"CONCATENATE(B51458,\",\",C51458)","v":"39206,26102"},39206,26102,"FORMAAL","39206,26102,FORM"]
[{"$f":"CONCATENATE(B51503,\",\",C51503)","v":"39209,21801"},39209,21801,"FORMAAL","39209,21801,FORM"]
[{"$f":"CONCATENATE(B51518,\",\",C51518)","v":"39210,21701"},39210,21701,"FORMAAL","39210,21701,FORM"]
[{"$f":"CONCATENATE(B51547,\",\",C51547)","v":"39212,21402"},39212,21402,"FORMAAL","39212,21402,FORM"]
[{"$f":"CONCATENATE(B51595,\",\",C51595)","v":"39226,68101"},39226,68101,"FORMAAL","39226,68101,FORM"]
[{"$f":"CONCATENATE(B51610,\",\",C51610)","v":"39233,81406"},39233,81406,"FORMAAL","39233,81406,FORM"]
[{"$f":"CONCATENATE(B51641,\",\",C51641)","v":"39247,21303"},39247,21303,"FORMAAL","39247,21303,FORM"]
[{"$f":"CONCATENATE(B51686,\",\",C51686)","v":"39255,21201"},39255,21201,"FORMAAL","39255,21201,FORM"]
[{"$f":"CONCATENATE(B51687,\",\",C51687)","v":"39255,21301"},39255,21301,"FORMAAL","39255,21301,FORM"]
[{"$f":"CONCATENATE(B51718,\",\",C51718)","v":"39262,21201"},39262,21201,"FORMAAL","39262,21201,FORM"]
[{"$f":"CONCATENATE(B51748,\",\",C51748)","v":"39267,26102"},39267,26102,"FORMAAL","39267,26102,FORM"]
[{"$f":"CONCATENATE(B51779,\",\",C51779)","v":"39272,23201"},39272,23201,"FORMAAL","39272,23201,FORM"]
[{"$f":"CONCATENATE(B51824,\",\",C51824)","v":"39275,21801"},39275,21801,"FORMAAL","39275,21801,FORM"]
[{"$f":"CONCATENATE(B51855,\",\",C51855)","v":"39277,86201"},39277,86201,"FORMAAL","39277,86201,FORM"]
[{"$f":"CONCATENATE(B51870,\",\",C51870)","v":"39277,93711"},39277,93711,"FORMAAL","39277,93711,FORM"]
[{"$f":"CONCATENATE(B51920,\",\",C51920)","v":"39296,23201"},39296,23201,"FORMAAL","39296,23201,FORM"]
[{"$f":"CONCATENATE(B51947,\",\",C51947)","v":"39300,21601"},39300,21601,"FORMAAL","39300,21601,FORM"]
[{"$f":"CONCATENATE(B51962,\",\",C51962)","v":"39301,21501"},39301,21501,"FORMAAL","39301,21501,FORM"]
[{"$f":"CONCATENATE(B52007,\",\",C52007)","v":"39307,41500"},39307,41500,"FORMAAL","39307,41500,FORMAAL"]
[{"$f":"CONCATENATE(B52038,\",\",C52038)","v":"39307,61509"},39307,61509,"FORMAAL","39307,61509,FORMAAL"]
[{"$f":"CONCATENATE(B52053,\",\",C52053)","v":"39307,61809"},39307,61809,"FORMAAL","39307,61809,FORMAAL"]
[{"$f":"CONCATENATE(B52095,\",\",C52095)","v":"39313,95901"},39313,95901,"FORMAAL","39313,95901,FORM"]
[{"$f":"CONCATENATE(B52130,\",\",C52130)","v":"39317,95801"},39317,95801,"FORMAAL","39317,95801,FORM"]
[{"$f":"CONCATENATE(B52145,\",\",C52145)","v":"39338,21401"},39338,21401,"FORMAAL","39338,21401,FORM"]
[{"$f":"CONCATENATE(B52176,\",\",C52176)","v":"39343,21401"},39343,21401,"FORMAAL","39343,21401,FORM"]
[{"$f":"CONCATENATE(B52221,\",\",C52221)","v":"39348,21303"},39348,21303,"FORMAAL","39348,21303,FORM"]
[{"$f":"CONCATENATE(B52236,\",\",C52236)","v":"39357,60000"},39357,60000,"FORMAAL","39357,60000,FORM"]
[{"$f":"CONCATENATE(B52266,\",\",C52266)","v":"39364,82000"},39364,82000,"FORMAAL","39364,82000,FORM"]
[{"$f":"CONCATENATE(B52313,\",\",C52313)","v":"39364,93711"},39364,93711,"FORMAAL","39364,93711,FORMAAL"]
[{"$f":"CONCATENATE(B52344,\",\",C52344)","v":"39365,82801"},39365,82801,"FORMAAL","39365,82801,FORMAAL"]
[{"$f":"CONCATENATE(B52359,\",\",C52359)","v":"39365,91699"},39365,91699,"FORMAAL","39365,91699,FORMAAL"]
[{"$f":"CONCATENATE(B52404,\",\",C52404)","v":"39376,61601"},39376,61601,"FORMAAL","39376,61601,FORM"]
[{"$f":"CONCATENATE(B52435,\",\",C52435)","v":"39381,21801"},39381,21801,"FORMAAL","39381,21801,FORM"]
[{"$f":"CONCATENATE(B52468,\",\",C52468)","v":"39391,21401"},39391,21401,"FORMAAL","39391,21401,FORM"]
[{"$f":"CONCATENATE(B52482,\",\",C52482)","v":"39394,26105"},39394,26105,"FORMAAL","39394,26105,FORM"]
[{"$f":"CONCATENATE(B52527,\",\",C52527)","v":"39411,23201"},39411,23201,"FORMAAL","39411,23201,FORM"]
[{"$f":"CONCATENATE(B52542,\",\",C52542)","v":"39413,21801"},39413,21801,"FORMAAL","39413,21801,FORM"]
[{"$f":"CONCATENATE(B52573,\",\",C52573)","v":"39420,21801"},39420,21801,"FORMAAL","39420,21801,FORM"]
[{"$f":"CONCATENATE(B52618,\",\",C52618)","v":"39466,69999"},39466,69999,"FORMAAL","39466,69999,FORM"]
[{"$f":"CONCATENATE(B52639,\",\",C52639)","v":"39481,70000"},39481,70000,"FORMAAL","39481,70000,FORM"]
[{"$f":"CONCATENATE(B52665,\",\",C52665)","v":"39485,69999"},39485,69999,"FORMAAL","39485,69999,FORM"]
[{"$f":"CONCATENATE(B52710,\",\",C52710)","v":"39516,51010"},39516,51010,"FORMAAL","39516,51010,FORM"]
[{"$f":"CONCATENATE(B52741,\",\",C52741)","v":"39521,21101"},39521,21101,"FORMAAL","39521,21101,FORM"]
[{"$f":"CONCATENATE(B52756,\",\",C52756)","v":"39521,95901"},39521,95901,"FORMAAL","39521,95901,FORM"]
[{"$f":"CONCATENATE(B52801,\",\",C52801)","v":"39526,95801"},39526,95801,"FORMAAL","39526,95801,FORM"]
[{"$f":"CONCATENATE(B52814,\",\",C52814)","v":"39536,27101"},39536,27101,"FORMAAL","39536,27101,FORM"]
[{"$f":"CONCATENATE(B52848,\",\",C52848)","v":"39545,21302"},39545,21302,"FORMAAL","39545,21302,FORM"]
[{"$f":"CONCATENATE(B52893,\",\",C52893)","v":"39554,21101"},39554,21101,"FORMAAL","39554,21101,FORM"]
[{"$f":"CONCATENATE(B52894,\",\",C52894)","v":"39554,21201"},39554,21201,"FORMAAL","39554,21201,FORM"]
[{"$f":"CONCATENATE(B52939,\",\",C52939)","v":"39558,95801"},39558,95801,"FORMAAL","39558,95801,FORM"]
[{"$f":"CONCATENATE(B52970,\",\",C52970)","v":"39566,26102"},39566,26102,"FORMAAL","39566,26102,FORM"]
[{"$f":"CONCATENATE(B52985,\",\",C52985)","v":"39566,95821"},39566,95821,"FORMAAL","39566,95821,FORM"]
[{"$f":"CONCATENATE(B53031,\",\",C53031)","v":"39575,21303"},39575,21303,"FORMAAL","39575,21303,FORM"]
[{"$f":"CONCATENATE(B53062,\",\",C53062)","v":"39577,21701"},39577,21701,"FORMAAL","39577,21701,FORM"]
[{"$f":"CONCATENATE(B53077,\",\",C53077)","v":"39577,25103"},39577,25103,"FORMAAL","39577,25103,FORM"]
[{"$f":"CONCATENATE(B53108,\",\",C53108)","v":"39579,23104"},39579,23104,"FORMAAL","39579,23104,FORM"]
[{"$f":"CONCATENATE(B53153,\",\",C53153)","v":"39582,21101"},39582,21101,"FORMAAL","39582,21101,FORM"]
[{"$f":"CONCATENATE(B53187,\",\",C53187)","v":"39583,24014"},39583,24014,"FORMAAL","39583,24014,FORM"]
[{"$f":"CONCATENATE(B53200,\",\",C53200)","v":"39584,22401"},39584,22401,"FORMAAL","39584,22401,FORM"]
[{"$f":"CONCATENATE(B53245,\",\",C53245)","v":"39586,23103"},39586,23103,"FORMAAL","39586,23103,FORM"]
[{"$f":"CONCATENATE(B53260,\",\",C53260)","v":"39587,21501"},39587,21501,"FORMAAL","39587,21501,FORM"]
[{"$f":"CONCATENATE(B53291,\",\",C53291)","v":"39588,23105"},39588,23105,"FORMAAL","39588,23105,FORM"]
[{"$f":"CONCATENATE(B53336,\",\",C53336)","v":"39594,82910"},39594,82910,"FORMAAL","1043100"]
[{"$f":"CONCATENATE(B53362,\",\",C53362)","v":"39595,99999"},39595,99999,"FORMAAL","1043105"]
[{"$f":"CONCATENATE(B53383,\",\",C53383)","v":"39599,77777"},39599,77777,"FORMAAL","1043125"]
[{"$f":"CONCATENATE(B53428,\",\",C53428)","v":"39605,20000"},39605,20000,"FORMAAL","39605,20000,FORM"]
[{"$f":"CONCATENATE(B53459,\",\",C53459)","v":"39609,21301"},39609,21301,"FORMAAL","39609,21301,FORM"]
[{"$f":"CONCATENATE(B53474,\",\",C53474)","v":"39609,91170"},39609,91170,"FORMAAL","39609,91170,FORM"]
[{"$f":"CONCATENATE(B53505,\",\",C53505)","v":"39619,21701"},39619,21701,"FORMAAL","39619,21701,FORM"]
[{"$f":"CONCATENATE(B53533,\",\",C53533)","v":"39641,21401"},39641,21401,"FORMAAL","39641,21401,FORM"]
[{"$f":"CONCATENATE(B53566,\",\",C53566)","v":"39642,86000"},39642,86000,"FORMAAL","1043350"]
[{"$f":"CONCATENATE(B53597,\",\",C53597)","v":"39642,93500"},39642,93500,"FORMAAL","1043350"]
[{"$f":"CONCATENATE(B53642,\",\",C53642)","v":"39647,95901"},39647,95901,"FORMAAL","39647,95901,FORM"]
[{"$f":"CONCATENATE(B53657,\",\",C53657)","v":"39653,21701"},39653,21701,"FORMAAL","39653,21701,FORM"]
[{"$f":"CONCATENATE(B53688,\",\",C53688)","v":"39658,21601"},39658,21601,"FORMAAL","39658,21601,FORM"]
[{"$f":"CONCATENATE(B53735,\",\",C53735)","v":"39671,21401"},39671,21401,"FORMAAL","39671,21401,FORM"]
[{"$f":"CONCATENATE(B53765,\",\",C53765)","v":"39674,21303"},39674,21303,"FORMAAL","39674,21303,FORM"]
[{"$f":"CONCATENATE(B53780,\",\",C53780)","v":"39692,21301"},39692,21301,"FORMAAL","39692,21301,FORM"]
[{"$f":"CONCATENATE(B53825,\",\",C53825)","v":"39705,21201"},39705,21201,"FORMAAL","39705,21201,FORM"]
[{"$f":"CONCATENATE(B53856,\",\",C53856)","v":"39709,26204"},39709,26204,"FORMAAL","39709,26204,FORM"]
[{"$f":"CONCATENATE(B53871,\",\",C53871)","v":"39709,63399"},39709,63399,"FORMAAL","39709,63399,FORM"]
[{"$f":"CONCATENATE(B53906,\",\",C53906)","v":"39726,21601"},39726,21601,"FORMAAL","39726,21601,FORM"]
[{"$f":"CONCATENATE(B53948,\",\",C53948)","v":"39733,21401"},39733,21401,"FORMAAL","39733,21401,FORM"]
[{"$f":"CONCATENATE(B53963,\",\",C53963)","v":"39737,21401"},39737,21401,"FORMAAL","39737,21401,FORM"]
[{"$f":"CONCATENATE(B53994,\",\",C53994)","v":"39757,21701"},39757,21701,"FORMAAL","39757,21701,FORM"]
[{"$f":"CONCATENATE(B54039,\",\",C54039)","v":"39766,61201"},39766,61201,"FORMAAL","1043980"]
[{"$f":"CONCATENATE(B54054,\",\",C54054)","v":"39766,95777"},39766,95777,"FORMAAL","1043980"]
[{"$f":"CONCATENATE(B54081,\",\",C54081)","v":"39786,85001"},39786,85001,"FORMAAL","39786,85001,FORM"]
[{"$f":"CONCATENATE(B54101,\",\",C54101)","v":"39788,85003"},39788,85003,"FORMAAL","39788,85003,FORM"]
[{"$f":"CONCATENATE(B54132,\",\",C54132)","v":"39789,15001"},39789,15001,"FORMAAL","39789,15001,FORM"]
[{"$f":"CONCATENATE(B54177,\",\",C54177)","v":"39792,12000"},39792,12000,"FORMAAL","39792,12000,FORM"]
[{"$f":"CONCATENATE(B54192,\",\",C54192)","v":"39792,15999"},39792,15999,"FORMAAL","39792,15999,FORM"]
[{"$f":"CONCATENATE(B54223,\",\",C54223)","v":"39794,15000"},39794,15000,"FORMAAL","39794,15000,FORM"]
[{"$f":"CONCATENATE(B54252,\",\",C54252)","v":"39796,21303"},39796,21303,"FORMAAL","39796,21303,FORM"]
[{"$f":"CONCATENATE(B54284,\",\",C54284)","v":"39798,21303"},39798,21303,"FORMAAL","39798,21303,FORM"]
[{"$f":"CONCATENATE(B54315,\",\",C54315)","v":"39802,11001"},39802,11001,"FORMAAL","39802,11001,FORM"]
[{"$f":"CONCATENATE(B54360,\",\",C54360)","v":"39806,21501"},39806,21501,"FORMAAL","39806,21501,FORM"]
[{"$f":"CONCATENATE(B54391,\",\",C54391)","v":"39810,82201"},39810,82201,"FORMAAL","39810,82201,FORM"]
[{"$f":"CONCATENATE(B54406,\",\",C54406)","v":"39814,26101"},39814,26101,"FORMAAL","39814,26101,FORM"]
[{"$f":"CONCATENATE(B54454,\",\",C54454)","v":"39835,21101"},39835,21101,"FORMAAL","39835,21101,FORM"]
[{"$f":"CONCATENATE(B54483,\",\",C54483)","v":"39836,95901"},39836,95901,"FORMAAL","39836,95901,FORM"]
[{"$f":"CONCATENATE(B54498,\",\",C54498)","v":"39837,95801"},39837,95801,"FORMAAL","39837,95801,FORM"]
[{"$f":"CONCATENATE(B54529,\",\",C54529)","v":"39842,21801"},39842,21801,"FORMAAL","39842,21801,FORM"]
[{"$f":"CONCATENATE(B54574,\",\",C54574)","v":"39857,21601"},39857,21601,"FORMAAL","39857,21601,FORM"]
[{"$f":"CONCATENATE(B54589,\",\",C54589)","v":"39858,21501"},39858,21501,"FORMAAL","39858,21501,FORM"]
[{"$f":"CONCATENATE(B54629,\",\",C54629)","v":"39874,21601"},39874,21601,"FORMAAL","39874,21601,FORM"]
[{"$f":"CONCATENATE(B54666,\",\",C54666)","v":"39883,12000"},39883,12000,"FORMAAL","39883,12000,FORM"]
[{"$f":"CONCATENATE(B54681,\",\",C54681)","v":"39883,15999"},39883,15999,"FORMAAL","39883,15999,FORM"]
[{"$f":"CONCATENATE(B54712,\",\",C54712)","v":"39884,15001"},39884,15001,"FORMAAL","39884,15001,FORM"]
[{"$f":"CONCATENATE(B54757,\",\",C54757)","v":"39897,61601"},39897,61601,"FORMAAL","39897,61601,FORM"]
[{"$f":"CONCATENATE(B54773,\",\",C54773)","v":"39900,60000"},39900,60000,"FORMAAL","39900,60000,FORM"]
[{"$f":"CONCATENATE(B54804,\",\",C54804)","v":"39913,21302"},39913,21302,"FORMAAL","39913,21302,FORM"]
[{"$f":"CONCATENATE(B54849,\",\",C54849)","v":"39915,61605"},39915,61605,"FORMAAL","39915,61605,FORM"]
[{"$f":"CONCATENATE(B54880,\",\",C54880)","v":"39923,23201"},39923,23201,"FORMAAL","39923,23201,FORM"]
[{"$f":"CONCATENATE(B54895,\",\",C54895)","v":"39924,23201"},39924,23201,"FORMAAL","39924,23201,FORM"]
[{"$f":"CONCATENATE(B54940,\",\",C54940)","v":"39928,26102"},39928,26102,"FORMAAL","39928,26102,FORM"]
[{"$f":"CONCATENATE(B54975,\",\",C54975)","v":"39933,23001"},39933,23001,"FORMAAL","39933,23001,FORM"]
[{"$f":"CONCATENATE(B54987,\",\",C54987)","v":"39933,95827"},39933,95827,"FORMAAL","39933,95827,FORM"]
[{"$f":"CONCATENATE(B55018,\",\",C55018)","v":"39939,21402"},39939,21402,"FORMAAL","39939,21402,FORM"]
[{"$f":"CONCATENATE(B55063,\",\",C55063)","v":"39973,60000"},39973,60000,"FORMAAL","39973,60000,FORM"]
[{"$f":"CONCATENATE(B55078,\",\",C55078)","v":"39974,21601"},39974,21601,"FORMAAL","39974,21601,FORM"]
[{"$f":"CONCATENATE(B55109,\",\",C55109)","v":"39988,21303"},39988,21303,"FORMAAL","39988,21303,FORM"]
[{"$f":"CONCATENATE(B55146,\",\",C55146)","v":"39993,21401"},39993,21401,"FORMAAL","39993,21401,FORM"]
[{"$f":"CONCATENATE(B55186,\",\",C55186)","v":"39997,26103"},39997,26103,"FORMAAL","39997,26103,FORM"]
[{"$f":"CONCATENATE(B55201,\",\",C55201)","v":"39997,95821"},39997,95821,"FORMAAL","39997,95821,FORM"]
[{"$f":"CONCATENATE(B55246,\",\",C55246)","v":"40012,21401"},40012,21401,"FORMAAL","40012,21401,FORM"]
[{"$f":"CONCATENATE(B55247,\",\",C55247)","v":"40012,21402"},40012,21402,"FORMAAL","40012,21402,FORM"]
[{"$f":"CONCATENATE(B55292,\",\",C55292)","v":"40016,21005"},40016,21005,"FORMAAL","40016,21005,FORM"]
[{"$f":"CONCATENATE(B55317,\",\",C55317)","v":"40022,21304"},40022,21304,"FORMAAL","40022,21304,FORM"]
[{"$f":"CONCATENATE(B55339,\",\",C55339)","v":"40026,21801"},40026,21801,"FORMAAL","40026,21801,FORM"]
[{"$f":"CONCATENATE(B55384,\",\",C55384)","v":"40029,21501"},40029,21501,"FORMAAL","40029,21501,FORM"]
[{"$f":"CONCATENATE(B55415,\",\",C55415)","v":"40032,22421"},40032,22421,"FORMAAL","40032,22421,FORMAAL"]
[{"$f":"CONCATENATE(B55430,\",\",C55430)","v":"40032,22631"},40032,22631,"FORMAAL","40032,22631,FORMAAL"]
[{"$f":"CONCATENATE(B55475,\",\",C55475)","v":"40034,61212"},40034,61212,"FORMAAL","40034,61212,FORM"]
[{"$f":"CONCATENATE(B55492,\",\",C55492)","v":"40042,26102"},40042,26102,"FORMAAL","40042,26102,FORM"]
[{"$f":"CONCATENATE(B55522,\",\",C55522)","v":"40053,89999"},40053,89999,"FORMAAL","1045495"]
[{"$f":"CONCATENATE(B55567,\",\",C55567)","v":"40056,21101"},40056,21101,"FORMAAL","40056,21101,FORM"]
[{"$f":"CONCATENATE(B55598,\",\",C55598)","v":"40059,21401"},40059,21401,"FORMAAL","40059,21401,FORM"]
[{"$f":"CONCATENATE(B55613,\",\",C55613)","v":"40069,21401"},40069,21401,"FORMAAL","40069,21401,FORM"]
[{"$f":"CONCATENATE(B55644,\",\",C55644)","v":"40074,21402"},40074,21402,"FORMAAL","40074,21402,FORM"]
[{"$f":"CONCATENATE(B55694,\",\",C55694)","v":"40083,61301"},40083,61301,"FORMAAL","40083,61301,FORM"]
[{"$f":"CONCATENATE(B55705,\",\",C55705)","v":"40083,66101"},40083,66101,"FORMAAL","40083,66101,FORM"]
[{"$f":"CONCATENATE(B55736,\",\",C55736)","v":"40084,67101"},40084,67101,"FORMAAL","40084,67101,FORM"]
[{"$f":"CONCATENATE(B55781,\",\",C55781)","v":"40086,21501"},40086,21501,"FORMAAL","40086,21501,FORM"]
[{"$f":"CONCATENATE(B55812,\",\",C55812)","v":"40089,21402"},40089,21402,"FORMAAL","40089,21402,FORM"]
[{"$f":"CONCATENATE(B55827,\",\",C55827)","v":"40092,21301"},40092,21301,"FORMAAL","40092,21301,FORM"]
[{"$f":"CONCATENATE(B55865,\",\",C55865)","v":"40096,21601"},40096,21601,"FORMAAL","40096,21601,FORM"]
[{"$f":"CONCATENATE(B55904,\",\",C55904)","v":"40101,21201"},40101,21201,"FORMAAL","40101,21201,FORM"]
[{"$f":"CONCATENATE(B55919,\",\",C55919)","v":"40103,21101"},40103,21101,"FORMAAL","40103,21101,FORM"]
[{"$f":"CONCATENATE(B55964,\",\",C55964)","v":"40109,95901"},40109,95901,"FORMAAL","40109,95901,FORM"]
[{"$f":"CONCATENATE(B55995,\",\",C55995)","v":"40111,95901"},40111,95901,"FORMAAL","40111,95901,FORM"]
[{"$f":"CONCATENATE(B56010,\",\",C56010)","v":"40112,95801"},40112,95801,"FORMAAL","40112,95801,FORM"]
[{"$f":"CONCATENATE(B56040,\",\",C56040)","v":"40116,95801"},40116,95801,"FORMAAL","40116,95801,FORM"]
[{"$f":"CONCATENATE(B56087,\",\",C56087)","v":"40128,22399"},40128,22399,"FORMAAL","40128,22399,FORM"]
[{"$f":"CONCATENATE(B56102,\",\",C56102)","v":"40128,22551"},40128,22551,"FORMAAL","40128,22551,FORM"]
[{"$f":"CONCATENATE(B56133,\",\",C56133)","v":"40128,88100"},40128,88100,"FORMAAL","40128,88100,FORM"]
[{"$f":"CONCATENATE(B56178,\",\",C56178)","v":"40136,95999"},40136,95999,"FORMAAL","40136,95999,FORM"]
[{"$f":"CONCATENATE(B56209,\",\",C56209)","v":"40145,95901"},40145,95901,"FORMAAL","40145,95901,FORM"]
[{"$f":"CONCATENATE(B56242,\",\",C56242)","v":"40149,21101"},40149,21101,"FORMAAL","40149,21101,FORM"]
[{"$f":"CONCATENATE(B56270,\",\",C56270)","v":"40155,21402"},40155,21402,"FORMAAL","40155,21402,FORM"]
[{"$f":"CONCATENATE(B56301,\",\",C56301)","v":"40161,21402"},40161,21402,"FORMAAL","40161,21402,FORM"]
[{"$f":"CONCATENATE(B56316,\",\",C56316)","v":"40163,21402"},40163,21402,"FORMAAL","40163,21402,FORM"]
[{"$f":"CONCATENATE(B56361,\",\",C56361)","v":"40169,21303"},40169,21303,"FORMAAL","40169,21303,FORM"]
[{"$f":"CONCATENATE(B56392,\",\",C56392)","v":"40175,21401"},40175,21401,"FORMAAL","40175,21401,FORM"]
[{"$f":"CONCATENATE(B56413,\",\",C56413)","v":"40178,95901"},40178,95901,"FORMAAL","40178,95901,FORM"]
[{"$f":"CONCATENATE(B56439,\",\",C56439)","v":"40180,21701"},40180,21701,"FORMAAL","40180,21701,FORM"]
[{"$f":"CONCATENATE(B56454,\",\",C56454)","v":"40185,21501"},40185,21501,"FORMAAL","40185,21501,FORM"]
[{"$f":"CONCATENATE(B56499,\",\",C56499)","v":"40196,21302"},40196,21302,"FORMAAL","40196,21302,FORM"]
[{"$f":"CONCATENATE(B56530,\",\",C56530)","v":"40198,21301"},40198,21301,"FORMAAL","40198,21301,FORM"]
[{"$f":"CONCATENATE(B56545,\",\",C56545)","v":"40199,21201"},40199,21201,"FORMAAL","40199,21201,FORM"]
[{"$f":"CONCATENATE(B56584,\",\",C56584)","v":"40203,21801"},40203,21801,"FORMAAL","40203,21801,FORM"]
[{"$f":"CONCATENATE(B56622,\",\",C56622)","v":"40206,21201"},40206,21201,"FORMAAL","40206,21201,FORM"]
[{"$f":"CONCATENATE(B56637,\",\",C56637)","v":"40207,21101"},40207,21101,"FORMAAL","40207,21101,FORM"]
[{"$f":"CONCATENATE(B56668,\",\",C56668)","v":"40208,95901"},40208,95901,"FORMAAL","40208,95901,FORM"]
[{"$f":"CONCATENATE(B56713,\",\",C56713)","v":"40215,26101"},40215,26101,"FORMAAL","40215,26101,FORM"]
[{"$f":"CONCATENATE(B56728,\",\",C56728)","v":"40226,22221"},40226,22221,"FORMAAL","40226,22221,FORM"]
[{"$f":"CONCATENATE(B56759,\",\",C56759)","v":"40247,82201"},40247,82201,"FORMAAL","40247,82201,FORM"]
[{"$f":"CONCATENATE(B56805,\",\",C56805)","v":"40254,22341"},40254,22341,"FORMAAL","40254,22341,FORM"]
[{"$f":"CONCATENATE(B56836,\",\",C56836)","v":"40255,81601"},40255,81601,"FORMAAL","40255,81601,FORM"]
[{"$f":"CONCATENATE(B56851,\",\",C56851)","v":"40256,21304"},40256,21304,"FORMAAL","40256,21304,FORM"]
[{"$f":"CONCATENATE(B56896,\",\",C56896)","v":"40261,21303"},40261,21303,"FORMAAL","40261,21303,FORM"]
[{"$f":"CONCATENATE(B56927,\",\",C56927)","v":"40263,21303"},40263,21303,"FORMAAL","40263,21303,FORM"]
[{"$f":"CONCATENATE(B56961,\",\",C56961)","v":"40271,95901"},40271,95901,"FORMAAL","40271,95901,FORM"]
[{"$f":"CONCATENATE(B56988,\",\",C56988)","v":"40274,21201"},40274,21201,"FORMAAL","40274,21201,FORM"]
[{"$f":"CONCATENATE(B57019,\",\",C57019)","v":"40276,21101"},40276,21101,"FORMAAL","40276,21101,FORM"]
[{"$f":"CONCATENATE(B57034,\",\",C57034)","v":"40276,95901"},40276,95901,"FORMAAL","40276,95901,FORM"]
[{"$f":"CONCATENATE(B57065,\",\",C57065)","v":"40280,95801"},40280,95801,"FORMAAL","40280,95801,FORM"]
[{"$f":"CONCATENATE(B57110,\",\",C57110)","v":"40286,29999"},40286,29999,"FORMAAL","40286,29999,FORM"]
[{"$f":"CONCATENATE(B57132,\",\",C57132)","v":"40293,21304"},40293,21304,"FORMAAL","40293,21304,FORM"]
[{"$f":"CONCATENATE(B57157,\",\",C57157)","v":"40299,26102"},40299,26102,"FORMAAL","40299,26102,FORM"]
[{"$f":"CONCATENATE(B57202,\",\",C57202)","v":"40308,69899"},40308,69899,"FORMAAL","40308,69899,FORM"]
[{"$f":"CONCATENATE(B57217,\",\",C57217)","v":"40310,21701"},40310,21701,"FORMAAL","40310,21701,FORM"]
[{"$f":"CONCATENATE(B57248,\",\",C57248)","v":"40315,21101"},40315,21101,"FORMAAL","40315,21101,FORM"]
[{"$f":"CONCATENATE(B57293,\",\",C57293)","v":"40324,26101"},40324,26101,"FORMAAL","40324,26101,FORM"]
[{"$f":"CONCATENATE(B57307,\",\",C57307)","v":"40324,91000"},40324,91000,"FORMAAL","40324,91000,FORMAAL"]
[{"$f":"CONCATENATE(B57340,\",\",C57340)","v":"40325,22331"},40325,22331,"FORMAAL","40325,22331,FORM"]
[{"$f":"CONCATENATE(B57385,\",\",C57385)","v":"40331,89626"},40331,89626,"FORMAAL","40331,89626,FORM"]
[{"$f":"CONCATENATE(B57416,\",\",C57416)","v":"40336,95777"},40336,95777,"FORMAAL","40336,95777,FORM"]
[{"$f":"CONCATENATE(B57431,\",\",C57431)","v":"40337,95801"},40337,95801,"FORMAAL","40337,95801,FORM"]
[{"$f":"CONCATENATE(B57462,\",\",C57462)","v":"40340,22721"},40340,22721,"FORMAAL","40340,22721,FORM"]
[{"$f":"CONCATENATE(B57509,\",\",C57509)","v":"40355,24104"},40355,24104,"FORMAAL","40355,24104,FORM"]
[{"$f":"CONCATENATE(B57523,\",\",C57523)","v":"40356,21402"},40356,21402,"FORMAAL","40356,21402,FORM"]
[{"$f":"CONCATENATE(B57554,\",\",C57554)","v":"40363,82000"},40363,82000,"FORMAAL","40363,82000,FORM"]
[{"$f":"CONCATENATE(B57599,\",\",C57599)","v":"40363,82144"},40363,82144,"FORMAAL","40363,82144,FORM"]
[{"$f":"CONCATENATE(B57614,\",\",C57614)","v":"40366,21304"},40366,21304,"FORMAAL","40366,21304,FORM"]
[{"$f":"CONCATENATE(B57645,\",\",C57645)","v":"40370,28001"},40370,28001,"FORMAAL","40370,28001,FORM"]
[{"$f":"CONCATENATE(B57680,\",\",C57680)","v":"40381,21501"},40381,21501,"FORMAAL","40381,21501,FORM"]
[{"$f":"CONCATENATE(B57692,\",\",C57692)","v":"40389,51703"},40389,51703,"FORMAAL","40389,51703,FORM"]
[{"$f":"CONCATENATE(B57737,\",\",C57737)","v":"40393,21601"},40393,21601,"FORMAAL","40393,21601,FORM"]
[{"$f":"CONCATENATE(B57752,\",\",C57752)","v":"40397,21501"},40397,21501,"FORMAAL","40397,21501,FORM"]
[{"$f":"CONCATENATE(B57783,\",\",C57783)","v":"40399,21402"},40399,21402,"FORMAAL","40399,21402,FORM"]
[{"$f":"CONCATENATE(B57828,\",\",C57828)","v":"40403,21303"},40403,21303,"FORMAAL","40403,21303,FORM"]
[{"$f":"CONCATENATE(B57855,\",\",C57855)","v":"40404,95901"},40404,95901,"FORMAAL","40404,95901,FORM"]
[{"$f":"CONCATENATE(B57875,\",\",C57875)","v":"40409,21303"},40409,21303,"FORMAAL","40409,21303,FORM"]
[{"$f":"CONCATENATE(B57920,\",\",C57920)","v":"40419,26101"},40419,26101,"FORMAAL","40419,26101,FORM"]
[{"$f":"CONCATENATE(B57951,\",\",C57951)","v":"40433,61899"},40433,61899,"FORMAAL","40433,61899,FORM"]
[{"$f":"CONCATENATE(B57966,\",\",C57966)","v":"40435,61401"},40435,61401,"FORMAAL","40435,61401,FORM"]
[{"$f":"CONCATENATE(B58011,\",\",C58011)","v":"40454,81401"},40454,81401,"FORMAAL","40454,81401,FORM"]
[{"$f":"CONCATENATE(B58026,\",\",C58026)","v":"40454,82608"},40454,82608,"FORMAAL","40454,82608,FORM"]
[{"$f":"CONCATENATE(B58058,\",\",C58058)","v":"40461,21301"},40461,21301,"FORMAAL","40461,21301,FORM"]
[{"$f":"CONCATENATE(B58089,\",\",C58089)","v":"40464,21301"},40464,21301,"FORMAAL","40464,21301,FORM"]
[{"$f":"CONCATENATE(B58134,\",\",C58134)","v":"40466,95901"},40466,95901,"FORMAAL","40466,95901,FORM"]
[{"$f":"CONCATENATE(B58149,\",\",C58149)","v":"40468,95801"},40468,95801,"FORMAAL","40468,95801,FORM"]
[{"$f":"CONCATENATE(B58180,\",\",C58180)","v":"40474,26103"},40474,26103,"FORMAAL","40474,26103,FORM"]
[{"$f":"CONCATENATE(B58228,\",\",C58228)","v":"40483,67000"},40483,67000,"FORMAAL","1047695"]
[{"$f":"CONCATENATE(B58241,\",\",C58241)","v":"40483,91101"},40483,91101,"FORMAAL","1047695"]
[{"$f":"CONCATENATE(B58272,\",\",C58272)","v":"40494,26102"},40494,26102,"FORMAAL","40494,26102,FORM"]
[{"$f":"CONCATENATE(B58317,\",\",C58317)","v":"40498,21601"},40498,21601,"FORMAAL","40498,21601,FORM"]
[{"$f":"CONCATENATE(B58348,\",\",C58348)","v":"40501,22801"},40501,22801,"FORMAAL","40501,22801,FORM"]
[{"$f":"CONCATENATE(B58363,\",\",C58363)","v":"40510,21302"},40510,21302,"FORMAAL","40510,21302,FORM"]
[{"$f":"CONCATENATE(B58399,\",\",C58399)","v":"40515,21401"},40515,21401,"FORMAAL","40515,21401,FORM"]
[{"$f":"CONCATENATE(B58440,\",\",C58440)","v":"40537,95801"},40537,95801,"FORMAAL","40537,95801,FORM"]
[{"$f":"CONCATENATE(B58455,\",\",C58455)","v":"40540,95901"},40540,95901,"FORMAAL","40540,95901,FORM"]
[{"$f":"CONCATENATE(B58486,\",\",C58486)","v":"40545,95901"},40545,95901,"FORMAAL","40545,95901,FORM"]
[{"$f":"CONCATENATE(B58531,\",\",C58531)","v":"40553,21301"},40553,21301,"FORMAAL","40553,21301,FORM"]
[{"$f":"CONCATENATE(B58543,\",\",C58543)","v":"40553,95901"},40553,95901,"FORMAAL","40553,95901,FORM"]
[{"$f":"CONCATENATE(B58578,\",\",C58578)","v":"40556,26102"},40556,26102,"FORMAAL","40556,26102,FORM"]
[{"$f":"CONCATENATE(B58623,\",\",C58623)","v":"40559,21701"},40559,21701,"FORMAAL","40559,21701,FORM"]
[{"$f":"CONCATENATE(B58638,\",\",C58638)","v":"40561,21601"},40561,21601,"FORMAAL","40561,21601,FORM"]
[{"$f":"CONCATENATE(B58669,\",\",C58669)","v":"40579,26102"},40579,26102,"FORMAAL","1048195"]
[{"$f":"CONCATENATE(B58714,\",\",C58714)","v":"40585,21101"},40585,21101,"FORMAAL","40585,21101,FORM"]
[{"$f":"CONCATENATE(B58718,\",\",C58718)","v":"40585,21304"},40585,21304,"FORMAAL","40585,21304,FORM"]
[{"$f":"CONCATENATE(B58761,\",\",C58761)","v":"40592,54902"},40592,54902,"FORMAAL","40592,54902,FORM"]
[{"$f":"CONCATENATE(B58806,\",\",C58806)","v":"40599,21101"},40599,21101,"FORMAAL","40599,21101,FORM"]
[{"$f":"CONCATENATE(B58807,\",\",C58807)","v":"40599,21201"},40599,21201,"FORMAAL","40599,21201,FORM"]
[{"$f":"CONCATENATE(B58852,\",\",C58852)","v":"40600,84009"},40600,84009,"FORMAAL","1048330"]
[{"$f":"CONCATENATE(B58883,\",\",C58883)","v":"40600,91700"},40600,91700,"FORMAAL","1048330"]
[{"$f":"CONCATENATE(B58920,\",\",C58920)","v":"40601,21301"},40601,21301,"FORMAAL","40601,21301,FORM"]
[{"$f":"CONCATENATE(B58944,\",\",C58944)","v":"40602,21801"},40602,21801,"FORMAAL","40602,21801,FORM"]
[{"$f":"CONCATENATE(B58975,\",\",C58975)","v":"40605,26112"},40605,26112,"FORMAAL","40605,26112,FORM"]
[{"$f":"CONCATENATE(B58990,\",\",C58990)","v":"40612,21801"},40612,21801,"FORMAAL","40612,21801,FORM"]
[{"$f":"CONCATENATE(B59035,\",\",C59035)","v":"40618,21301"},40618,21301,"FORMAAL","40618,21301,FORM"]
[{"$f":"CONCATENATE(B59066,\",\",C59066)","v":"40620,21201"},40620,21201,"FORMAAL","40620,21201,FORM"]
[{"$f":"CONCATENATE(B59091,\",\",C59091)","v":"40622,21701"},40622,21701,"FORMAAL","40622,21701,FORM"]
[{"$f":"CONCATENATE(B59113,\",\",C59113)","v":"40625,24402"},40625,24402,"FORMAAL","40625,24402,FORM"]
[{"$f":"CONCATENATE(B59158,\",\",C59158)","v":"40646,22001"},40646,22001,"FORMAAL","40646,22001,FORM"]
[{"$f":"CONCATENATE(B59173,\",\",C59173)","v":"40648,21501"},40648,21501,"FORMAAL","40648,21501,FORM"]
[{"$f":"CONCATENATE(B59204,\",\",C59204)","v":"40655,21402"},40655,21402,"FORMAAL","40655,21402,FORM"]
[{"$f":"CONCATENATE(B59249,\",\",C59249)","v":"40667,21302"},40667,21302,"FORMAAL","40667,21302,FORM"]
[{"$f":"CONCATENATE(B59262,\",\",C59262)","v":"40675,26102"},40675,26102,"FORMAAL","40675,26102,FORM"]
[{"$f":"CONCATENATE(B59296,\",\",C59296)","v":"40704,21401"},40704,21401,"FORMAAL","40704,21401,FORM"]
[{"$f":"CONCATENATE(B59341,\",\",C59341)","v":"40720,26102"},40720,26102,"FORMAAL","40720,26102,FORM"]
[{"$f":"CONCATENATE(B59372,\",\",C59372)","v":"40727,21701"},40727,21701,"FORMAAL","40727,21701,FORM"]
[{"$f":"CONCATENATE(B59387,\",\",C59387)","v":"40728,21601"},40728,21601,"FORMAAL","40728,21601,FORM"]
[{"$f":"CONCATENATE(B59432,\",\",C59432)","v":"40734,21401"},40734,21401,"FORMAAL","40734,21401,FORM"]
[{"$f":"CONCATENATE(B59468,\",\",C59468)","v":"40748,21501"},40748,21501,"FORMAAL","40748,21501,FORM"]
[{"$f":"CONCATENATE(B59479,\",\",C59479)","v":"40750,21302"},40750,21302,"FORMAAL","40750,21302,FORM"]
[{"$f":"CONCATENATE(B59510,\",\",C59510)","v":"40756,26201"},40756,26201,"FORMAAL","40756,26201,FORM"]
[{"$f":"CONCATENATE(B59555,\",\",C59555)","v":"40780,21501"},40780,21501,"FORMAAL","40780,21501,FORM"]
[{"$f":"CONCATENATE(B59570,\",\",C59570)","v":"40782,21501"},40782,21501,"FORMAAL","40782,21501,FORM"]
[{"$f":"CONCATENATE(B59601,\",\",C59601)","v":"40788,60008"},40788,60008,"FORMAAL","40788,60008,FORM"]
[{"$f":"CONCATENATE(B59639,\",\",C59639)","v":"40800,61100"},40800,61100,"FORMAAL","40800,61100,FORM"]
[{"$f":"CONCATENATE(B59662,\",\",C59662)","v":"40800,92010"},40800,92010,"FORMAAL","40800,92010,FORMAAL"]
[{"$f":"CONCATENATE(B59693,\",\",C59693)","v":"40803,21701"},40803,21701,"FORMAAL","40803,21701,FORM"]
[{"$f":"CONCATENATE(B59738,\",\",C59738)","v":"40806,21601"},40806,21601,"FORMAAL","40806,21601,FORM"]
[{"$f":"CONCATENATE(B59769,\",\",C59769)","v":"40815,21601"},40815,21601,"FORMAAL","40815,21601,FORM"]
[{"$f":"CONCATENATE(B59784,\",\",C59784)","v":"40816,22311"},40816,22311,"FORMAAL","40816,22311,FORM"]
[{"$f":"CONCATENATE(B59810,\",\",C59810)","v":"40816,88107"},40816,88107,"FORMAAL","40816,88107,FORM"]
[{"$f":"CONCATENATE(B59861,\",\",C59861)","v":"40843,26106"},40843,26106,"FORMAAL","40843,26106,FORM"]
[{"$f":"CONCATENATE(B59876,\",\",C59876)","v":"40852,21701"},40852,21701,"FORMAAL","40852,21701,FORM"]
[{"$f":"CONCATENATE(B59921,\",\",C59921)","v":"40891,22112"},40891,22112,"FORMAAL","40891,22112,FORM"]
[{"$f":"CONCATENATE(B59952,\",\",C59952)","v":"40901,21701"},40901,21701,"FORMAAL","40901,21701,FORM"]
[{"$f":"CONCATENATE(B59967,\",\",C59967)","v":"40903,21501"},40903,21501,"FORMAAL","40903,21501,FORM"]
[{"$f":"CONCATENATE(B59985,\",\",C59985)","v":"40905,23201"},40905,23201,"FORMAAL","40905,23201,FORM"]
[{"$f":"CONCATENATE(B60014,\",\",C60014)","v":"40910,29999"},40910,29999,"FORMAAL","40910,29999,FORM"]
[{"$f":"CONCATENATE(B60059,\",\",C60059)","v":"40919,21401"},40919,21401,"FORMAAL","40919,21401,FORM"]
[{"$f":"CONCATENATE(B60090,\",\",C60090)","v":"40921,21304"},40921,21304,"FORMAAL","40921,21304,FORM"]
[{"$f":"CONCATENATE(B60105,\",\",C60105)","v":"40922,21303"},40922,21303,"FORMAAL","40922,21303,FORM"]
[{"$f":"CONCATENATE(B60136,\",\",C60136)","v":"40935,26104"},40935,26104,"FORMAAL","40935,26104,FORM"]
[{"$f":"CONCATENATE(B60187,\",\",C60187)","v":"40942,21302"},40942,21302,"FORMAAL","40942,21302,FORM"]
[{"$f":"CONCATENATE(B60197,\",\",C60197)","v":"40942,21406"},40942,21406,"FORMAAL","40942,21406,FORM"]
[{"$f":"CONCATENATE(B60228,\",\",C60228)","v":"40942,61205"},40942,61205,"FORMAAL","40942,61205,FORM"]
[{"$f":"CONCATENATE(B60273,\",\",C60273)","v":"40950,26102"},40950,26102,"FORMAAL","40950,26102,FORM"]
[{"$f":"CONCATENATE(B60288,\",\",C60288)","v":"40951,23201"},40951,23201,"FORMAAL","40951,23201,FORM"]
[{"$f":"CONCATENATE(B60319,\",\",C60319)","v":"40967,21301"},40967,21301,"FORMAAL","40967,21301,FORM"]
[{"$f":"CONCATENATE(B60358,\",\",C60358)","v":"40976,21501"},40976,21501,"FORMAAL","40976,21501,FORM"]
[{"$f":"CONCATENATE(B60396,\",\",C60396)","v":"40989,66101"},40989,66101,"FORMAAL","40989,66101,FORM"]
[{"$f":"CONCATENATE(B60411,\",\",C60411)","v":"40990,66000"},40990,66000,"FORMAAL","40990,66000,FORM"]
[{"$f":"CONCATENATE(B60456,\",\",C60456)","v":"40994,21701"},40994,21701,"FORMAAL","40994,21701,FORM"]
[{"$f":"CONCATENATE(B60487,\",\",C60487)","v":"40995,82681"},40995,82681,"FORMAAL","40995,82681,FORM"]
[{"$f":"CONCATENATE(B60502,\",\",C60502)","v":"40995,93500"},40995,93500,"FORMAAL","40995,93500,FORM"]
[{"$f":"CONCATENATE(B60533,\",\",C60533)","v":"40997,21303"},40997,21303,"FORMAAL","40997,21303,FORM"]
[{"$f":"CONCATENATE(B60579,\",\",C60579)","v":"41000,21401"},41000,21401,"FORMAAL","41000,21401,FORM"]
[{"$f":"CONCATENATE(B60594,\",\",C60594)","v":"41002,21304"},41002,21304,"FORMAAL","41002,21304,FORM"]
[{"$f":"CONCATENATE(B60625,\",\",C60625)","v":"41006,21302"},41006,21302,"FORMAAL","41006,21302,FORM"]
[{"$f":"CONCATENATE(B60670,\",\",C60670)","v":"41011,21101"},41011,21101,"FORMAAL","41011,21101,FORM"]
[{"$f":"CONCATENATE(B60685,\",\",C60685)","v":"41011,95901"},41011,95901,"FORMAAL","41011,95901,FORM"]
[{"$f":"CONCATENATE(B60735,\",\",C60735)","v":"41030,21701"},41030,21701,"FORMAAL","41030,21701,FORM"]
[{"$f":"CONCATENATE(B60762,\",\",C60762)","v":"41047,21401"},41047,21401,"FORMAAL","41047,21401,FORM"]
[{"$f":"CONCATENATE(B60793,\",\",C60793)","v":"41053,21303"},41053,21303,"FORMAAL","41053,21303,FORM"]
[{"$f":"CONCATENATE(B60808,\",\",C60808)","v":"41056,21302"},41056,21302,"FORMAAL","41056,21302,FORM"]
[{"$f":"CONCATENATE(B60853,\",\",C60853)","v":"41059,46101"},41059,46101,"FORMAAL","41059,46101,FORM"]
[{"$f":"CONCATENATE(B60884,\",\",C60884)","v":"41075,21601"},41075,21601,"FORMAAL","41075,21601,FORM"]
[{"$f":"CONCATENATE(B60906,\",\",C60906)","v":"41077,21101"},41077,21101,"FORMAAL","41077,21101,FORM"]
[{"$f":"CONCATENATE(B60945,\",\",C60945)","v":"41079,23201"},41079,23201,"FORMAAL","41079,23201,FORM"]
[{"$f":"CONCATENATE(B60976,\",\",C60976)","v":"41097,21402"},41097,21402,"FORMAAL","41097,21402,FORM"]
[{"$f":"CONCATENATE(B60991,\",\",C60991)","v":"41099,21401"},41099,21401,"FORMAAL","41099,21401,FORM"]
[{"$f":"CONCATENATE(B61022,\",\",C61022)","v":"41102,21304"},41102,21304,"FORMAAL","41102,21304,FORM"]
[{"$f":"CONCATENATE(B61067,\",\",C61067)","v":"41108,21302"},41108,21302,"FORMAAL","41108,21302,FORM"]
[{"$f":"CONCATENATE(B61077,\",\",C61077)","v":"41111,21101"},41111,21101,"FORMAAL","41111,21101,FORM"]
[{"$f":"CONCATENATE(B61114,\",\",C61114)","v":"41121,24302"},41121,24302,"FORMAAL","41121,24302,FORM"]
[{"$f":"CONCATENATE(B61159,\",\",C61159)","v":"41128,21302"},41128,21302,"FORMAAL","41128,21302,FORM"]
[{"$f":"CONCATENATE(B61160,\",\",C61160)","v":"41128,21303"},41128,21303,"FORMAAL","41128,21303,FORM"]
[{"$f":"CONCATENATE(B61205,\",\",C61205)","v":"41131,25001"},41131,25001,"FORMAAL","41131,25001,FORM"]
[{"$f":"CONCATENATE(B61220,\",\",C61220)","v":"41132,21801"},41132,21801,"FORMAAL","41132,21801,FORM"]
[{"$f":"CONCATENATE(B61252,\",\",C61252)","v":"41150,21401"},41150,21401,"FORMAAL","41150,21401,FORM"]
[{"$f":"CONCATENATE(B61297,\",\",C61297)","v":"41154,41400"},41154,41400,"FORMAAL","41154,41400,FORM"]
[{"$f":"CONCATENATE(B61312,\",\",C61312)","v":"41154,61401"},41154,61401,"FORMAAL","41154,61401,FORM"]
[{"$f":"CONCATENATE(B61343,\",\",C61343)","v":"41155,21501"},41155,21501,"FORMAAL","41155,21501,FORM"]
[{"$f":"CONCATENATE(B61388,\",\",C61388)","v":"41159,21101"},41159,21101,"FORMAAL","41159,21101,FORM"]
[{"$f":"CONCATENATE(B61419,\",\",C61419)","v":"41161,21301"},41161,21301,"FORMAAL","41161,21301,FORM"]
[{"$f":"CONCATENATE(B61454,\",\",C61454)","v":"41172,21401"},41172,21401,"FORMAAL","41172,21401,FORM"]
[{"$f":"CONCATENATE(B61480,\",\",C61480)","v":"41182,21701"},41182,21701,"FORMAAL","41182,21701,FORM"]
[{"$f":"CONCATENATE(B61511,\",\",C61511)","v":"41185,21601"},41185,21601,"FORMAAL","41185,21601,FORM"]
[{"$f":"CONCATENATE(B61526,\",\",C61526)","v":"41186,21601"},41186,21601,"FORMAAL","41186,21601,FORM"]
[{"$f":"CONCATENATE(B61557,\",\",C61557)","v":"41189,21701"},41189,21701,"FORMAAL","41189,21701,FORM"]
[{"$f":"CONCATENATE(B61602,\",\",C61602)","v":"41209,21303"},41209,21303,"FORMAAL","41209,21303,FORM"]
[{"$f":"CONCATENATE(B61625,\",\",C61625)","v":"41213,21101"},41213,21101,"FORMAAL","41213,21101,FORM"]
[{"$f":"CONCATENATE(B61649,\",\",C61649)","v":"41214,21701"},41214,21701,"FORMAAL","41214,21701,FORM"]
[{"$f":"CONCATENATE(B61694,\",\",C61694)","v":"41217,21401"},41217,21401,"FORMAAL","41217,21401,FORM"]
[{"$f":"CONCATENATE(B61709,\",\",C61709)","v":"41218,21304"},41218,21304,"FORMAAL","41218,21304,FORM"]
[{"$f":"CONCATENATE(B61740,\",\",C61740)","v":"41237,21401"},41237,21401,"FORMAAL","41237,21401,FORM"]
[{"$f":"CONCATENATE(B61785,\",\",C61785)","v":"41240,21501"},41240,21501,"FORMAAL","41240,21501,FORM"]
[{"$f":"CONCATENATE(B61800,\",\",C61800)","v":"41245,21501"},41245,21501,"FORMAAL","41245,21501,FORM"]
[{"$f":"CONCATENATE(B61832,\",\",C61832)","v":"41254,61899"},41254,61899,"FORMAAL","41254,61899,FORM"]
[{"$f":"CONCATENATE(B61877,\",\",C61877)","v":"41259,21601"},41259,21601,"FORMAAL","41259,21601,FORM"]
[{"$f":"CONCATENATE(B61908,\",\",C61908)","v":"41267,21501"},41267,21501,"FORMAAL","41267,21501,FORM"]
[{"$f":"CONCATENATE(B61923,\",\",C61923)","v":"41278,61601"},41278,61601,"FORMAAL","41278,61601,FORM"]
[{"$f":"CONCATENATE(B61968,\",\",C61968)","v":"41283,95777"},41283,95777,"FORMAAL","41283,95999,FORM"]
[{"$f":"CONCATENATE(B62002,\",\",C62002)","v":"41290,23000"},41290,23000,"FORMAAL","41290,23000,FORM"]
[{"$f":"CONCATENATE(B62015,\",\",C62015)","v":"41295,26101"},41295,26101,"FORMAAL","41295,26101,FORM"]
[{"$f":"CONCATENATE(B62046,\",\",C62046)","v":"41343,26104"},41343,26104,"FORMAAL","41343,26104,FORM"]
[{"$f":"CONCATENATE(B62091,\",\",C62091)","v":"41380,66000"},41380,66000,"FORMAAL","41380,66000,FORM"]
[{"$f":"CONCATENATE(B62106,\",\",C62106)","v":"41417,89502"},41417,89502,"FORMAAL","41417,89502,FORM"]
[{"$f":"CONCATENATE(B62137,\",\",C62137)","v":"41421,22811"},41421,22811,"FORMAAL","41421,22811,FORM"]
[{"$f":"CONCATENATE(B62173,\",\",C62173)","v":"900073,53439"},900073,53439,"FORMAAL","1011555"]
[{"$f":"CONCATENATE(B62214,\",\",C62214)","v":"900073,53530"},900073,53530,"FORMAAL","900073,53530,FORM"]
[{"$f":"CONCATENATE(B62229,\",\",C62229)","v":"900398,53429"},900398,53429,"FORMAAL","1011565"]
[{"$f":"CONCATENATE(B62274,\",\",C62274)","v":"900398,53524"},900398,53524,"FORMAAL","900398,53524,FORM"]
[{"$f":"CONCATENATE(B62305,\",\",C62305)","v":"900491,89655"},900491,89655,"FORMAAL","1011101"]
[{"$f":"CONCATENATE(B62317,\",\",C62317)","v":"901201,22404"},901201,22404,"FORMAAL","901201,22404,FORM"]
[{"$f":"CONCATENATE(B62337,\",\",C62337)","v":"901201,92851"},901201,92851,"FORMAAL","901201,92851,FORM"]
[{"$f":"CONCATENATE(B62338,\",\",C62338)","v":"901201,92852"},901201,92852,"FORMAAL","901201,92852,FORM"]
[{"$f":"CONCATENATE(B62339,\",\",C62339)","v":"901201,92853"},901201,92853,"FORMAAL","901201,92853,FORM"]
[{"$f":"CONCATENATE(B62340,\",\",C62340)","v":"901201,92854"},901201,92854,"FORMAAL","901201,92854,FORM"]
[{"$f":"CONCATENATE(B62341,\",\",C62341)","v":"901201,92855"},901201,92855,"FORMAAL","901201,92855,FORM"]
[{"$f":"CONCATENATE(B62342,\",\",C62342)","v":"901201,92856"},901201,92856,"FORMAAL","901201,92856,FORM"]
[{"$f":"CONCATENATE(B62343,\",\",C62343)","v":"901201,92857"},901201,92857,"FORMAAL","901201,92857,FORM"]
[{"$f":"CONCATENATE(B62344,\",\",C62344)","v":"901251,77777"},901251,77777,"FORMAAL","1016866"]
[{"$f":"CONCATENATE(B62345,\",\",C62345)","v":"901390,81101"},901390,81101,"FORMAAL","901390,81101,FORM"]
[{"$f":"CONCATENATE(B62346,\",\",C62346)","v":"901390,81111"},901390,81111,"FORMAAL","901390,81111,FORM"]
[{"$f":"CONCATENATE(B62347,\",\",C62347)","v":"901390,81201"},901390,81201,"FORMAAL","901390,81201,FORM"]
[{"$f":"CONCATENATE(B62348,\",\",C62348)","v":"901390,81401"},901390,81401,"FORMAAL","901390,81401,FORM"]
[{"$f":"CONCATENATE(B62349,\",\",C62349)","v":"901390,81501"},901390,81501,"FORMAAL","901390,81501,FORM"]
[{"$f":"CONCATENATE(B62350,\",\",C62350)","v":"901390,82997"},901390,82997,"FORMAAL","901390,82997,FORM"]
[{"$f":"CONCATENATE(B62351,\",\",C62351)","v":"901390,95778"},901390,95778,"FORMAAL","901390,95778,FORM"]
[{"$f":"CONCATENATE(B62352,\",\",C62352)","v":"901401,81100"},901401,81100,"FORMAAL","901401,81100,FORM"]
[{"$f":"CONCATENATE(B62353,\",\",C62353)","v":"901401,81111"},901401,81111,"FORMAAL","901401,81111,FORM"]
[{"$f":"CONCATENATE(B62354,\",\",C62354)","v":"901401,81301"},901401,81301,"FORMAAL","901401,81301,FORM"]
[{"$f":"CONCATENATE(B62355,\",\",C62355)","v":"901401,81401"},901401,81401,"FORMAAL","901401,81401,FORM"]
[{"$f":"CONCATENATE(B62356,\",\",C62356)","v":"901401,81501"},901401,81501,"FORMAAL","901401,81501,FORM"]
[{"$f":"CONCATENATE(B62357,\",\",C62357)","v":"901401,81601"},901401,81601,"FORMAAL","901401,81601,FORM"]
[{"$f":"CONCATENATE(B62358,\",\",C62358)","v":"901401,95778"},901401,95778,"FORMAAL","901401,95778,FORM"]
[{"$f":"CONCATENATE(B62359,\",\",C62359)","v":"901502,81111"},901502,81111,"FORMAAL","901502,81111,FORM"]
[{"$f":"CONCATENATE(B62360,\",\",C62360)","v":"901502,81301"},901502,81301,"FORMAAL","901502,81301,FORM"]
[{"$f":"CONCATENATE(B62361,\",\",C62361)","v":"901502,81601"},901502,81601,"FORMAAL","901502,81601,FORM"]
[{"$f":"CONCATENATE(B62362,\",\",C62362)","v":"901502,95778"},901502,95778,"FORMAAL","901502,95778,FORM"]
[{"$f":"CONCATENATE(B62363,\",\",C62363)","v":"902360,81101"},902360,81101,"FORMAAL","902360,81101,FORM"]
[{"$f":"CONCATENATE(B62364,\",\",C62364)","v":"902360,81111"},902360,81111,"FORMAAL","902360,81111,FORM"]
[{"$f":"CONCATENATE(B62365,\",\",C62365)","v":"902360,81201"},902360,81201,"FORMAAL","902360,81201,FORM"]
[{"$f":"CONCATENATE(B62366,\",\",C62366)","v":"902360,81301"},902360,81301,"FORMAAL","902360,81301,FORM"]
[{"$f":"CONCATENATE(B62367,\",\",C62367)","v":"902360,81401"},902360,81401,"FORMAAL","902360,81401,FORM"]
[{"$f":"CONCATENATE(B62368,\",\",C62368)","v":"902360,81501"},902360,81501,"FORMAAL","902360,81501,FORM"]
[{"$f":"CONCATENATE(B62369,\",\",C62369)","v":"902360,81601"},902360,81601,"FORMAAL","902360,81601,FORM"]
[{"$f":"CONCATENATE(B62370,\",\",C62370)","v":"902360,88888"},902360,88888,"FORMAAL","902360,88888,FORM"]
[{"$f":"CONCATENATE(B62371,\",\",C62371)","v":"902360,95778"},902360,95778,"FORMAAL","902360,95778,FORM"]
[{"$f":"CONCATENATE(B62372,\",\",C62372)","v":"902528,81201"},902528,81201,"FORMAAL","902528,81201,FORM"]
[{"$f":"CONCATENATE(B62373,\",\",C62373)","v":"902528,81301"},902528,81301,"FORMAAL","902528,81301,FORM"]
[{"$f":"CONCATENATE(B62374,\",\",C62374)","v":"902528,81501"},902528,81501,"FORMAAL","902528,81501,FORM"]
[{"$f":"CONCATENATE(B62375,\",\",C62375)","v":"902528,81601"},902528,81601,"FORMAAL","902528,81601,FORM"]
[{"$f":"CONCATENATE(B62376,\",\",C62376)","v":"902528,95778"},902528,95778,"FORMAAL","902528,95778,FORM"]
[{"$f":"CONCATENATE(B62377,\",\",C62377)","v":"903238,81111"},903238,81111,"FORMAAL","903238,81111,FORM"]
[{"$f":"CONCATENATE(B62378,\",\",C62378)","v":"903238,81501"},903238,81501,"FORMAAL","903238,81501,FORM"]
[{"$f":"CONCATENATE(B62379,\",\",C62379)","v":"903238,95778"},903238,95778,"FORMAAL","903238,95778,FORM"]
[{"$f":"CONCATENATE(B62380,\",\",C62380)","v":"903369,81101"},903369,81101,"FORMAAL","903369,81101,FORM"]
[{"$f":"CONCATENATE(B62381,\",\",C62381)","v":"903369,81111"},903369,81111,"FORMAAL","903369,81111,FORM"]
[{"$f":"CONCATENATE(B62382,\",\",C62382)","v":"903369,81201"},903369,81201,"FORMAAL","903369,81201,FORM"]
[{"$f":"CONCATENATE(B62383,\",\",C62383)","v":"903369,81301"},903369,81301,"FORMAAL","903369,81301,FORM"]
[{"$f":"CONCATENATE(B62384,\",\",C62384)","v":"903369,81401"},903369,81401,"FORMAAL","903369,81401,FORM"]
[{"$f":"CONCATENATE(B62385,\",\",C62385)","v":"903369,81501"},903369,81501,"FORMAAL","903369,81501,FORM"]
[{"$f":"CONCATENATE(B62386,\",\",C62386)","v":"903369,81601"},903369,81601,"FORMAAL","903369,81601,FORM"]
[{"$f":"CONCATENATE(B62387,\",\",C62387)","v":"903369,95778"},903369,95778,"FORMAAL","903369,95778,FORM"]
[{"$f":"CONCATENATE(B62388,\",\",C62388)","v":"904289,83145"},904289,83145,"FORMAAL","1009641"]
[{"$f":"CONCATENATE(B62389,\",\",C62389)","v":"904289,83146"},904289,83146,"FORMAAL","1009640"]
[{"$f":"CONCATENATE(B62390,\",\",C62390)","v":"904289,83147"},904289,83147,"FORMAAL","1009642"]
[{"$f":"CONCATENATE(B62391,\",\",C62391)","v":"904289,83148"},904289,83148,"FORMAAL","1009643"]
[{"$f":"CONCATENATE(B62392,\",\",C62392)","v":"904289,83149"},904289,83149,"FORMAAL","1009644"]
[{"$f":"CONCATENATE(B62393,\",\",C62393)","v":"904289,83150"},904289,83150,"FORMAAL","1009645"]
[{"$f":"CONCATENATE(B62394,\",\",C62394)","v":"904289,83151"},904289,83151,"FORMAAL","1009646"]
[{"$f":"CONCATENATE(B62395,\",\",C62395)","v":"904289,83152"},904289,83152,"FORMAAL","1009647"]
[{"$f":"CONCATENATE(B62396,\",\",C62396)","v":"904289,83153"},904289,83153,"FORMAAL","1009648"]
[{"$f":"CONCATENATE(B62397,\",\",C62397)","v":"904289,83154"},904289,83154,"FORMAAL","1009649"]
[{"$f":"CONCATENATE(B62398,\",\",C62398)","v":"904289,83155"},904289,83155,"FORMAAL","1009650"]
[{"$f":"CONCATENATE(B62399,\",\",C62399)","v":"904289,83156"},904289,83156,"FORMAAL","1009651"]
[{"$f":"CONCATENATE(B62400,\",\",C62400)","v":"904289,83157"},904289,83157,"FORMAAL","1009652"]
[{"$f":"CONCATENATE(B62401,\",\",C62401)","v":"904289,83158"},904289,83158,"FORMAAL","1009653"]
[{"$f":"CONCATENATE(B62402,\",\",C62402)","v":"904289,83159"},904289,83159,"FORMAAL","1009654"]
[{"$f":"CONCATENATE(B62403,\",\",C62403)","v":"904289,83160"},904289,83160,"FORMAAL","1009655"]
[{"$f":"CONCATENATE(B62404,\",\",C62404)","v":"904289,83250"},904289,83250,"FORMAAL","1009656"]
[{"$f":"CONCATENATE(B62405,\",\",C62405)","v":"904289,83260"},904289,83260,"FORMAAL","1009657"]
[{"$f":"CONCATENATE(B62406,\",\",C62406)","v":"904289,83300"},904289,83300,"FORMAAL","1009658"]
[{"$f":"CONCATENATE(B62407,\",\",C62407)","v":"904289,83350"},904289,83350,"FORMAAL","1009659"]
[{"$f":"CONCATENATE(B62408,\",\",C62408)","v":"904289,83351"},904289,83351,"FORMAAL","1009637"]
[{"$f":"CONCATENATE(B62409,\",\",C62409)","v":"904289,83352"},904289,83352,"FORMAAL","1009638"]
[{"$f":"CONCATENATE(B62410,\",\",C62410)","v":"904289,83353"},904289,83353,"FORMAAL","1009639"]
[{"$f":"CONCATENATE(B62411,\",\",C62411)","v":"904289,83354"},904289,83354,"FORMAAL","904289,83354,FORM"]
[{"$f":"CONCATENATE(B62412,\",\",C62412)","v":"904289,83355"},904289,83355,"FORMAAL","904289,83355,FORM"]
[{"$f":"CONCATENATE(B62413,\",\",C62413)","v":"904289,83356"},904289,83356,"FORMAAL","904289,83356,FORM"]
[{"$f":"CONCATENATE(B62414,\",\",C62414)","v":"904289,83357"},904289,83357,"FORMAAL","904289,83357,FORM"]
[{"$f":"CONCATENATE(B62415,\",\",C62415)","v":"904289,83358"},904289,83358,"FORMAAL","904289,83358,FORM"]
[{"$f":"CONCATENATE(B62416,\",\",C62416)","v":"904289,83359"},904289,83359,"FORMAAL","904289,83359,FORM"]
[{"$f":"CONCATENATE(B62417,\",\",C62417)","v":"904289,83360"},904289,83360,"FORMAAL","904289,83360,FORM"]
[{"$f":"CONCATENATE(B62418,\",\",C62418)","v":"904414,81111"},904414,81111,"FORMAAL","904414,81111,FORM"]
[{"$f":"CONCATENATE(B62419,\",\",C62419)","v":"904414,81201"},904414,81201,"FORMAAL","904414,81201,FORM"]
[{"$f":"CONCATENATE(B62420,\",\",C62420)","v":"904414,81301"},904414,81301,"FORMAAL","904414,81301,FORM"]
[{"$f":"CONCATENATE(B62421,\",\",C62421)","v":"904414,81501"},904414,81501,"FORMAAL","904414,81501,FORM"]
[{"$f":"CONCATENATE(B62422,\",\",C62422)","v":"904414,81601"},904414,81601,"FORMAAL","904414,81601,FORM"]
[{"$f":"CONCATENATE(B62423,\",\",C62423)","v":"904414,82888"},904414,82888,"FORMAAL","904414,82888,FORM"]
[{"$f":"CONCATENATE(B62424,\",\",C62424)","v":"904414,88887"},904414,88887,"FORMAAL","904414,88887,FORM"]
[{"$f":"CONCATENATE(B62425,\",\",C62425)","v":"904414,88888"},904414,88888,"FORMAAL","904414,88888,FORM"]
[{"$f":"CONCATENATE(B62426,\",\",C62426)","v":"904414,95778"},904414,95778,"FORMAAL","904414,95778,FORM"]
[{"$f":"CONCATENATE(B62427,\",\",C62427)","v":"904585,81101"},904585,81101,"FORMAAL","904585,81101,FORM"]
[{"$f":"CONCATENATE(B62428,\",\",C62428)","v":"904585,81501"},904585,81501,"FORMAAL","904585,81501,FORM"]
[{"$f":"CONCATENATE(B62429,\",\",C62429)","v":"904585,95778"},904585,95778,"FORMAAL","904585,95778,FORM"]
[{"$f":"CONCATENATE(B62430,\",\",C62430)","v":"904730,81111"},904730,81111,"FORMAAL","904730,81111,FORM"]
[{"$f":"CONCATENATE(B62431,\",\",C62431)","v":"904730,81201"},904730,81201,"FORMAAL","904730,81201,FORM"]
[{"$f":"CONCATENATE(B62432,\",\",C62432)","v":"904730,81301"},904730,81301,"FORMAAL","904730,81301,FORM"]
[{"$f":"CONCATENATE(B62433,\",\",C62433)","v":"904730,81401"},904730,81401,"FORMAAL","904730,81401,FORM"]
[{"$f":"CONCATENATE(B62434,\",\",C62434)","v":"904730,81501"},904730,81501,"FORMAAL","904730,81501,FORM"]
[{"$f":"CONCATENATE(B62435,\",\",C62435)","v":"904730,81601"},904730,81601,"FORMAAL","904730,81601,FORM"]
[{"$f":"CONCATENATE(B62436,\",\",C62436)","v":"904730,95778"},904730,95778,"FORMAAL","904730,95778,FORM"]
[{"$f":"CONCATENATE(B62437,\",\",C62437)","v":"905001,81101"},905001,81101,"FORMAAL","905001,81101,FORM"]
[{"$f":"CONCATENATE(B62438,\",\",C62438)","v":"905001,81111"},905001,81111,"FORMAAL","905001,81111,FORM"]
[{"$f":"CONCATENATE(B62439,\",\",C62439)","v":"905001,81201"},905001,81201,"FORMAAL","905001,81201,FORM"]
[{"$f":"CONCATENATE(B62440,\",\",C62440)","v":"905001,81301"},905001,81301,"FORMAAL","905001,81301,FORM"]
[{"$f":"CONCATENATE(B62441,\",\",C62441)","v":"905001,81401"},905001,81401,"FORMAAL","905001,81401,FORM"]
[{"$f":"CONCATENATE(B62442,\",\",C62442)","v":"905001,81601"},905001,81601,"FORMAAL","905001,81601,FORM"]
[{"$f":"CONCATENATE(B62443,\",\",C62443)","v":"905001,88888"},905001,88888,"FORMAAL","905001,88888,FORM"]
[{"$f":"CONCATENATE(B62444,\",\",C62444)","v":"905001,95778"},905001,95778,"FORMAAL","905001,95778,FORM"]
[{"$f":"CONCATENATE(B62445,\",\",C62445)","v":"905249,81101"},905249,81101,"FORMAAL","905249,81101,FORM"]
[{"$f":"CONCATENATE(B62446,\",\",C62446)","v":"905249,81111"},905249,81111,"FORMAAL","905249,81111,FORM"]
[{"$f":"CONCATENATE(B62447,\",\",C62447)","v":"905249,81201"},905249,81201,"FORMAAL","905249,81201,FORM"]
[{"$f":"CONCATENATE(B62448,\",\",C62448)","v":"905249,81301"},905249,81301,"FORMAAL","905249,81301,FORM"]
[{"$f":"CONCATENATE(B62449,\",\",C62449)","v":"905249,81401"},905249,81401,"FORMAAL","905249,81401,FORM"]
[{"$f":"CONCATENATE(B62450,\",\",C62450)","v":"905249,81501"},905249,81501,"FORMAAL","905249,81501,FORM"]
[{"$f":"CONCATENATE(B62451,\",\",C62451)","v":"905249,81601"},905249,81601,"FORMAAL","905249,81601,FORM"]
[{"$f":"CONCATENATE(B62452,\",\",C62452)","v":"905249,88888"},905249,88888,"FORMAAL","905249,88888,FORM"]
[{"$f":"CONCATENATE(B62453,\",\",C62453)","v":"905249,95778"},905249,95778,"FORMAAL","905249,95778,FORM"]
[{"$f":"CONCATENATE(B62454,\",\",C62454)","v":"905263,81101"},905263,81101,"FORMAAL","905263,81101,FORM"]
[{"$f":"CONCATENATE(B62455,\",\",C62455)","v":"905263,81111"},905263,81111,"FORMAAL","905263,81111,FORM"]
[{"$f":"CONCATENATE(B62456,\",\",C62456)","v":"905263,81201"},905263,81201,"FORMAAL","905263,81201,FORM"]
[{"$f":"CONCATENATE(B62457,\",\",C62457)","v":"905263,81301"},905263,81301,"FORMAAL","905263,81301,FORM"]
[{"$f":"CONCATENATE(B62458,\",\",C62458)","v":"905263,81401"},905263,81401,"FORMAAL","905263,81401,FORM"]
[{"$f":"CONCATENATE(B62459,\",\",C62459)","v":"905263,81501"},905263,81501,"FORMAAL","905263,81501,FORM"]
[{"$f":"CONCATENATE(B62460,\",\",C62460)","v":"905263,81601"},905263,81601,"FORMAAL","905263,81601,FORM"]
[{"$f":"CONCATENATE(B62461,\",\",C62461)","v":"905263,88888"},905263,88888,"FORMAAL","905263,88888,FORM"]
[{"$f":"CONCATENATE(B62462,\",\",C62462)","v":"905263,95778"},905263,95778,"FORMAAL","905263,95778,FORM"]
[{"$f":"CONCATENATE(B62463,\",\",C62463)","v":"905433,81101"},905433,81101,"FORMAAL","905433,81101,FORM"]
[{"$f":"CONCATENATE(B62464,\",\",C62464)","v":"905433,81111"},905433,81111,"FORMAAL","905433,81111,FORM"]
[{"$f":"CONCATENATE(B62465,\",\",C62465)","v":"905433,81201"},905433,81201,"FORMAAL","905433,81201,FORM"]
[{"$f":"CONCATENATE(B62466,\",\",C62466)","v":"905433,81301"},905433,81301,"FORMAAL","905433,81301,FORM"]
[{"$f":"CONCATENATE(B62467,\",\",C62467)","v":"905433,81401"},905433,81401,"FORMAAL","905433,81401,FORM"]
[{"$f":"CONCATENATE(B62468,\",\",C62468)","v":"905433,81501"},905433,81501,"FORMAAL","905433,81501,FORM"]
[{"$f":"CONCATENATE(B62469,\",\",C62469)","v":"905433,81601"},905433,81601,"FORMAAL","905433,81601,FORM"]
[{"$f":"CONCATENATE(B62470,\",\",C62470)","v":"905433,95778"},905433,95778,"FORMAAL","905433,95778,FORM"]
[{"$f":"CONCATENATE(B62471,\",\",C62471)","v":"905989,81101"},905989,81101,"FORMAAL","905989,81101,FORM"]
[{"$f":"CONCATENATE(B62472,\",\",C62472)","v":"905989,81111"},905989,81111,"FORMAAL","905989,81111,FORM"]
[{"$f":"CONCATENATE(B62473,\",\",C62473)","v":"905989,81201"},905989,81201,"FORMAAL","905989,81201,FORM"]
[{"$f":"CONCATENATE(B62474,\",\",C62474)","v":"905989,81301"},905989,81301,"FORMAAL","905989,81301,FORM"]
[{"$f":"CONCATENATE(B62475,\",\",C62475)","v":"905989,81401"},905989,81401,"FORMAAL","905989,81401,FORM"]
[{"$f":"CONCATENATE(B62476,\",\",C62476)","v":"905989,81501"},905989,81501,"FORMAAL","905989,81501,FORM"]
[{"$f":"CONCATENATE(B62477,\",\",C62477)","v":"905989,81601"},905989,81601,"FORMAAL","905989,81601,FORM"]
[{"$f":"CONCATENATE(B62478,\",\",C62478)","v":"905989,88888"},905989,88888,"FORMAAL","905989,88888,FORM"]
[{"$f":"CONCATENATE(B62479,\",\",C62479)","v":"905989,95778"},905989,95778,"FORMAAL","905989,95778,FORM"]
[{"$f":"CONCATENATE(B62480,\",\",C62480)","v":"906146,81101"},906146,81101,"FORMAAL","906146,81101,FORM"]
[{"$f":"CONCATENATE(B62481,\",\",C62481)","v":"906146,81111"},906146,81111,"FORMAAL","906146,81111,FORM"]
[{"$f":"CONCATENATE(B62482,\",\",C62482)","v":"906146,81201"},906146,81201,"FORMAAL","906146,81201,FORM"]
[{"$f":"CONCATENATE(B62483,\",\",C62483)","v":"906146,81301"},906146,81301,"FORMAAL","906146,81301,FORM"]
[{"$f":"CONCATENATE(B62484,\",\",C62484)","v":"906146,81401"},906146,81401,"FORMAAL","906146,81401,FORM"]
[{"$f":"CONCATENATE(B62485,\",\",C62485)","v":"906146,81501"},906146,81501,"FORMAAL","906146,81501,FORM"]
[{"$f":"CONCATENATE(B62486,\",\",C62486)","v":"906146,81601"},906146,81601,"FORMAAL","906146,81601,FORM"]
[{"$f":"CONCATENATE(B62487,\",\",C62487)","v":"906146,88888"},906146,88888,"FORMAAL","906146,88888,FORM"]
[{"$f":"CONCATENATE(B62488,\",\",C62488)","v":"906146,95778"},906146,95778,"FORMAAL","906146,95778,FORM"]
[{"$f":"CONCATENATE(B62489,\",\",C62489)","v":"906421,56101"},906421,56101,"FORMAAL","1016946"]
[{"$f":"CONCATENATE(B62490,\",\",C62490)","v":"906421,56201"},906421,56201,"FORMAAL","1013775"]
[{"$f":"CONCATENATE(B62491,\",\",C62491)","v":"906421,56202"},906421,56202,"FORMAAL","1013776"]
[{"$f":"CONCATENATE(B62492,\",\",C62492)","v":"906421,56211"},906421,56211,"FORMAAL","1013777"]
[{"$f":"CONCATENATE(B62493,\",\",C62493)","v":"906421,56221"},906421,56221,"FORMAAL","1013778"]
[{"$f":"CONCATENATE(B62494,\",\",C62494)","v":"906421,56301"},906421,56301,"FORMAAL","1013779"]
[{"$f":"CONCATENATE(B62495,\",\",C62495)","v":"906421,56302"},906421,56302,"FORMAAL","1013780"]
[{"$f":"CONCATENATE(B62496,\",\",C62496)","v":"906421,56303"},906421,56303,"FORMAAL","1013781"]
[{"$f":"CONCATENATE(B62497,\",\",C62497)","v":"906421,56311"},906421,56311,"FORMAAL","1013782"]
[{"$f":"CONCATENATE(B62498,\",\",C62498)","v":"906421,56312"},906421,56312,"FORMAAL","1013783"]
[{"$f":"CONCATENATE(B62499,\",\",C62499)","v":"906421,56321"},906421,56321,"FORMAAL","1013784"]
[{"$f":"CONCATENATE(B62500,\",\",C62500)","v":"906421,56322"},906421,56322,"FORMAAL","1013785"]
[{"$f":"CONCATENATE(B62501,\",\",C62501)","v":"906421,56323"},906421,56323,"FORMAAL","1013786"]
[{"$f":"CONCATENATE(B62502,\",\",C62502)","v":"906421,56324"},906421,56324,"FORMAAL","1013787"]
[{"$f":"CONCATENATE(B62503,\",\",C62503)","v":"906421,56601"},906421,56601,"FORMAAL","1013788"]
[{"$f":"CONCATENATE(B62504,\",\",C62504)","v":"906421,56898"},906421,56898,"FORMAAL","1013789"]
[{"$f":"CONCATENATE(B62505,\",\",C62505)","v":"906421,77777"},906421,77777,"FORMAAL","1013790"]
[{"$f":"CONCATENATE(B62506,\",\",C62506)","v":"906421,87050"},906421,87050,"FORMAAL","1013791"]
[{"$f":"CONCATENATE(B62507,\",\",C62507)","v":"906421,87108"},906421,87108,"FORMAAL","1013792"]
[{"$f":"CONCATENATE(B62508,\",\",C62508)","v":"906421,87111"},906421,87111,"FORMAAL","1013793"]
[{"$f":"CONCATENATE(B62509,\",\",C62509)","v":"906421,87113"},906421,87113,"FORMAAL","1013794"]
[{"$f":"CONCATENATE(B62510,\",\",C62510)","v":"906421,88810"},906421,88810,"FORMAAL","1016947"]
[{"$f":"CONCATENATE(B62511,\",\",C62511)","v":"906421,88888"},906421,88888,"FORMAAL","1013795"]
[{"$f":"CONCATENATE(B62512,\",\",C62512)","v":"906421,89303"},906421,89303,"FORMAAL","1013796"]
[{"$f":"CONCATENATE(B62513,\",\",C62513)","v":"906421,89401"},906421,89401,"FORMAAL","1016948"]
[{"$f":"CONCATENATE(B62514,\",\",C62514)","v":"906421,89402"},906421,89402,"FORMAAL","1013797"]
[{"$f":"CONCATENATE(B62515,\",\",C62515)","v":"906421,89403"},906421,89403,"FORMAAL","1013798"]
[{"$f":"CONCATENATE(B62516,\",\",C62516)","v":"906421,89404"},906421,89404,"FORMAAL","1013799"]
[{"$f":"CONCATENATE(B62517,\",\",C62517)","v":"906421,89405"},906421,89405,"FORMAAL","1013800"]
[{"$f":"CONCATENATE(B62518,\",\",C62518)","v":"906421,89406"},906421,89406,"FORMAAL","1013801"]
[{"$f":"CONCATENATE(B62519,\",\",C62519)","v":"906421,89407"},906421,89407,"FORMAAL","1013802"]
[{"$f":"CONCATENATE(B62520,\",\",C62520)","v":"906421,89408"},906421,89408,"FORMAAL","1013803"]
[{"$f":"CONCATENATE(B62521,\",\",C62521)","v":"906421,89409"},906421,89409,"FORMAAL","1013804"]
[{"$f":"CONCATENATE(B62522,\",\",C62522)","v":"906421,89410"},906421,89410,"FORMAAL","1013805"]
[{"$f":"CONCATENATE(B62523,\",\",C62523)","v":"906421,89411"},906421,89411,"FORMAAL","1013806"]
[{"$f":"CONCATENATE(B62524,\",\",C62524)","v":"906421,89412"},906421,89412,"FORMAAL","1013807"]
[{"$f":"CONCATENATE(B62525,\",\",C62525)","v":"906421,89413"},906421,89413,"FORMAAL","1013808"]
[{"$f":"CONCATENATE(B62526,\",\",C62526)","v":"906421,89414"},906421,89414,"FORMAAL","1013809"]
[{"$f":"CONCATENATE(B62527,\",\",C62527)","v":"906421,89415"},906421,89415,"FORMAAL","1016949"]
[{"$f":"CONCATENATE(B62528,\",\",C62528)","v":"906421,89416"},906421,89416,"FORMAAL","1016950"]
[{"$f":"CONCATENATE(B62529,\",\",C62529)","v":"906421,89417"},906421,89417,"FORMAAL","1016951"]
[{"$f":"CONCATENATE(B62530,\",\",C62530)","v":"906421,89418"},906421,89418,"FORMAAL","1016952"]
[{"$f":"CONCATENATE(B62531,\",\",C62531)","v":"906421,89419"},906421,89419,"FORMAAL","1016953"]
[{"$f":"CONCATENATE(B62532,\",\",C62532)","v":"906421,89420"},906421,89420,"FORMAAL","1016954"]
[{"$f":"CONCATENATE(B62533,\",\",C62533)","v":"906421,89421"},906421,89421,"FORMAAL","1016955"]
[{"$f":"CONCATENATE(B62534,\",\",C62534)","v":"906421,89422"},906421,89422,"FORMAAL","1016956"]
[{"$f":"CONCATENATE(B62535,\",\",C62535)","v":"906421,89424"},906421,89424,"FORMAAL","1016957"]
[{"$f":"CONCATENATE(B62536,\",\",C62536)","v":"906421,89425"},906421,89425,"FORMAAL","1013810"]
[{"$f":"CONCATENATE(B62537,\",\",C62537)","v":"906421,89426"},906421,89426,"FORMAAL","1013811"]
[{"$f":"CONCATENATE(B62538,\",\",C62538)","v":"906421,89427"},906421,89427,"FORMAAL","1013812"]
[{"$f":"CONCATENATE(B62539,\",\",C62539)","v":"906421,89428"},906421,89428,"FORMAAL","1013813"]
[{"$f":"CONCATENATE(B62540,\",\",C62540)","v":"906421,89429"},906421,89429,"FORMAAL","1013814"]
[{"$f":"CONCATENATE(B62541,\",\",C62541)","v":"906421,89430"},906421,89430,"FORMAAL","1016959"]
[{"$f":"CONCATENATE(B62542,\",\",C62542)","v":"906421,89431"},906421,89431,"FORMAAL","1016960"]
[{"$f":"CONCATENATE(B62543,\",\",C62543)","v":"906421,89432"},906421,89432,"FORMAAL","1016961"]
[{"$f":"CONCATENATE(B62544,\",\",C62544)","v":"906421,89433"},906421,89433,"FORMAAL","1013815"]
[{"$f":"CONCATENATE(B62545,\",\",C62545)","v":"906421,89434"},906421,89434,"FORMAAL","1013816"]
[{"$f":"CONCATENATE(B62546,\",\",C62546)","v":"906421,89435"},906421,89435,"FORMAAL","1013817"]
[{"$f":"CONCATENATE(B62547,\",\",C62547)","v":"906421,89436"},906421,89436,"FORMAAL","1016963"]
[{"$f":"CONCATENATE(B62548,\",\",C62548)","v":"906421,89437"},906421,89437,"FORMAAL","1016964"]
[{"$f":"CONCATENATE(B62549,\",\",C62549)","v":"906421,89438"},906421,89438,"FORMAAL","1016965"]
[{"$f":"CONCATENATE(B62550,\",\",C62550)","v":"906421,89439"},906421,89439,"FORMAAL","1016966"]
[{"$f":"CONCATENATE(B62551,\",\",C62551)","v":"906421,89440"},906421,89440,"FORMAAL","1016967"]
[{"$f":"CONCATENATE(B62552,\",\",C62552)","v":"906421,89441"},906421,89441,"FORMAAL","1016968"]
[{"$f":"CONCATENATE(B62553,\",\",C62553)","v":"906421,89442"},906421,89442,"FORMAAL","1016969"]
[{"$f":"CONCATENATE(B62554,\",\",C62554)","v":"906421,89443"},906421,89443,"FORMAAL","1016970"]
[{"$f":"CONCATENATE(B62555,\",\",C62555)","v":"906421,89444"},906421,89444,"FORMAAL","1016971"]
[{"$f":"CONCATENATE(B62556,\",\",C62556)","v":"906421,89445"},906421,89445,"FORMAAL","1016972"]
[{"$f":"CONCATENATE(B62557,\",\",C62557)","v":"906421,89446"},906421,89446,"FORMAAL","1016973"]
[{"$f":"CONCATENATE(B62558,\",\",C62558)","v":"906421,89447"},906421,89447,"FORMAAL","1013818"]
[{"$f":"CONCATENATE(B62559,\",\",C62559)","v":"906421,89448"},906421,89448,"FORMAAL","1013819"]
[{"$f":"CONCATENATE(B62560,\",\",C62560)","v":"906421,89449"},906421,89449,"FORMAAL","1016974"]
[{"$f":"CONCATENATE(B62561,\",\",C62561)","v":"906421,89450"},906421,89450,"FORMAAL","1016975"]
[{"$f":"CONCATENATE(B62562,\",\",C62562)","v":"906421,89451"},906421,89451,"FORMAAL","1016976"]
[{"$f":"CONCATENATE(B62563,\",\",C62563)","v":"906421,89452"},906421,89452,"FORMAAL","1016977"]
[{"$f":"CONCATENATE(B62564,\",\",C62564)","v":"906421,89453"},906421,89453,"FORMAAL","1016978"]
[{"$f":"CONCATENATE(B62565,\",\",C62565)","v":"906421,89454"},906421,89454,"FORMAAL","1016979"]
[{"$f":"CONCATENATE(B62566,\",\",C62566)","v":"906421,89455"},906421,89455,"FORMAAL","1016980"]
[{"$f":"CONCATENATE(B62567,\",\",C62567)","v":"906421,89456"},906421,89456,"FORMAAL","1016981"]
[{"$f":"CONCATENATE(B62568,\",\",C62568)","v":"906421,89457"},906421,89457,"FORMAAL","1016982"]
[{"$f":"CONCATENATE(B62569,\",\",C62569)","v":"906421,89458"},906421,89458,"FORMAAL","1013820"]
[{"$f":"CONCATENATE(B62570,\",\",C62570)","v":"906421,89459"},906421,89459,"FORMAAL","1013821"]
[{"$f":"CONCATENATE(B62571,\",\",C62571)","v":"906421,89460"},906421,89460,"FORMAAL","1016983"]
[{"$f":"CONCATENATE(B62572,\",\",C62572)","v":"906421,89461"},906421,89461,"FORMAAL","1016984"]
[{"$f":"CONCATENATE(B62573,\",\",C62573)","v":"906421,89462"},906421,89462,"FORMAAL","1016985"]
[{"$f":"CONCATENATE(B62574,\",\",C62574)","v":"906421,89463"},906421,89463,"FORMAAL","1016986"]
[{"$f":"CONCATENATE(B62575,\",\",C62575)","v":"906421,89464"},906421,89464,"FORMAAL","1016987"]
[{"$f":"CONCATENATE(B62576,\",\",C62576)","v":"906421,89465"},906421,89465,"FORMAAL","1016988"]
[{"$f":"CONCATENATE(B62577,\",\",C62577)","v":"906421,89466"},906421,89466,"FORMAAL","1016989"]
[{"$f":"CONCATENATE(B62578,\",\",C62578)","v":"906421,89467"},906421,89467,"FORMAAL","1016990"]
[{"$f":"CONCATENATE(B62579,\",\",C62579)","v":"906421,89468"},906421,89468,"FORMAAL","1016991"]
[{"$f":"CONCATENATE(B62580,\",\",C62580)","v":"906421,89469"},906421,89469,"FORMAAL","1016992"]
[{"$f":"CONCATENATE(B62581,\",\",C62581)","v":"906421,89470"},906421,89470,"FORMAAL","1013822"]
[{"$f":"CONCATENATE(B62582,\",\",C62582)","v":"906421,89471"},906421,89471,"FORMAAL","1013823"]
[{"$f":"CONCATENATE(B62583,\",\",C62583)","v":"906421,89472"},906421,89472,"FORMAAL","1013824"]
[{"$f":"CONCATENATE(B62584,\",\",C62584)","v":"906421,89473"},906421,89473,"FORMAAL","1013825"]
[{"$f":"CONCATENATE(B62585,\",\",C62585)","v":"906421,89474"},906421,89474,"FORMAAL","1013826"]
[{"$f":"CONCATENATE(B62586,\",\",C62586)","v":"906421,89475"},906421,89475,"FORMAAL","1013827"]
[{"$f":"CONCATENATE(B62587,\",\",C62587)","v":"906421,89476"},906421,89476,"FORMAAL","1013828"]
[{"$f":"CONCATENATE(B62588,\",\",C62588)","v":"906421,89477"},906421,89477,"FORMAAL","1013829"]
[{"$f":"CONCATENATE(B62589,\",\",C62589)","v":"906421,89478"},906421,89478,"FORMAAL","1013830"]
[{"$f":"CONCATENATE(B62590,\",\",C62590)","v":"906421,89479"},906421,89479,"FORMAAL","1016994"]
[{"$f":"CONCATENATE(B62591,\",\",C62591)","v":"906421,89480"},906421,89480,"FORMAAL","1016995"]
[{"$f":"CONCATENATE(B62592,\",\",C62592)","v":"906421,89481"},906421,89481,"FORMAAL","1016996"]
[{"$f":"CONCATENATE(B62593,\",\",C62593)","v":"906421,89482"},906421,89482,"FORMAAL","1013831"]
[{"$f":"CONCATENATE(B62594,\",\",C62594)","v":"906421,89483"},906421,89483,"FORMAAL","1016997"]
[{"$f":"CONCATENATE(B62595,\",\",C62595)","v":"906421,89484"},906421,89484,"FORMAAL","1016998"]
[{"$f":"CONCATENATE(B62596,\",\",C62596)","v":"906421,89485"},906421,89485,"FORMAAL","1016999"]
[{"$f":"CONCATENATE(B62597,\",\",C62597)","v":"906421,89486"},906421,89486,"FORMAAL","1017000"]
[{"$f":"CONCATENATE(B62598,\",\",C62598)","v":"906421,89487"},906421,89487,"FORMAAL","1017001"]
[{"$f":"CONCATENATE(B62599,\",\",C62599)","v":"906421,89488"},906421,89488,"FORMAAL","1017002"]
[{"$f":"CONCATENATE(B62600,\",\",C62600)","v":"907280,82102"},907280,82102,"FORMAAL","1037865"]
[{"$f":"CONCATENATE(B62601,\",\",C62601)","v":"907280,82103"},907280,82103,"FORMAAL","907280,82103,FORM"]
[{"$f":"CONCATENATE(B62602,\",\",C62602)","v":"907280,82104"},907280,82104,"FORMAAL","907280,82104,FORM"]
[{"$f":"CONCATENATE(B62603,\",\",C62603)","v":"907280,82105"},907280,82105,"FORMAAL","907280,82105,FORM"]
[{"$f":"CONCATENATE(B62604,\",\",C62604)","v":"907310,83141"},907310,83141,"FORMAAL","907310,83141,FORM"]
[{"$f":"CONCATENATE(B62605,\",\",C62605)","v":"907326,89710"},907326,89710,"FORMAAL","907326,89710,FORM"]
[{"$f":"CONCATENATE(B62606,\",\",C62606)","v":"908136,89641"},908136,89641,"FORMAAL","908136,89641,FORM"]
[{"$f":"CONCATENATE(B62607,\",\",C62607)","v":"912245,80725"},912245,80725,"FORMAAL","912245,80725,FORM"]
[{"$f":"CONCATENATE(B62608,\",\",C62608)","v":"912245,80898"},912245,80898,"FORMAAL","1014079"]
[{"$f":"CONCATENATE(B62609,\",\",C62609)","v":"912714,80830"},912714,80830,"FORMAAL","912714,80830,FORM"]
[{"$f":"CONCATENATE(B62610,\",\",C62610)","v":"912714,80831"},912714,80831,"FORMAAL","912714,80831,FORM"]
[{"$f":"CONCATENATE(B62611,\",\",C62611)","v":"912714,80832"},912714,80832,"FORMAAL","912714,80832,FORM"]
[{"$f":"CONCATENATE(B62612,\",\",C62612)","v":"912714,80833"},912714,80833,"FORMAAL","912714,80833,FORM"]
[{"$f":"CONCATENATE(B62613,\",\",C62613)","v":"912714,80834"},912714,80834,"FORMAAL","912714,80834,FORM"]
[{"$f":"CONCATENATE(B62614,\",\",C62614)","v":"912714,80835"},912714,80835,"FORMAAL","912714,80835,FORM"]
[{"$f":"CONCATENATE(B62615,\",\",C62615)","v":"912756,82355"},912756,82355,"FORMAAL","1020497"]
[{"$f":"CONCATENATE(B62616,\",\",C62616)","v":"912756,91101"},912756,91101,"FORMAAL","912756,91101,FORM"]
[{"$f":"CONCATENATE(B62617,\",\",C62617)","v":"913089,88126"},913089,88126,"FORMAAL","913089,88126,FORM"]
[{"$f":"CONCATENATE(B62618,\",\",C62618)","v":"913104,88122"},913104,88122,"FORMAAL","913104,88122,FORM"]
[{"$f":"CONCATENATE(B62619,\",\",C62619)","v":"913107,81204"},913107,81204,"FORMAAL","913107,81204,FORM"]
[{"$f":"CONCATENATE(B62620,\",\",C62620)","v":"913107,88122"},913107,88122,"FORMAAL","913107,88122,FORM"]
[{"$f":"CONCATENATE(B62621,\",\",C62621)","v":"913108,88122"},913108,88122,"FORMAAL","913108,88122,FORM"]
[{"$f":"CONCATENATE(B62622,\",\",C62622)","v":"913109,88122"},913109,88122,"FORMAAL","913109,88122,FORM"]
[{"$f":"CONCATENATE(B62623,\",\",C62623)","v":"913129,81209"},913129,81209,"FORMAAL","913129,81209,FORM"]
[{"$f":"CONCATENATE(B62624,\",\",C62624)","v":"913129,88122"},913129,88122,"FORMAAL","913129,88122,FORM"]
[{"$f":"CONCATENATE(B62625,\",\",C62625)","v":"913133,88122"},913133,88122,"FORMAAL","913133,88122,FORM"]
[{"$f":"CONCATENATE(B62626,\",\",C62626)","v":"913134,88122"},913134,88122,"FORMAAL","913134,88122,FORM"]
[{"$f":"CONCATENATE(B62627,\",\",C62627)","v":"913315,88122"},913315,88122,"FORMAAL","913315,88122,FORM"]
[{"$f":"CONCATENATE(B62628,\",\",C62628)","v":"913316,88122"},913316,88122,"FORMAAL","913316,88122,FORM"]
[{"$f":"CONCATENATE(B62629,\",\",C62629)","v":"913316,88125"},913316,88125,"FORMAAL","913316,88125,FORM"]
[{"$f":"CONCATENATE(B62630,\",\",C62630)","v":"914011,88122"},914011,88122,"FORMAAL","914011,88122,FORM"]
[{"$f":"CONCATENATE(B62631,\",\",C62631)","v":"926623,82010"},926623,82010,"FORMAAL","1012157"]
[{"$f":"CONCATENATE(B62632,\",\",C62632)","v":"SK1117,22500"},"SK1117",22500,"FORMAAL","1037585"]
[{"$f":"CONCATENATE(B62633,\",\",C62633)","v":"SK1117,22511"},"SK1117",22511,"FORMAAL","1037586"]
[{"$f":"CONCATENATE(B62634,\",\",C62634)","v":"SK1117,22521"},"SK1117",22521,"FORMAAL","1037587"]
[{"$f":"CONCATENATE(B62635,\",\",C62635)","v":"SK1117,22531"},"SK1117",22531,"FORMAAL","1037588"]
[{"$f":"CONCATENATE(B62636,\",\",C62636)","v":"SK1117,22541"},"SK1117",22541,"FORMAAL","1037589"]
[{"$f":"CONCATENATE(B62637,\",\",C62637)","v":"SK1117,22551"},"SK1117",22551,"FORMAAL","1037590"]
[{"$f":"CONCATENATE(B62638,\",\",C62638)","v":"SK1117,22561"},"SK1117",22561,"FORMAAL","1037591"]
[{"$f":"CONCATENATE(B62639,\",\",C62639)","v":"SK1117,22571"},"SK1117",22571,"FORMAAL","1037592"]
[{"$f":"CONCATENATE(B62640,\",\",C62640)","v":"SK1117,22599"},"SK1117",22599,"FORMAAL","1037593"]
[{"$f":"CONCATENATE(B62641,\",\",C62641)","v":"SK1117,22600"},"SK1117",22600,"FORMAAL","1037594"]
[{"$f":"CONCATENATE(B62642,\",\",C62642)","v":"SK1117,22611"},"SK1117",22611,"FORMAAL","1037595"]
[{"$f":"CONCATENATE(B62643,\",\",C62643)","v":"SK1117,22621"},"SK1117",22621,"FORMAAL","1037596"]
[{"$f":"CONCATENATE(B62644,\",\",C62644)","v":"SK1117,22631"},"SK1117",22631,"FORMAAL","1037597"]
[{"$f":"CONCATENATE(B62645,\",\",C62645)","v":"SK1117,22641"},"SK1117",22641,"FORMAAL","1037598"]
[{"$f":"CONCATENATE(B62646,\",\",C62646)","v":"SK1117,22651"},"SK1117",22651,"FORMAAL","1037599"]
[{"$f":"CONCATENATE(B62647,\",\",C62647)","v":"SK1117,22661"},"SK1117",22661,"FORMAAL","1037600"]
[{"$f":"CONCATENATE(B62648,\",\",C62648)","v":"SK1117,22671"},"SK1117",22671,"FORMAAL","1037601"]
[{"$f":"CONCATENATE(B62649,\",\",C62649)","v":"SK1117,22699"},"SK1117",22699,"FORMAAL","1037602"]
[{"$f":"CONCATENATE(B62650,\",\",C62650)","v":"SK1117,22700"},"SK1117",22700,"FORMAAL","1037603"]
[{"$f":"CONCATENATE(B62651,\",\",C62651)","v":"SK1117,22711"},"SK1117",22711,"FORMAAL","1037604"]
[{"$f":"CONCATENATE(B62652,\",\",C62652)","v":"SK1117,22721"},"SK1117",22721,"FORMAAL","1037605"]
[{"$f":"CONCATENATE(B62653,\",\",C62653)","v":"SK1117,22731"},"SK1117",22731,"FORMAAL","1037606"]
[{"$f":"CONCATENATE(B62654,\",\",C62654)","v":"SK1117,22741"},"SK1117",22741,"FORMAAL","1037607"]
[{"$f":"CONCATENATE(B62655,\",\",C62655)","v":"SK1117,22751"},"SK1117",22751,"FORMAAL","1037608"]
[{"$f":"CONCATENATE(B62656,\",\",C62656)","v":"SK1117,22761"},"SK1117",22761,"FORMAAL","1037609"]
[{"$f":"CONCATENATE(B62657,\",\",C62657)","v":"SK1117,22771"},"SK1117",22771,"FORMAAL","1037610"]
[{"$f":"CONCATENATE(B62658,\",\",C62658)","v":"SK1117,22799"},"SK1117",22799,"FORMAAL","1037611"]
[{"$f":"CONCATENATE(B62659,\",\",C62659)","v":"SK1117,22800"},"SK1117",22800,"FORMAAL","1037612"]
[{"$f":"CONCATENATE(B62660,\",\",C62660)","v":"SK1117,22811"},"SK1117",22811,"FORMAAL","1037613"]
[{"$f":"CONCATENATE(B62661,\",\",C62661)","v":"SK1117,22821"},"SK1117",22821,"FORMAAL","1037614"]
[{"$f":"CONCATENATE(B62662,\",\",C62662)","v":"SK1117,22831"},"SK1117",22831,"FORMAAL","1037615"]
[{"$f":"CONCATENATE(B62663,\",\",C62663)","v":"SK1117,22841"},"SK1117",22841,"FORMAAL","1037616"]
[{"$f":"CONCATENATE(B62664,\",\",C62664)","v":"SK1117,22851"},"SK1117",22851,"FORMAAL","1037617"]
[{"$f":"CONCATENATE(B62665,\",\",C62665)","v":"SK1117,22861"},"SK1117",22861,"FORMAAL","1037618"]
[{"$f":"CONCATENATE(B62666,\",\",C62666)","v":"SK1117,22871"},"SK1117",22871,"FORMAAL","1037619"]
[{"$f":"CONCATENATE(B62667,\",\",C62667)","v":"SK1117,22899"},"SK1117",22899,"FORMAAL","1037620"]
[{"$f":"CONCATENATE(B62668,\",\",C62668)","v":"SK1118,1"},"SK1118",1,"FORMAAL","SK1118,1,FORM"]
[{"$f":"CONCATENATE(B62669,\",\",C62669)","v":"SK1118,10000"},"SK1118",10000,"FORMAAL","SK1118,10000,FORM"]
[{"$f":"CONCATENATE(B62670,\",\",C62670)","v":"SK1118,22100"},"SK1118",22100,"FORMAAL","SK1118,22100,FORM"]
[{"$f":"CONCATENATE(B62671,\",\",C62671)","v":"SK1118,22111"},"SK1118",22111,"FORMAAL","SK1118,22111,FORM"]
[{"$f":"CONCATENATE(B62672,\",\",C62672)","v":"SK1118,22121"},"SK1118",22121,"FORMAAL","SK1118,22121,FORM"]
[{"$f":"CONCATENATE(B62673,\",\",C62673)","v":"SK1118,22131"},"SK1118",22131,"FORMAAL","SK1118,22131,FORM"]
[{"$f":"CONCATENATE(B62674,\",\",C62674)","v":"SK1118,22132"},"SK1118",22132,"FORMAAL","SK1118,22132,FORM"]
[{"$f":"CONCATENATE(B62675,\",\",C62675)","v":"SK1118,22141"},"SK1118",22141,"FORMAAL","SK1118,22141,FORM"]
[{"$f":"CONCATENATE(B62676,\",\",C62676)","v":"SK1118,22151"},"SK1118",22151,"FORMAAL","SK1118,22151,FORM"]
[{"$f":"CONCATENATE(B62677,\",\",C62677)","v":"SK1118,22161"},"SK1118",22161,"FORMAAL","SK1118,22161,FORM"]
[{"$f":"CONCATENATE(B62678,\",\",C62678)","v":"SK1118,22199"},"SK1118",22199,"FORMAAL","SK1118,22199,FORM"]
[{"$f":"CONCATENATE(B62679,\",\",C62679)","v":"SK1118,22200"},"SK1118",22200,"FORMAAL","SK1118,22200,FORM"]
[{"$f":"CONCATENATE(B62680,\",\",C62680)","v":"SK1118,22211"},"SK1118",22211,"FORMAAL","SK1118,22211,FORM"]
[{"$f":"CONCATENATE(B62681,\",\",C62681)","v":"SK1118,22221"},"SK1118",22221,"FORMAAL","SK1118,22221,FORM"]
[{"$f":"CONCATENATE(B62682,\",\",C62682)","v":"SK1118,22231"},"SK1118",22231,"FORMAAL","SK1118,22231,FORM"]
[{"$f":"CONCATENATE(B62683,\",\",C62683)","v":"SK1118,22232"},"SK1118",22232,"FORMAAL","SK1118,22232,FORM"]
[{"$f":"CONCATENATE(B62684,\",\",C62684)","v":"SK1118,22241"},"SK1118",22241,"FORMAAL","SK1118,22241,FORM"]
[{"$f":"CONCATENATE(B62685,\",\",C62685)","v":"SK1118,22251"},"SK1118",22251,"FORMAAL","SK1118,22251,FORM"]
[{"$f":"CONCATENATE(B62686,\",\",C62686)","v":"SK1118,22261"},"SK1118",22261,"FORMAAL","SK1118,22261,FORM"]
[{"$f":"CONCATENATE(B62687,\",\",C62687)","v":"SK1118,22299"},"SK1118",22299,"FORMAAL","SK1118,22299,FORM"]
[{"$f":"CONCATENATE(B62688,\",\",C62688)","v":"SK1118,22300"},"SK1118",22300,"FORMAAL","SK1118,22300,FORM"]
[{"$f":"CONCATENATE(B62689,\",\",C62689)","v":"SK1118,22311"},"SK1118",22311,"FORMAAL","SK1118,22311,FORMAAL"]
[{"$f":"CONCATENATE(B62690,\",\",C62690)","v":"SK1118,22321"},"SK1118",22321,"FORMAAL","SK1118,22321,FORMAAL"]
[{"$f":"CONCATENATE(B62691,\",\",C62691)","v":"SK1118,22331"},"SK1118",22331,"FORMAAL","SK1118,22331,FORMAAL"]
[{"$f":"CONCATENATE(B62692,\",\",C62692)","v":"SK1118,22332"},"SK1118",22332,"FORMAAL","SK1118,22332,FORMAAL"]
[{"$f":"CONCATENATE(B62693,\",\",C62693)","v":"SK1118,22341"},"SK1118",22341,"FORMAAL","SK1118,22341,FORMAAL"]
[{"$f":"CONCATENATE(B62694,\",\",C62694)","v":"SK1118,22351"},"SK1118",22351,"FORMAAL","SK1118,22351,FORMAAL"]
[{"$f":"CONCATENATE(B62695,\",\",C62695)","v":"SK1118,22361"},"SK1118",22361,"FORMAAL","SK1118,22361,FORMAAL"]
[{"$f":"CONCATENATE(B62696,\",\",C62696)","v":"SK1118,22399"},"SK1118",22399,"FORMAAL","SK1118,22399,FORMAAL"]
[{"$f":"CONCATENATE(B62697,\",\",C62697)","v":"SK1118,22400"},"SK1118",22400,"FORMAAL","SK1118,22400,FORMAAL"]
[{"$f":"CONCATENATE(B62698,\",\",C62698)","v":"SK1118,22411"},"SK1118",22411,"FORMAAL","SK1118,22411,FORMAAL"]
[{"$f":"CONCATENATE(B62699,\",\",C62699)","v":"SK1118,22421"},"SK1118",22421,"FORMAAL","SK1118,22421,FORMAAL"]
[{"$f":"CONCATENATE(B62700,\",\",C62700)","v":"SK1118,22431"},"SK1118",22431,"FORMAAL","SK1118,22431,FORMAAL"]
[{"$f":"CONCATENATE(B62701,\",\",C62701)","v":"SK1118,22432"},"SK1118",22432,"FORMAAL","SK1118,22432,FORMAAL"]
[{"$f":"CONCATENATE(B62702,\",\",C62702)","v":"SK1118,22441"},"SK1118",22441,"FORMAAL","SK1118,22441,FORMAAL"]
[{"$f":"CONCATENATE(B62703,\",\",C62703)","v":"SK1118,22451"},"SK1118",22451,"FORMAAL","SK1118,22451,FORMAAL"]
[{"$f":"CONCATENATE(B62704,\",\",C62704)","v":"SK1118,22461"},"SK1118",22461,"FORMAAL","SK1118,22461,FORMAAL"]
[{"$f":"CONCATENATE(B62705,\",\",C62705)","v":"SK1118,22499"},"SK1118",22499,"FORMAAL","SK1118,22499,FORMAAL"]
[{"$f":"CONCATENATE(B62706,\",\",C62706)","v":"SK1118,22500"},"SK1118",22500,"FORMAAL","SK1118,22500,FORMAAL"]
[{"$f":"CONCATENATE(B62707,\",\",C62707)","v":"SK1118,22511"},"SK1118",22511,"FORMAAL","SK1118,22511,FORMAAL"]
[{"$f":"CONCATENATE(B62708,\",\",C62708)","v":"SK1118,22521"},"SK1118",22521,"FORMAAL","SK1118,22521,FORMAAL"]
[{"$f":"CONCATENATE(B62709,\",\",C62709)","v":"SK1118,22531"},"SK1118",22531,"FORMAAL","SK1118,22531,FORMAAL"]
[{"$f":"CONCATENATE(B62710,\",\",C62710)","v":"SK1118,22532"},"SK1118",22532,"FORMAAL","SK1118,22532,FORMAAL"]
[{"$f":"CONCATENATE(B62711,\",\",C62711)","v":"SK1118,22541"},"SK1118",22541,"FORMAAL","SK1118,22541,FORMAAL"]
[{"$f":"CONCATENATE(B62712,\",\",C62712)","v":"SK1118,22551"},"SK1118",22551,"FORMAAL","SK1118,22551,FORMAAL"]
[{"$f":"CONCATENATE(B62713,\",\",C62713)","v":"SK1118,22561"},"SK1118",22561,"FORMAAL","SK1118,22561,FORMAAL"]
[{"$f":"CONCATENATE(B62714,\",\",C62714)","v":"SK1118,22599"},"SK1118",22599,"FORMAAL","SK1118,22599,FORMAAL"]
[{"$f":"CONCATENATE(B62715,\",\",C62715)","v":"SK1118,22600"},"SK1118",22600,"FORMAAL","SK1118,22600,FORMAAL"]
[{"$f":"CONCATENATE(B62716,\",\",C62716)","v":"SK1118,22611"},"SK1118",22611,"FORMAAL","SK1118,22611,FORMAAL"]
[{"$f":"CONCATENATE(B62717,\",\",C62717)","v":"SK1118,22621"},"SK1118",22621,"FORMAAL","SK1118,22621,FORMAAL"]
[{"$f":"CONCATENATE(B62718,\",\",C62718)","v":"SK1118,22631"},"SK1118",22631,"FORMAAL","SK1118,22631,FORMAAL"]
[{"$f":"CONCATENATE(B62719,\",\",C62719)","v":"SK1118,22632"},"SK1118",22632,"FORMAAL","SK1118,22632,FORMAAL"]
[{"$f":"CONCATENATE(B62720,\",\",C62720)","v":"SK1118,22641"},"SK1118",22641,"FORMAAL","SK1118,22641,FORMAAL"]
[{"$f":"CONCATENATE(B62721,\",\",C62721)","v":"SK1118,22651"},"SK1118",22651,"FORMAAL","SK1118,22651,FORMAAL"]
[{"$f":"CONCATENATE(B62722,\",\",C62722)","v":"SK1118,22661"},"SK1118",22661,"FORMAAL","SK1118,22661,FORMAAL"]
[{"$f":"CONCATENATE(B62723,\",\",C62723)","v":"SK1118,22699"},"SK1118",22699,"FORMAAL","SK1118,22699,FORMAAL"]
[{"$f":"CONCATENATE(B62724,\",\",C62724)","v":"SK1118,22700"},"SK1118",22700,"FORMAAL","SK1118,22700,FORMAAL"]
[{"$f":"CONCATENATE(B62725,\",\",C62725)","v":"SK1118,22711"},"SK1118",22711,"FORMAAL","SK1118,22711,FORMAAL"]
[{"$f":"CONCATENATE(B62726,\",\",C62726)","v":"SK1118,22721"},"SK1118",22721,"FORMAAL","SK1118,22721,FORMAAL"]
[{"$f":"CONCATENATE(B62727,\",\",C62727)","v":"SK1118,22731"},"SK1118",22731,"FORMAAL","SK1118,22731,FORMAAL"]
[{"$f":"CONCATENATE(B62728,\",\",C62728)","v":"SK1118,22732"},"SK1118",22732,"FORMAAL","SK1118,22732,FORMAAL"]
[{"$f":"CONCATENATE(B62729,\",\",C62729)","v":"SK1118,22741"},"SK1118",22741,"FORMAAL","SK1118,22741,FORMAAL"]
[{"$f":"CONCATENATE(B62730,\",\",C62730)","v":"SK1118,22751"},"SK1118",22751,"FORMAAL","SK1118,22751,FORMAAL"]
[{"$f":"CONCATENATE(B62731,\",\",C62731)","v":"SK1118,22761"},"SK1118",22761,"FORMAAL","SK1118,22761,FORMAAL"]
[{"$f":"CONCATENATE(B62732,\",\",C62732)","v":"SK1118,22799"},"SK1118",22799,"FORMAAL","SK1118,22799,FORMAAL"]
[{"$f":"CONCATENATE(B62733,\",\",C62733)","v":"SK1118,28101"},"SK1118",28101,"FORMAAL","SK1118,28101,FORMAAL"]
[{"$f":"CONCATENATE(B62734,\",\",C62734)","v":"SK1118,60000"},"SK1118",60000,"FORMAAL","SK1118,60000,FORMAAL"]
[{"$f":"CONCATENATE(B62735,\",\",C62735)","v":"SK1118,61000"},"SK1118",61000,"FORMAAL","SK1118,61000,FORMAAL"]
[{"$f":"CONCATENATE(B62736,\",\",C62736)","v":"SK1118,61101"},"SK1118",61101,"FORMAAL","SK1118,61101,FORMAAL"]
[{"$f":"CONCATENATE(B62737,\",\",C62737)","v":"SK1118,61102"},"SK1118",61102,"FORMAAL","SK1118,61102,FORMAAL"]
[{"$f":"CONCATENATE(B62738,\",\",C62738)","v":"SK1118,61103"},"SK1118",61103,"FORMAAL","SK1118,61103,FORMAAL"]
[{"$f":"CONCATENATE(B62739,\",\",C62739)","v":"SK1118,61104"},"SK1118",61104,"FORMAAL","SK1118,61104,FORMAAL"]
[{"$f":"CONCATENATE(B62740,\",\",C62740)","v":"SK1118,61199"},"SK1118",61199,"FORMAAL","SK1118,61199,FORMAAL"]
[{"$f":"CONCATENATE(B62741,\",\",C62741)","v":"SK1118,61200"},"SK1118",61200,"FORMAAL","SK1118,61200,FORMAAL"]
[{"$f":"CONCATENATE(B62742,\",\",C62742)","v":"SK1118,61201"},"SK1118",61201,"FORMAAL","SK1118,61201,FORMAAL"]
[{"$f":"CONCATENATE(B62743,\",\",C62743)","v":"SK1118,61202"},"SK1118",61202,"FORMAAL","SK1118,61202,FORMAAL"]
[{"$f":"CONCATENATE(B62744,\",\",C62744)","v":"SK1118,61203"},"SK1118",61203,"FORMAAL","SK1118,61203,FORMAAL"]
[{"$f":"CONCATENATE(B62745,\",\",C62745)","v":"SK1118,61204"},"SK1118",61204,"FORMAAL","SK1118,61204,FORMAAL"]
[{"$f":"CONCATENATE(B62746,\",\",C62746)","v":"SK1118,61299"},"SK1118",61299,"FORMAAL","SK1118,61299,FORMAAL"]
[{"$f":"CONCATENATE(B62747,\",\",C62747)","v":"SK1118,61300"},"SK1118",61300,"FORMAAL","SK1118,61300,FORMAAL"]
[{"$f":"CONCATENATE(B62748,\",\",C62748)","v":"SK1118,61301"},"SK1118",61301,"FORMAAL","SK1118,61301,FORMAAL"]
[{"$f":"CONCATENATE(B62749,\",\",C62749)","v":"SK1118,61302"},"SK1118",61302,"FORMAAL","SK1118,61302,FORMAAL"]
[{"$f":"CONCATENATE(B62750,\",\",C62750)","v":"SK1118,61303"},"SK1118",61303,"FORMAAL","SK1118,61303,FORMAAL"]
[{"$f":"CONCATENATE(B62751,\",\",C62751)","v":"SK1118,61304"},"SK1118",61304,"FORMAAL","SK1118,61304,FORMAAL"]
[{"$f":"CONCATENATE(B62752,\",\",C62752)","v":"SK1118,61399"},"SK1118",61399,"FORMAAL","SK1118,61399,FORMAAL"]
[{"$f":"CONCATENATE(B62753,\",\",C62753)","v":"SK1118,61400"},"SK1118",61400,"FORMAAL","SK1118,61400,FORMAAL"]
[{"$f":"CONCATENATE(B62754,\",\",C62754)","v":"SK1118,61401"},"SK1118",61401,"FORMAAL","SK1118,61401,FORMAAL"]
[{"$f":"CONCATENATE(B62755,\",\",C62755)","v":"SK1118,61402"},"SK1118",61402,"FORMAAL","SK1118,61402,FORMAAL"]
[{"$f":"CONCATENATE(B62756,\",\",C62756)","v":"SK1118,61403"},"SK1118",61403,"FORMAAL","SK1118,61403,FORMAAL"]
[{"$f":"CONCATENATE(B62757,\",\",C62757)","v":"SK1118,61404"},"SK1118",61404,"FORMAAL","SK1118,61404,FORMAAL"]
[{"$f":"CONCATENATE(B62758,\",\",C62758)","v":"SK1118,61499"},"SK1118",61499,"FORMAAL","SK1118,61499,FORMAAL"]
[{"$f":"CONCATENATE(B62759,\",\",C62759)","v":"SK1118,61500"},"SK1118",61500,"FORMAAL","SK1118,61500,FORMAAL"]
[{"$f":"CONCATENATE(B62760,\",\",C62760)","v":"SK1118,61501"},"SK1118",61501,"FORMAAL","SK1118,61501,FORMAAL"]
[{"$f":"CONCATENATE(B62761,\",\",C62761)","v":"SK1118,61502"},"SK1118",61502,"FORMAAL","SK1118,61502,FORMAAL"]
[{"$f":"CONCATENATE(B62762,\",\",C62762)","v":"SK1118,61503"},"SK1118",61503,"FORMAAL","SK1118,61503,FORMAAL"]
[{"$f":"CONCATENATE(B62763,\",\",C62763)","v":"SK1118,61504"},"SK1118",61504,"FORMAAL","SK1118,61504,FORMAAL"]
[{"$f":"CONCATENATE(B62764,\",\",C62764)","v":"SK1118,61599"},"SK1118",61599,"FORMAAL","SK1118,61599,FORMAAL"]
[{"$f":"CONCATENATE(B62765,\",\",C62765)","v":"SK1118,61600"},"SK1118",61600,"FORMAAL","SK1118,61600,FORMAAL"]
[{"$f":"CONCATENATE(B62766,\",\",C62766)","v":"SK1118,61601"},"SK1118",61601,"FORMAAL","SK1118,61601,FORMAAL"]
[{"$f":"CONCATENATE(B62767,\",\",C62767)","v":"SK1118,61602"},"SK1118",61602,"FORMAAL","SK1118,61602,FORMAAL"]
[{"$f":"CONCATENATE(B62768,\",\",C62768)","v":"SK1118,61603"},"SK1118",61603,"FORMAAL","SK1118,61603,FORMAAL"]
[{"$f":"CONCATENATE(B62769,\",\",C62769)","v":"SK1118,61604"},"SK1118",61604,"FORMAAL","SK1118,61604,FORMAAL"]
[{"$f":"CONCATENATE(B62770,\",\",C62770)","v":"SK1118,61699"},"SK1118",61699,"FORMAAL","SK1118,61699,FORMAAL"]
[{"$f":"CONCATENATE(B62771,\",\",C62771)","v":"SK1118,61700"},"SK1118",61700,"FORMAAL","SK1118,61700,FORMAAL"]
[{"$f":"CONCATENATE(B62772,\",\",C62772)","v":"SK1118,61701"},"SK1118",61701,"FORMAAL","SK1118,61701,FORMAAL"]
[{"$f":"CONCATENATE(B62773,\",\",C62773)","v":"SK1118,61702"},"SK1118",61702,"FORMAAL","SK1118,61702,FORMAAL"]
[{"$f":"CONCATENATE(B62774,\",\",C62774)","v":"SK1118,61703"},"SK1118",61703,"FORMAAL","SK1118,61703,FORMAAL"]
[{"$f":"CONCATENATE(B62775,\",\",C62775)","v":"SK1118,61704"},"SK1118",61704,"FORMAAL","SK1118,61704,FORMAAL"]
[{"$f":"CONCATENATE(B62776,\",\",C62776)","v":"SK1118,61799"},"SK1118",61799,"FORMAAL","SK1118,61799,FORMAAL"]
[{"$f":"CONCATENATE(B62777,\",\",C62777)","v":"SK1118,69999"},"SK1118",69999,"FORMAAL","SK1118,69999,FORMAAL"]
[{"$f":"CONCATENATE(B62778,\",\",C62778)","v":"SK1118,77777"},"SK1118",77777,"FORMAAL","SK1118,77777,FORMAAL"]
[{"$f":"CONCATENATE(B62779,\",\",C62779)","v":"SK1118,89999"},"SK1118",89999,"FORMAAL","SK1118,89999,FORMAAL"]
[{"$f":"CONCATENATE(B62780,\",\",C62780)","v":"SK1118,95777"},"SK1118",95777,"FORMAAL","SK1118,95777,FORMAAL"]
[{"$f":"CONCATENATE(B62781,\",\",C62781)","v":"SK1118,99999"},"SK1118",99999,"FORMAAL","SK1118,99999,FORMAAL"]
[{"$f":"CONCATENATE(B62782,\",\",C62782)","v":"SK1119,1"},"SK1119",1,"FORMAAL","sk1119,1,FORM"]
[{"$f":"CONCATENATE(B62783,\",\",C62783)","v":"SK1119,21000"},"SK1119",21000,"FORMAAL","sk1119,21000,FORM"]
[{"$f":"CONCATENATE(B62784,\",\",C62784)","v":"SK1119,21101"},"SK1119",21101,"FORMAAL","sk1119,21101,FORM"]
[{"$f":"CONCATENATE(B62785,\",\",C62785)","v":"SK1119,21201"},"SK1119",21201,"FORMAAL","sk1119,21201,FORM"]
[{"$f":"CONCATENATE(B62786,\",\",C62786)","v":"SK1119,21301"},"SK1119",21301,"FORMAAL","sk1119,21301,FORM"]
[{"$f":"CONCATENATE(B62787,\",\",C62787)","v":"SK1119,21401"},"SK1119",21401,"FORMAAL","sk1119,21401,FORM"]
[{"$f":"CONCATENATE(B62788,\",\",C62788)","v":"SK1119,21501"},"SK1119",21501,"FORMAAL","sk1119,21501,FORM"]
[{"$f":"CONCATENATE(B62789,\",\",C62789)","v":"SK1119,21999"},"SK1119",21999,"FORMAAL","sk1119,21999,FORM"]
[{"$f":"CONCATENATE(B62790,\",\",C62790)","v":"SK1119,25000"},"SK1119",25000,"FORMAAL","sk1119,25000,FORM"]
[{"$f":"CONCATENATE(B62791,\",\",C62791)","v":"SK1119,25101"},"SK1119",25101,"FORMAAL","sk1119,25101,FORM"]
[{"$f":"CONCATENATE(B62792,\",\",C62792)","v":"SK1119,25999"},"SK1119",25999,"FORMAAL","sk1119,25999,FORM"]
[{"$f":"CONCATENATE(B62793,\",\",C62793)","v":"SK1119,26000"},"SK1119",26000,"FORMAAL","sk1119,26000,FORM"]
[{"$f":"CONCATENATE(B62794,\",\",C62794)","v":"SK1119,26101"},"SK1119",26101,"FORMAAL","sk1119,26101,FORM"]
[{"$f":"CONCATENATE(B62795,\",\",C62795)","v":"SK1119,26102"},"SK1119",26102,"FORMAAL","sk1119,26102,FORM"]
[{"$f":"CONCATENATE(B62796,\",\",C62796)","v":"SK1119,26103"},"SK1119",26103,"FORMAAL","sk1119,26103,FORM"]
[{"$f":"CONCATENATE(B62797,\",\",C62797)","v":"SK1119,26999"},"SK1119",26999,"FORMAAL","sk1119,26999,FORM"]
[{"$f":"CONCATENATE(B62798,\",\",C62798)","v":"SK1119,27000"},"SK1119",27000,"FORMAAL","sk1119,27000,FORM"]
[{"$f":"CONCATENATE(B62799,\",\",C62799)","v":"SK1119,27102"},"SK1119",27102,"FORMAAL","sk1119,27102,FORM"]
[{"$f":"CONCATENATE(B62800,\",\",C62800)","v":"SK1119,27103"},"SK1119",27103,"FORMAAL","sk1119,27103,FORM"]
[{"$f":"CONCATENATE(B62801,\",\",C62801)","v":"SK1119,27999"},"SK1119",27999,"FORMAAL","sk1119,27999,FORM"]
[{"$f":"CONCATENATE(B62802,\",\",C62802)","v":"SK1119,60000"},"SK1119",60000,"FORMAAL","sk1119,60000,FORM"]
[{"$f":"CONCATENATE(B62803,\",\",C62803)","v":"SK1119,69911"},"SK1119",69911,"FORMAAL","sk1119,69911,FORM"]
[{"$f":"CONCATENATE(B62804,\",\",C62804)","v":"SK1119,69921"},"SK1119",69921,"FORMAAL","sk1119,69921,FORM"]
[{"$f":"CONCATENATE(B62805,\",\",C62805)","v":"SK1119,69931"},"SK1119",69931,"FORMAAL","sk1119,69931,FORM"]
[{"$f":"CONCATENATE(B62806,\",\",C62806)","v":"SK1119,69997"},"SK1119",69997,"FORMAAL","sk1119,69997,FORM"]
[{"$f":"CONCATENATE(B62807,\",\",C62807)","v":"SK1119,69998"},"SK1119",69998,"FORMAAL","sk1119,69998,FORM"]
[{"$f":"CONCATENATE(B62808,\",\",C62808)","v":"SK1119,70000"},"SK1119",70000,"FORMAAL","sk1119,70000,FORM"]
[{"$f":"CONCATENATE(B62809,\",\",C62809)","v":"SK1119,77777"},"SK1119",77777,"FORMAAL","sk1119,77777,FORM"]
[{"$f":"CONCATENATE(B62810,\",\",C62810)","v":"SK1119,79999"},"SK1119",79999,"FORMAAL","sk1119,79999,FORM"]
[{"$f":"CONCATENATE(B62811,\",\",C62811)","v":"SK1119,90000"},"SK1119",90000,"FORMAAL","sk1119,90000,FORM"]
[{"$f":"CONCATENATE(B62812,\",\",C62812)","v":"SK1119,95000"},"SK1119",95000,"FORMAAL","sk1119,95000,FORM"]
[{"$f":"CONCATENATE(B62813,\",\",C62813)","v":"SK1119,95777"},"SK1119",95777,"FORMAAL","sk1119,95777,FORM"]
[{"$f":"CONCATENATE(B62814,\",\",C62814)","v":"SK1119,95999"},"SK1119",95999,"FORMAAL","sk1119,95999,FORM"]
[{"$f":"CONCATENATE(B62815,\",\",C62815)","v":"SK1119,98999"},"SK1119",98999,"FORMAAL","sk1119,98999,FORM"]
[{"$f":"CONCATENATE(B62816,\",\",C62816)","v":"SK1119,99999"},"SK1119",99999,"FORMAAL","sk1119,99999,FORM"]
[{"$f":"CONCATENATE(B62817,\",\",C62817)","v":"SK1120,1"},"SK1120",1,"FORMAAL","sk1120,1,FORM"]
[{"$f":"CONCATENATE(B62818,\",\",C62818)","v":"SK1120,10000"},"SK1120",10000,"FORMAAL","sk1120,10000,FORM"]
[{"$f":"CONCATENATE(B62819,\",\",C62819)","v":"SK1120,20000"},"SK1120",20000,"FORMAAL","sk1120,20000,FORM"]
[{"$f":"CONCATENATE(B62820,\",\",C62820)","v":"SK1120,21001"},"SK1120",21001,"FORMAAL","sk1120,21001,FORM"]
[{"$f":"CONCATENATE(B62821,\",\",C62821)","v":"SK1120,22001"},"SK1120",22001,"FORMAAL","sk1120,22001,FORM"]
[{"$f":"CONCATENATE(B62822,\",\",C62822)","v":"SK1120,23001"},"SK1120",23001,"FORMAAL","sk1120,23001,FORM"]
[{"$f":"CONCATENATE(B62823,\",\",C62823)","v":"SK1120,24001"},"SK1120",24001,"FORMAAL","sk1120,24001,FORM"]
[{"$f":"CONCATENATE(B62824,\",\",C62824)","v":"SK1120,25001"},"SK1120",25001,"FORMAAL","sk1120,25001,FORM"]
[{"$f":"CONCATENATE(B62825,\",\",C62825)","v":"SK1120,26001"},"SK1120",26001,"FORMAAL","sk1120,26001,FORM"]
[{"$f":"CONCATENATE(B62826,\",\",C62826)","v":"SK1120,27001"},"SK1120",27001,"FORMAAL","sk1120,27001,FORM"]
[{"$f":"CONCATENATE(B62827,\",\",C62827)","v":"SK1120,28001"},"SK1120",28001,"FORMAAL","sk1120,28001,FORM"]
[{"$f":"CONCATENATE(B62828,\",\",C62828)","v":"SK1120,29999"},"SK1120",29999,"FORMAAL","sk1120,29999,FORM"]
[{"$f":"CONCATENATE(B62829,\",\",C62829)","v":"SK1120,70000"},"SK1120",70000,"FORMAAL","sk1120,70000,FORM"]
[{"$f":"CONCATENATE(B62830,\",\",C62830)","v":"SK1120,77777"},"SK1120",77777,"FORMAAL","sk1120,77777,FORM"]
[{"$f":"CONCATENATE(B62831,\",\",C62831)","v":"SK1120,78999"},"SK1120",78999,"FORMAAL","sk1120,78999,FORM"]
[{"$f":"CONCATENATE(B62832,\",\",C62832)","v":"SK1120,89999"},"SK1120",89999,"FORMAAL","sk1120,89999,FORM"]
[{"$f":"CONCATENATE(B62833,\",\",C62833)","v":"SK1120,95000"},"SK1120",95000,"FORMAAL","sk1120,95000,FORM"]
[{"$f":"CONCATENATE(B62834,\",\",C62834)","v":"SK1120,95777"},"SK1120",95777,"FORMAAL","sk1120,95777,FORM"]
[{"$f":"CONCATENATE(B62835,\",\",C62835)","v":"SK1120,95999"},"SK1120",95999,"FORMAAL","sk1120,95999,FORM"]
[{"$f":"CONCATENATE(B62836,\",\",C62836)","v":"SK1120,99999"},"SK1120",99999,"FORMAAL","sk1120,99999,FORM"]

{"sheet":"Godkendelse","index":4,"n_rows":2,"n_cols":5,"rows_kept":2,"cut":false,"hidden":true,"merged":[]}
["1. Godkender","1. Godkendelsesdato","2. Godkender","2. Godkendelsesdato","Slutrække"]
["au81647 A","2022-06-03","au81647 B","2022-06-03",2]

{"sheet":"Liste","index":5,"n_rows":9,"n_cols":11,"rows_kept":9,"cut":false,"hidden":true,"merged":[]}
["Nr.","Formål",null,"Delregnskab nr.","Beskrivelse",null,"Sagsopgavetype",null,null,null,"SagsOpgavelinjeNr 77777 eller 91777"]
[1,"1. Uddannelse",null,1,"Orinær virksomhed",null,"Konto",null,null,null,"2. Forskning og udvikling"]
[2,"2. Forskning og udvikling",null,2,"Indtægtsdækket virksdomhed",null,"Til-sum"]
[3,"3. Formidling og vdensudveksling",null,3,"Retsmedicin",null,"Fra-sum"]
[4,"4. Myndighedsbetjening, rådgivning og øvrige ydelser",null,4,"Forsknings aktiviteter"]
[5,"5. Kostafdeling og kollegier",null,5,"Forskningsrelaterede aktiviteter"]
[6,"6. Generelle fælles omkostninger",null,6,"Uddannelsesforskning"]
[7,"7. Bygninger",null,9,"Grøndlandsbeskattede"]
[8,"8. Samproduktion"]